BEGIN:VCALENDAR
VERSION:2.0
PRODID:-//Morsø Erhvervsråd - ECPv6.15.14//NONSGML v1.0//EN
CALSCALE:GREGORIAN
METHOD:PUBLISH
X-ORIGINAL-URL:https://mer.dk
X-WR-CALDESC:Begivenheder for Morsø Erhvervsråd
REFRESH-INTERVAL;VALUE=DURATION:PT1H
X-Robots-Tag:noindex
X-PUBLISHED-TTL:PT1H
BEGIN:VTIMEZONE
TZID:Europe/Copenhagen
BEGIN:DAYLIGHT
TZOFFSETFROM:+0100
TZOFFSETTO:+0200
TZNAME:CEST
DTSTART:20250330T010000
END:DAYLIGHT
BEGIN:STANDARD
TZOFFSETFROM:+0200
TZOFFSETTO:+0100
TZNAME:CET
DTSTART:20251026T010000
END:STANDARD
BEGIN:DAYLIGHT
TZOFFSETFROM:+0100
TZOFFSETTO:+0200
TZNAME:CEST
DTSTART:20260329T010000
END:DAYLIGHT
BEGIN:STANDARD
TZOFFSETFROM:+0200
TZOFFSETTO:+0100
TZNAME:CET
DTSTART:20261025T010000
END:STANDARD
BEGIN:DAYLIGHT
TZOFFSETFROM:+0100
TZOFFSETTO:+0200
TZNAME:CEST
DTSTART:20270328T010000
END:DAYLIGHT
BEGIN:STANDARD
TZOFFSETFROM:+0200
TZOFFSETTO:+0100
TZNAME:CET
DTSTART:20271031T010000
END:STANDARD
END:VTIMEZONE
BEGIN:VEVENT
DTSTART;TZID=Europe/Copenhagen:20260429T090000
DTEND;TZID=Europe/Copenhagen:20260430T150000
DTSTAMP:20260425T212251
CREATED:20251125T105441Z
LAST-MODIFIED:20260121T101528Z
UID:10000292-1777453200-1777561200@mer.dk
SUMMARY:Lav din egen hjemmeside med WordPress
DESCRIPTION:Vi har indgået et samarbejde med Maibritt Rittermann fra RITTERMANN\, som kommer her i huset og laver 5 forskellige kurser – alle relateret til din hjemmeside. Kurserne udbydes til en yderst favorabel pris og booker du min. 3 af hendes kurser på én gang\, så får du yderligere 10% rabat oveni. \n  \nLær at lave et optimeret webdesign til din WordPress side uden tunge builder-systemer\nPraktisk \nKurset kører over 2 dage – begge kl. 9-15 inkl. forplejning. Kurset afholdes hos Morsø Erhvervsråd\, Holgersgade 1\, Nykøbing Mors. Prisen er 3.600 kr. ex. moms. \nBeskrivelse \nVil du gerne have en hjemmeside i professionel kvalitet\, som du selv har fuld kontrol over –uden at skulle hyre en dyr web-udvikler? Så er dette hands-on WordPress kursus som skabt til dig. Du er måske soloselvstændig\, iværksætter\, driver en lille virksomhed eller en forening og vil gerne lære at bygge din egen hjemmeside og have friheden til at opdatere og vedligeholde den når som helst du ønsker. \nLow tech hjemmeside uden kodning – alle kan være med\nKurset foregår på et niveau hvor alle\, der kan betjene en PC med for eksempel Word\, kan være med. Vi undgår techno-blabl og snakker i stedet i et sprog som alle kan forstå. Så forudgående evner for webudvikling er slet ikke nødvendige. Jeg guider sikkert igennem alt hvad du skal bruge for at bygge din hjemmeside op i professionel kvalitet på de to dage kurset varer. \nUndgå dyre bindinger og skjulte fælder hos webbureauer\nNår du vælger at bygge og vedligeholde din egen hjemmeside med WordPress\, opnår du fuld kontrol – både over designet\, funktionerne og de løbende omkostninger. I modsætning til hvad en lang række virksomheder desværre har erfaret\, de var blevet ringet op af en dygtig sælger og har indgået aftaler med visse webbureauer der har medført lange og meget dyre bindinger\, hvor man risikerer at sidde fast i kontrakter i flere år og betale store beløb for hjemmesider\, der reelt kunne laves langt billigere og i en bedre kvalitet. Ret ofte nævnes bindingsperioder på op til 7 år og utilfredsstillende leverancer. En kunde fortæller blandt andet om en flerårig binding og mangelfulde resultater – og at exit fra kontrakten kun var mulig mod betaling af over 100.000 kr.\, uden gennemsigtighed i bureauets arbejde. Flere advokater har beskrevet disse aftaler som ekstremt vanskelige at annullere\, hvilket kan føre til tab af både penge og tillid til leverandøren. \nSådan en situation ønsker jeg ikke for nogen og derfor giver dette kursus dig frihed til at styre din egen hjemmeside\, undgå juridiske fælder og nogen form for bindinger og sparer dig for unødvendige udgifter til dyre bureauer. \nDu bør altid tjekke f.eks. TrustPilot inden du vælger at indgå en kontrakt eller investere større beløb hos en virksomhed. Brug din investering på at lære selv\, så du står stærkt og undgår de typiske faldgruber. \nHvorfor vælge WordPress? \nEfter mange år med titler er det stadig den mest populære platform til hjemmesider og\nwebshops – og med god grund:\n Du får fuld kontrol og ejerskab over din hjemmeside\n Du kan holde omkostningerne nede\n Du får adgang til tusindvis af gratis temaer og plugins\n Du kan skalere og tilpasse din side\, som din forretning vokser\n Den har en markedsandel på mere end 60% i forhold til andre platforme. \nHvad lærer du på kurset? \nDu får praktisk viden og trinvise instruktioner\, så du kan bygge en webside\, der matcher dine behov – uden at kunne kode.\nVi gennemgår bl.a.:\n Opsætning af WordPress\n Gennemgang af kontrolpanelet og brugerroller\n Oprettelse og vedligeholdelse af indhold\n Brug af billeder og medier på din siden\n Tilpasning med plugins – fx kontaktformularer og grundlæggende SEO\n Opsætning og tilpasning af tema og design\n Enkle designprincipper og tips til et professionelt udtryk \nOBS. Avanceret design og specialtilpasning dækkes i et separat kursus – her fokuserer vi på det grundlæggende\, så du kommer godt i gang. \nHvad får du med fra dette WordPress kursus? \n En funktionel og flot hjemmeside\, du selv har bygget\n Du kan vælge at migrere dit website til dit eget domæne og webhotel\n Selvtillid og kompetencer til at videreudvikle din side\n Styr på de vigtigste værktøjer og funktioner i WordPress\n Spar penge ved at undgå webbureauer. \nSå vil du gerne selv lære hvordan du forholdsvist hurtigt kan lave et website i professionel kvalitet tilpasset dit behov\, selvom du ikke har forudgående evner som webudvikler eller designer? Så meld dig til i dag. \nOfte stillede spørgsmål: \nHvad hvis jeg aldrig har prøvet WordPress?\n Vi starter helt fra starten og gennemgår alle de nødvendige funktioner\, så du bliver\nklædt godt på selvom det er helt nyt for dig. \nKan jeg få hjælp efter kurset?\n Som en del af kurset bliver du inviteret ind i et community\, hvor du altid kan stilles\nspørgsmål og få svar også efter at kurset er overstået. \nJeg er ikke særlig teknisk\, kan jeg stadig følge med?\n Hvis du har nogenlunde erfaring med at bruge en PC og måske Word og OƯice pakken\,\nså er du ret godt klædt på til at være med her på kurset\, jeg gennemgår alt det der er\nnødvendigt for at få din hjemmeside klar i et sprog som du forstår. \nKan jeg selv vedligeholde min hjemmeside efter kurset?\n Absolut. Du lærer at opdatere indhold\, tilføje billeder og bruge plugins\, så du kan holde\ndin side levende og relevant. \n 
URL:https://mer.dk/event/lav-din-egen-hjemmeside-med-wordpress/
LOCATION:Morsø Erhvervsråd\, Holgersgade 1\, Nykøbing M\, 7900\, Danmark
CATEGORIES:Værktøjskursus
ATTACH;FMTTYPE=image/png:https://mer.dk/wp-content/uploads/2025/11/Rittermann-kursus-pakke.png
ORGANIZER;CN="Mors%C3%B8 Erhvervsr%C3%A5d":MAILTO:post@mer.dk
END:VEVENT
BEGIN:VEVENT
DTSTART;TZID=Europe/Copenhagen:20260520T090000
DTEND;TZID=Europe/Copenhagen:20260521T150000
DTSTAMP:20260425T212251
CREATED:20251126T115757Z
LAST-MODIFIED:20260121T101349Z
UID:10000296-1779267600-1779375600@mer.dk
SUMMARY:Lær at SEO optimere din hjemmeside
DESCRIPTION:Vi har indgået et samarbejde med Maibritt Rittermann fra RITTERMANN\, som kommer her i huset og laver 5 forskellige kurser – alle relateret til din hjemmeside. Kurserne udbydes til en yderst favorabel pris og booker du min. 3 af hendes kurser på én gang\, så får du yderligere 10% rabat oveni. \n  \nFå din WordPress side til at rykke op i søgeresultaterne med dette SEO kursus\nPraktisk \nKurset kører over 2 dage – begge kl. 9-15 inkl. forplejning. Kurset afholdes hos Morsø Erhvervsråd\, Holgersgade 1\, Nykøbing Mors. Prisen er 3.600 kr. ex. moms. \nBeskrivelse \nHar du allerede en hjemmeside – fx i WordPress\, Wix\, Shopify eller et andet CMS – men oplever\, at den ikke dukker op i søgeresultaterne? Så er dette SEO kursus i praktisk Søgemaskine optimerings lige noget for dig! \nMangler du en hjemmeside kan du lære at lave en på kurset – Lav din egen hjemmeside med WordPress. \nHvad er SEO – og hvorfor er det vigtigt? \nSøgemaskineoptimering (SEO) handler om at gøre din hjemmeside synlig på Google\, Bing og øvrige søgemaskiner\, så dine kunder kan finde dig\, når de søger efter dine produkter eller ydelser. Uden søgemaskine optimering risikerer du at være usynlig – selv om du har en flot og\nfunktionel hjemmeside. Google har udgivet retningslinjer for hvad god SEO er og hvad der skal til for at de vil rangere sider i deres søgeresultater. Det er blandt andet disse retningslinjer vi tager udgangspunkt i på kurset.\nPå dette kursus lærer du\, hvordan du optimerer din hjemmeside\, så den får bedre placeringer i Google og andre søgemaskiner – uanset hvilket CMS du bruger\, men vi tager på kurset udgangspunkt i WordPress som eksempel. \nPå SEO kurset gennemgår vi blandt andet følgende: \n Hvordan søgemaskiner som Google fungerer\n Hvordan du identificerer de rigtige søgeord for din målgruppe\n Hvordan du optimerer dit indhold til både brugere og søgemaskiner\n Forslag til SEO fremmende plugins til WordPress – Andre CMS har i mange tilfælde tilsvarende plugins\n Introduktion til hjælpsomme værktøjer som Google Search Console\n Hvordan du måler og forbedrer din synlighed over tid \nKurset er hands-on og kræver ikke teknisk baggrund – du får konkrete værktøjer og metoder\, du kan bruge med det samme. \nDette SEO kursus er for dig\, der: \n Er soloselvstændig\, iværksætter\, webansvarlig i en forening eller driver en webshop mv.\n Har en hjemmeside\, men mangler synlighed på Google\n Vil lære SEO fra bunden – uden for meget teknisk jargon\n Ønsker at tiltrække flere kunder online \nEfter kurset kan du: \n Forstå og anvende søgeordsstrategi\n Optimere din hjemmeside\, så den rangerer højere i søgeresultaterne\n Bruge gratis og effektive søgemaskine optimerings-værktøjer\n Skabe indhold\, der både engagerer og konverterer \n 
URL:https://mer.dk/event/laer-at-seo-optimere-din-hjemmeside/
LOCATION:Morsø Erhvervsråd\, Holgersgade 1\, Nykøbing M\, 7900\, Danmark
CATEGORIES:Værktøjskursus
ATTACH;FMTTYPE=image/png:https://mer.dk/wp-content/uploads/2025/11/Rittermann-kursus-pakke.png
ORGANIZER;CN="Mors%C3%B8 Erhvervsr%C3%A5d":MAILTO:post@mer.dk
END:VEVENT
BEGIN:VEVENT
DTSTART;TZID=Europe/Copenhagen:20260528T090000
DTEND;TZID=Europe/Copenhagen:20260528T150000
DTSTAMP:20260425T212251
CREATED:20251125T110912Z
LAST-MODIFIED:20260121T101212Z
UID:10000293-1779958800-1779980400@mer.dk
SUMMARY:Lær at lave et optimeret webdesign til Wordpress (FSE)
DESCRIPTION:Vi har indgået et samarbejde med Maibritt Rittermann fra RITTERMANN\, som kommer her i huset og laver 5 forskellige kurser – alle relateret til din hjemmeside. Kurserne udbydes til en yderst favorabel pris og booker du min. 3 af hendes kurser på én gang\, så får du yderligere 10% rabat oveni. \n  \nLær at lave et optimeret webdesign til din WordPress side uden tunge builder-systemer\nPraktisk \nKurset kører kl. 9-15 inkl. forplejning. Kurset afholdes hos Morsø Erhvervsråd\, Holgersgade 1\, Nykøbing Mors. Prisen er 1.800 kr. ex. moms. \nBeskrivelse\nHar du allerede en WordPress-hjemmeside\, men ønsker et hurtigt\, moderne og optimeret design\, som du selv kan tilpasse? Så er dette dagskursus i Full Site Editing (FSE) noget for dig! \nHvad er Full Site Editing webdesign? \nFull Site Editing (FSE) er den nyeste måde at bygge og tilpasse WordPress-temaer på – direkte i editoren\, uden behov for kodning. Du får fuld kontrol over layout\, farver\, fonte og skabeloner\, og kan skabe et design\, der matcher din virksomheds identitet og mål. \nMed FSE kan du: \n Tilpasse hele din hjemmeside – ikke kun indholdet\n Skabe et hurtigt og SEO-venligt tema\n Undgå tunge page builders og langsomme plugins\n Arbejde mere intuitivt og eƯektivt med design \nHvad lærer du på webdesign kurset? \nDu får hands-on undervisning og inspiration til at skabe et professionelt og optimeret webdesign med FSE-temaer.\nVi gennemgår bl.a.:\n Designstandarder og konventioner\n Arbejde med stilarter\, fonte og farver\n Opsætning og tilpasning af skabeloner og blokke\n Tilpasning af navigation og menuer\n Udvalgte plugins til specialeƯekter – uden at gøre siden langsom\n Hvordan du laver specialtilpasninger\, der matcher din branding \nKurset kræver\, at du har en eksisterende WordPress-side – men du behøver ikke være teknisk ekspert. \nDette kursus er for dig\, der: \n Er soloselvstændig\, iværksætter\, freelancer eller tilsvarende\n Har en WordPress-side og vil forbedre design og hastighed\n Ønsker at lære moderne WordPress design uden kodning\n Vil skabe en hjemmeside\, der skiller sig ud og konverterer \nEfter kurset kan du:\n Tilpasse dit WordPress-tema med FullSiteEditing(FSE)\n Skabe et hurtigt og mobilvenligt design\n Integrere plugins uden at gå på kompromis med performance\n Forstå designprincipper\, der styrker din online tilstedeværelse \n 
URL:https://mer.dk/event/laer-at-lave-et-optimeret-webdesign-til-wordpress-fse/
LOCATION:Morsø Erhvervsråd\, Holgersgade 1\, Nykøbing M\, 7900\, Danmark
CATEGORIES:Værktøjskursus
ATTACH;FMTTYPE=image/png:https://mer.dk/wp-content/uploads/2025/11/Rittermann-kursus-pakke.png
ORGANIZER;CN="Mors%C3%B8 Erhvervsr%C3%A5d":MAILTO:post@mer.dk
END:VEVENT
BEGIN:VEVENT
DTSTART;TZID=Europe/Copenhagen:20260602T090000
DTEND;TZID=Europe/Copenhagen:20260602T150000
DTSTAMP:20260425T212251
CREATED:20251126T122934Z
LAST-MODIFIED:20260121T101112Z
UID:10000298-1780390800-1780412400@mer.dk
SUMMARY:Optimer din online forretning med analyse (Analytics)
DESCRIPTION:Vi har indgået et samarbejde med Maibritt Rittermann fra RITTERMANN\, som kommer her i huset og laver 5 forskellige kurser – alle relateret til din hjemmeside. Kurserne udbydes til en yderst favorabel pris og booker du min. 3 af hendes kurser på én gang\, så får du yderligere 10% rabat oveni. \n  \nBliv klogere på dine besøgende og fin målgruppe. Lær at forstå tallene bag hjemmesiden og hvor du skal sætte ind for at blive endnu bedre.\nPraktisk \nKurset kører kl. 9-15 inkl. forplejning. .Kurset afholdes hos Morsø Erhvervsråd\, Holgersgade 1\, Nykøbing Mors. Prisen er 1.800 kr. ex. moms. \nBeskrivelse \nHar du en hjemmeside\, men er i tvivl om\, hvem der besøger den\, og hvad der egentlig fungerer – og hvad der ikke gør? Synes du\, at “Analytics” virker uoverskueligt og til tider for teknisk? Så er dette hands-on Analytics kursus for dig! \nTag kontrollen over din egen online succes\nPå kurset lærer du\, hvordan du installerer og opsætter et Analyseværktøj på din hjemmeside – helt uden at skulle være IT-ekspert eller kode-nørd. Vi går trin-for-trin igennem\, hvordan du får styr på tal og data\, så du kan træƯe rigtige beslutninger om din websides indhold\, design og markedsføring. \nKurset er skabt til dig\, der:\n Driver en webshop\, firma- eller foreningsside og vil forstå sine besøgende bedre\n Vil måle konkrete resultater af marketing og indhold\n Ikke er teknisk specialist – men ønsker at lære det vigtigste\n Vil spare penge på dyre konsulenter ved selv at forstå og styre sine data \nHvad lærer du på Analytics kurset?\n Opsætning af Analytics værktøj – trin for trin på din WordPress/hjemmeside vælg mellem\no Google Analytics (Gratis)\no Matomo Analytics (Gratis)\n De vigtigste målinger: Hvem besøger din side\, hvor kommer de fra\, og hvad gør de?\n Hvordan du aflæser rapporter og dashboards uden “techno-blabl”\n Hvordan du finder de sider og kampagner\, der rent faktisk skaber værdi\n Hvordan du nemt kan se\, hvilke kilder og kanaler der giver dig flest (og de bedste) besøg\n Hvad du skal kigge efter for at afsløre mulige problemer og flaskehalse på din hjemmeside\n Smarte tips til at bruge data i din markedsføring – fx til SEO\, indhold og annonceinvestering \nVi tager udgangspunkt i dit eget behov. Kurset er super-praktisk\, og du får adgang til guides\, lister og værktøjer\, så du kan komme hjem og arbejde videre med din webdata direkte. Undervisningen foregår i øjenhøjde – med dansk sprog og praktiske eksempler fra rigtige virksomheder\, webshops og blogs. \nEfter kurset kan du:\n Selv opsætte og styre Analytics på din hjemmeside\n Forstå dine tal og bruge dem til at tage kloge beslutninger\n Spotte vækstmuligheder og stoppe spild af tid/penge på ineƯektive tiltag\n Spore resultater af kampagnetiltag\n Sætte simple mål og følge dine resultater over tid \nEkstra input og gode værktøjer\n Introduktion til Google Search Console og samspil med Analytics\n Hurtige “sundhedschecks” af din website performance\n Tips til GDPR og datasikkerhed omkring sporing \nPraktisk info om kurset:\n Kurset varer én dag og kræver kun\, at du kan bruge din computer og logge ind på dit website\n Der er let forplejning og adgang til online supportgruppe efter kurset\n Har du allerede Analytics på din side så husk at medbringe dit “analytics” login\n Vælg kursus dato i datovælgeren øverst på siden. \nDu får friheden til selv at forstå dine besøgende – så du kan optimere og vækste din forretning! Er du klar til at stoppe gætteriet og tage styringen med fakta? Tilmeld dig Analytics kurset – og oplev\, hvor enkelt og konkret data kan bruges\, også når du ikke har en teknisk baggrund.\nDette kursus er en god overbygning på kurset “Lav hjemmeside med WordPress”. \n 
URL:https://mer.dk/event/optimer-din-online-forretning-med-analyse-analytics/
LOCATION:Morsø Erhvervsråd\, Holgersgade 1\, Nykøbing M\, 7900\, Danmark
CATEGORIES:Værktøjskursus
ATTACH;FMTTYPE=image/png:https://mer.dk/wp-content/uploads/2025/11/Rittermann-kursus-pakke.png
ORGANIZER;CN="Mors%C3%B8 Erhvervsr%C3%A5d":MAILTO:post@mer.dk
END:VEVENT
BEGIN:VEVENT
DTSTART;TZID=Europe/Copenhagen:20260616T090000
DTEND;TZID=Europe/Copenhagen:20260616T110000
DTSTAMP:20260425T212251
CREATED:20251126T120943Z
LAST-MODIFIED:20260121T101003Z
UID:10000297-1781600400-1781607600@mer.dk
SUMMARY:WordPress sikkerhed - lær at undgå hacking og malware
DESCRIPTION:Vi har indgået et samarbejde med Maibritt Rittermann fra RITTERMANN\, som kommer her i huset og laver 5 forskellige kurser – alle relateret til din hjemmeside. Kurserne udbydes til en yderst favorabel pris og booker du min. 3 af hendes kurser på én gang\, så får du yderligere 10% rabat oveni. \n  \nLær at sikre din WordPress hjemmeside\, så den ikke er et let offer for hackere\nPraktisk \nKurset kører kl. 9-11 inkl. forplejning. .Kurset afholdes hos Morsø Erhvervsråd\, Holgersgade 1\, Nykøbing Mors. Prisen er 600 kr. ex. moms. \nBeskrivelse\nEr din hjemmeside eller webshop bygget op i WordPress? -har du styr på om sikkerheden er i orden på siden? Ellers er dette seminar i WordPress sikkerhed et godt bud til dig\, seminaret er for dig der:\n Har en WordPress side og vil undgå hacking og malware.\n Du er måske soloselvstændig eller iværksætter med egen hjemmeside\, webshop eller online booking?\n Du ønsker at lære grundlæggende IT sikkerhed uden at drukne i teknisk jargon.\n Vil have praktisk viden og konkrete løsninger. \nHvorfor er WordPress sårbart? \nWordPress er verdens mest populære platform til hjemmesider og webshops – og netop derfor er den også et yndet mål for hackere og malware-angreb. Uden de rette sikkerhedsforanstaltninger kan din side blive et let oƯer\, og konsekvenserne kan være ret alvorlige som for eksempel:\n Nedbrudt hjemmeside\n Tab af data og kunder\n Dårlig placering i Google\n Mistet troværdighed\n I yderste konsekvens brud på GDPR med voldsomme bøder til følge – hvis du har personfølsomme data på siden. Alene i 2024 blev der opdaget tæt på 8.000 nye sårbarheder omkring WordPress – langt størstedelen i plugins\, men enkelte også i selve kernen og en del i forskellige temaer. \nHvad lærer du på WordPress sikkerheds kurset \nDu får konkrete værktøjer og teknikker til at sikre din WordPress side og beskytte din forretning og det kræver ikke specielle tekniske færdigheder for at deltage. Vi gennemgår blandt andet:\n Hvordan du kan teste din hjemmeside eller shop for sårbarheder.\n Hvordan du kan opsætte firewall og multifaktor login.\n Hvordan vi opsætter automatisk backup til ekstern lokation.\n Hvordan vi kan implementere sikkerhedsstrategier der virker.\n Hvordan vi kan blokere uønsket trafik. \nSå vil du have ro i maven og undgå at betale dyre konsulenter for noget du selv kan lære\, så kom med og få hands on viden som du kan bruge med det samme\, så du kan lære at beskytte din hjemmeside eller webshop og de kundedata der følger med. Det styrker din professionelle troværdighed og sikrer en bedre placering på Google\, fordi høj teknisk sikkerhed på din side er en af de parametre som Google vælger at belønne. Du kan lære mere om søgemaskine\noptimering på kurset – Lær at SEO optimere din hjemmeside. \n 
URL:https://mer.dk/event/wordpress-sikkerhed-laer-at-undgaa-hacking-og-malware/
LOCATION:Morsø Erhvervsråd\, Holgersgade 1\, Nykøbing M\, 7900\, Danmark
CATEGORIES:Værktøjskursus
ATTACH;FMTTYPE=image/png:https://mer.dk/wp-content/uploads/2025/11/Rittermann-kursus-pakke.png
ORGANIZER;CN="Mors%C3%B8 Erhvervsr%C3%A5d":MAILTO:post@mer.dk
END:VEVENT
END:VCALENDAR