BEGIN:VCALENDAR
VERSION:2.0
PRODID:-//Morsø Erhvervsråd - ECPv6.15.14//NONSGML v1.0//EN
CALSCALE:GREGORIAN
METHOD:PUBLISH
X-WR-CALNAME:Morsø Erhvervsråd
X-ORIGINAL-URL:https://mer.dk
X-WR-CALDESC:Begivenheder for Morsø Erhvervsråd
REFRESH-INTERVAL;VALUE=DURATION:PT1H
X-Robots-Tag:noindex
X-PUBLISHED-TTL:PT1H
BEGIN:VTIMEZONE
TZID:Europe/Copenhagen
BEGIN:DAYLIGHT
TZOFFSETFROM:+0100
TZOFFSETTO:+0200
TZNAME:CEST
DTSTART:20230326T010000
END:DAYLIGHT
BEGIN:STANDARD
TZOFFSETFROM:+0200
TZOFFSETTO:+0100
TZNAME:CET
DTSTART:20231029T010000
END:STANDARD
BEGIN:DAYLIGHT
TZOFFSETFROM:+0100
TZOFFSETTO:+0200
TZNAME:CEST
DTSTART:20240331T010000
END:DAYLIGHT
BEGIN:STANDARD
TZOFFSETFROM:+0200
TZOFFSETTO:+0100
TZNAME:CET
DTSTART:20241027T010000
END:STANDARD
BEGIN:DAYLIGHT
TZOFFSETFROM:+0100
TZOFFSETTO:+0200
TZNAME:CEST
DTSTART:20250330T010000
END:DAYLIGHT
BEGIN:STANDARD
TZOFFSETFROM:+0200
TZOFFSETTO:+0100
TZNAME:CET
DTSTART:20251026T010000
END:STANDARD
END:VTIMEZONE
BEGIN:VEVENT
DTSTART;TZID=Europe/Copenhagen:20240313T090000
DTEND;TZID=Europe/Copenhagen:20240313T120000
DTSTAMP:20260421T072622
CREATED:20231012T100239Z
LAST-MODIFIED:20231012T103047Z
UID:10000101-1710320400-1710331200@mer.dk
SUMMARY:MatchMaking Messe
DESCRIPTION:På UCN’s praktikmesse kan I som virksomhed møde studerende\, der leder efter en praktikplads til det efterfølgende semester.\n\n\n\n\n\n\n\n\n\n\nMatchMaking er en praktikmesse\, hvor I får mulighed for at møde studerende på forskellige semestre fra en lang række af vores business- og teknologiuddannelser. Fokus er primært på praktik\, men I er også velkommen til at medbringe både studiejobs og fuldtidsstillinger til dimittender.De studerende vil i løbet af en praktikperiode kunne give jer friske øjne på nye muligheder og kvalificerede bud på løsninger af udfordringer. De kan derefter analysere et relevant emne for jer via deres hovedopgave.\n\n\n\n\n\n\n\n\n\n  \nDeltag på MatchMaking-messen sammen med os. Tre timers dialog med de praktiksøgende studerende fra en række af UCN’s uddannelser på Teknologi og Business. \nDet er gratis at deltage! \n  \nSkriv til karriere@ucn.dk\, hvis I har spørgsmål eller vil modtage invitation til næste arrangement eller kontakt Flemming hos Morsø Erhvervsråd\, hvis du har spørgsmål omkring deltagelse i messen: fms@mer.dk \n 
URL:https://mer.dk/event/matchmaking-messe/
LOCATION:UCN\, Sofiendalsvej 60\, Aalborg SV\, 9200\, Danmark
CATEGORIES:Arrangementer
ATTACH;FMTTYPE=image/png:https://mer.dk/wp-content/uploads/2023/10/MatchMakingX.jpg.png
ORGANIZER;CN="Mors%C3%B8 Erhvervsr%C3%A5d":MAILTO:post@mer.dk
END:VEVENT
END:VCALENDAR