BEGIN:VCALENDAR
VERSION:2.0
PRODID:-//Morsø Erhvervsråd - ECPv6.15.14//NONSGML v1.0//EN
CALSCALE:GREGORIAN
METHOD:PUBLISH
X-ORIGINAL-URL:https://mer.dk
X-WR-CALDESC:Begivenheder for Morsø Erhvervsråd
REFRESH-INTERVAL;VALUE=DURATION:PT1H
X-Robots-Tag:noindex
X-PUBLISHED-TTL:PT1H
BEGIN:VTIMEZONE
TZID:Europe/Copenhagen
BEGIN:DAYLIGHT
TZOFFSETFROM:+0100
TZOFFSETTO:+0200
TZNAME:CEST
DTSTART:20230326T010000
END:DAYLIGHT
BEGIN:STANDARD
TZOFFSETFROM:+0200
TZOFFSETTO:+0100
TZNAME:CET
DTSTART:20231029T010000
END:STANDARD
BEGIN:DAYLIGHT
TZOFFSETFROM:+0100
TZOFFSETTO:+0200
TZNAME:CEST
DTSTART:20240331T010000
END:DAYLIGHT
BEGIN:STANDARD
TZOFFSETFROM:+0200
TZOFFSETTO:+0100
TZNAME:CET
DTSTART:20241027T010000
END:STANDARD
BEGIN:DAYLIGHT
TZOFFSETFROM:+0100
TZOFFSETTO:+0200
TZNAME:CEST
DTSTART:20250330T010000
END:DAYLIGHT
BEGIN:STANDARD
TZOFFSETFROM:+0200
TZOFFSETTO:+0100
TZNAME:CET
DTSTART:20251026T010000
END:STANDARD
END:VTIMEZONE
BEGIN:VEVENT
DTSTART;TZID=Europe/Copenhagen:20241113T190000
DTEND;TZID=Europe/Copenhagen:20241113T203000
DTSTAMP:20260425T152518
CREATED:20240311T133641Z
LAST-MODIFIED:20241112T113559Z
UID:10000134-1731524400-1731529800@mer.dk
SUMMARY:”De er ordentligt zyge” – velkommen til generation Z & Y på arbejdsmarkedet med Søren Østergaard i samarbejde med Lederne Midt/Nord
DESCRIPTION:I samarbejde med Lederne Midt/Nord har vi booket Søren Østergaard til et foredrag om Generation Z og Y. Der er lagt op til en øjenåbner\, hvor vi får sat den unge generation under lup ift. arbejdsmarkedet og ikke mindst den fremtidige virksomhedskultur. \n  \n”De er ordentligt zyge” – velkommen til generation Z & Y på arbejdsmarkedet \nHvorfor tager yngre medarbejdere ikke selvstændige initiativer – og hvad skal der til for at motivere dem til at tage ansvar i hverdagen? Hvad er baggrunden for\, at de har højere sygefravær end ældre medarbejdere – er det fordi de er dovne\, eller er der andre ting på spil? Hvilke arbejdspladser er det\, de efterspørger? Hvilke former for ledelse efterspørger de? Hvordan får man dem til at arbejde sammen med medarbejdere\, der har været i virksomheden i længere tid? \n  \nMed afsæt i en introduktion til de generelle kendetegn for Generation Y-Z vil der i oplægget være fokus på\, hvordan man som en virksomhed kan rumme såvel elever som nye yngre medarbejdere\, der ofte har helt andre forventninger til arbejdslivet\, end de medarbejdere der har arbejdet i virksomheden gennem længere tid – herunder hvordan man skaber en virksomhedskultur\, hvor generationerne gensidigt udfordrer hinanden. \n  \nSøren Østergaard \nSøren Østergaard har siden 1995 primært forsket i børn og unges hverdag og værdier\, deres deltagelse i fritids- og foreningsliv\, deres voksenrelationer\, samt trivsel. I dag er han en af de mest kompetente foredragsholdere på området\, og formår altid at give sine erfaringer og konkrete værktøjer videre til publikum. \n  \nSøren Østergaard er en af landets førende eksperter på unge og ungdomskulturer med viden om grundlæggende forudsætninger for at samarbejde kan lykkedes\, er hans foredrag og materiale baseret på nyeste viden og er derfor altid 100% opdateret. \n  \nSøren Østergaard har skrevet en lang række bøger omkring børn og unge – hvoraf kan nævnes ”Unge i en præstationskultur”\, ”Jagten på frirum – Perspektiver på unge\, hverdagsliv og fællesskaber\, samt ”Der sker hele tiden noget – det gør der bare!” – en undersøgelse med fokus på Generation Alpha\, fritid\, forældre og fællesskab. \n  \nSøren Østergaard er uddannet inden for samfundsvidenskab og teologi og har en ph.d.-grad i teologi fra Københavns Universitet om forandring i spændingsfeltet mellem tradition og kontekst. Derudover er han daglig leder af CUR (Center for Ungdomsstudier). \n  \nAlle er velkomne\, men vi har brug for din tilmelding nedenfor. \nVi ser frem til en inspirerende aften i selskab med Søren Østergaard og Generation Z & Y.
URL:https://mer.dk/event/de-er-ordentligt-zyge-velkommen-til-generation-z-y-paa-arbejdsmarkedet-med-soeren-oestergaard-i-samarbejde-med-lederne-midt-nord/
LOCATION:Morsø Erhvervsråd\, Holgersgade 1\, Nykøbing M\, 7900\, Danmark
CATEGORIES:Arrangementer
ATTACH;FMTTYPE=image/png:https://mer.dk/wp-content/uploads/2024/03/Soeren-Oestergaard.png
ORGANIZER;CN="Mors%C3%B8 Erhvervsr%C3%A5d":MAILTO:post@mer.dk
END:VEVENT
END:VCALENDAR