BEGIN:VCALENDAR
VERSION:2.0
PRODID:-//Morsø Erhvervsråd - ECPv6.15.14//NONSGML v1.0//EN
CALSCALE:GREGORIAN
METHOD:PUBLISH
X-ORIGINAL-URL:https://mer.dk
X-WR-CALDESC:Begivenheder for Morsø Erhvervsråd
REFRESH-INTERVAL;VALUE=DURATION:PT1H
X-Robots-Tag:noindex
X-PUBLISHED-TTL:PT1H
BEGIN:VTIMEZONE
TZID:Europe/Copenhagen
BEGIN:DAYLIGHT
TZOFFSETFROM:+0100
TZOFFSETTO:+0200
TZNAME:CEST
DTSTART:20230326T010000
END:DAYLIGHT
BEGIN:STANDARD
TZOFFSETFROM:+0200
TZOFFSETTO:+0100
TZNAME:CET
DTSTART:20231029T010000
END:STANDARD
BEGIN:DAYLIGHT
TZOFFSETFROM:+0100
TZOFFSETTO:+0200
TZNAME:CEST
DTSTART:20240331T010000
END:DAYLIGHT
BEGIN:STANDARD
TZOFFSETFROM:+0200
TZOFFSETTO:+0100
TZNAME:CET
DTSTART:20241027T010000
END:STANDARD
BEGIN:DAYLIGHT
TZOFFSETFROM:+0100
TZOFFSETTO:+0200
TZNAME:CEST
DTSTART:20250330T010000
END:DAYLIGHT
BEGIN:STANDARD
TZOFFSETFROM:+0200
TZOFFSETTO:+0100
TZNAME:CET
DTSTART:20251026T010000
END:STANDARD
END:VTIMEZONE
BEGIN:VEVENT
DTSTART;TZID=Europe/Copenhagen:20241204T130000
DTEND;TZID=Europe/Copenhagen:20241204T160000
DTSTAMP:20260425T141539
CREATED:20240318T082127Z
LAST-MODIFIED:20240521T121213Z
UID:10000139-1733317200-1733328000@mer.dk
SUMMARY:Kursus 5 - Made in Produktionsdanmark: De nye platforme og muligheder
DESCRIPTION:“Made in Produktionsdanmark” er et projekt med fokus på markedsføring og digitalisering til gavn for erhvervslivet på Mors. \nHos Morsø Erhvervsråd er det en målsætning at gøre Mors til et af Danmarks bedste produktionssteder. Det handler om gode rammevilkår og om optimale betingelser for skabelse af vækst og arbejdspladser. Men for at komme i mål skal kendskabsgraden og synligheden af produktionsvirksomhederne på Mors løftes markant! ”Made in Produktionsdanmark” projektet skal netop styrke erhvervslivets profil og attraktivitet. \nVi stiller skarpt på netop din virksomheds markedsføring og kommunikation. Det styrker din rekruttering\, din kendskabsgrad\, dit salg og vigtigst af alt din bundlinje. \n  \nDen pakke du som virksomheder køber ind i indeholder følgende: \n\nVideospot om et konkret produkt eller en ydelse til annoncering på sociale medier\nFri adgang for 2 pers. til alle kurser (detaljeret beskrivelse nedenfor).\nGratis adgang til netværksaktiviteter hos Morsø Erhvervsråd om digital markedsføring mv.\nSparring om din markedsføring og kommunikation\nStrategisk konsultation om din virksomheds digitale tilstedeværelse (vi kommer på besøg)\n\nPrisen er 7500\,- (værdi 30.000\,-) \n  \nDette kursus er en del af pakken og omhandler: DE NYE PLATFORME OG MULIGHEDER \nFor at følge med markedet er det nødvendigt at følge den digitale udvikling. Eksperimenter med nye markedsføringsplatforme og oplev nye spændende muligheder med en bredere målgruppe. \n  \nHvis du ønsker at blive en del af projektet\, så kontakt Malte Houe på malte@houefilm.dk eller Susanne Toftegaard Hansen på sth@mer.dk \nProjektet er støttet af Den lokale Erhvervsfremmefond og Morsø Kommune.
URL:https://mer.dk/event/kursus-5-made-in-produktionsdanmark-de-nye-platforme-og-muligheder/
LOCATION:Morsø Erhvervsråd\, Holgersgade 1\, Nykøbing M\, 7900\, Danmark
CATEGORIES:Kursus
ATTACH;FMTTYPE=image/png:https://mer.dk/wp-content/uploads/2024/03/5-2.png
ORGANIZER;CN="Mors%C3%B8 Erhvervsr%C3%A5d":MAILTO:post@mer.dk
END:VEVENT
END:VCALENDAR