BEGIN:VCALENDAR
VERSION:2.0
PRODID:-//Morsø Erhvervsråd - ECPv6.15.14//NONSGML v1.0//EN
CALSCALE:GREGORIAN
METHOD:PUBLISH
X-ORIGINAL-URL:https://mer.dk
X-WR-CALDESC:Begivenheder for Morsø Erhvervsråd
REFRESH-INTERVAL;VALUE=DURATION:PT1H
X-Robots-Tag:noindex
X-PUBLISHED-TTL:PT1H
BEGIN:VTIMEZONE
TZID:Europe/Copenhagen
BEGIN:DAYLIGHT
TZOFFSETFROM:+0100
TZOFFSETTO:+0200
TZNAME:CEST
DTSTART:20230326T010000
END:DAYLIGHT
BEGIN:STANDARD
TZOFFSETFROM:+0200
TZOFFSETTO:+0100
TZNAME:CET
DTSTART:20231029T010000
END:STANDARD
BEGIN:DAYLIGHT
TZOFFSETFROM:+0100
TZOFFSETTO:+0200
TZNAME:CEST
DTSTART:20240331T010000
END:DAYLIGHT
BEGIN:STANDARD
TZOFFSETFROM:+0200
TZOFFSETTO:+0100
TZNAME:CET
DTSTART:20241027T010000
END:STANDARD
BEGIN:DAYLIGHT
TZOFFSETFROM:+0100
TZOFFSETTO:+0200
TZNAME:CEST
DTSTART:20250330T010000
END:DAYLIGHT
BEGIN:STANDARD
TZOFFSETFROM:+0200
TZOFFSETTO:+0100
TZNAME:CET
DTSTART:20251026T010000
END:STANDARD
END:VTIMEZONE
BEGIN:VEVENT
DTSTART;TZID=Europe/Copenhagen:20241205T150000
DTEND;TZID=Europe/Copenhagen:20241205T163000
DTSTAMP:20260425T154653
CREATED:20241112T131205Z
LAST-MODIFIED:20241112T131205Z
UID:10000197-1733410800-1733416200@mer.dk
SUMMARY:Karrierekobling Mors
DESCRIPTION:”Karrierer Kobling Mors” ønsker at skabe rammerne for et dynamisk fællesskab mellem jer UCN-studerende som ”fjernlæser” jeres UCN-uddannelser her på Mors eller i Thy. Som erhvervsråd ønsker vi at bygge bro mellem jer og de lokale virksomheder som gerne vil tilbyde jer studiejobs\, praktikpladser mm. \nVi ønsker at lette adgangen til karrieremulighederne for jer på Mors. Vi vil være bindeleddet mellem jer og de lokale virksomheder og vi vil sikre fremtidens arbejdskraft på Mors. \nEr du hybridstuderende og vil høre mere eller melde dig til\, så kontakt Erhvervskonsulent Lars Fjordbak Gehlert på lfg@mer.dk eller på tlf. 3020 1105
URL:https://mer.dk/event/karrierekobling-mors/
LOCATION:Morsø Erhvervsråd\, Holgersgade 1\, Nykøbing M\, 7900\, Danmark
CATEGORIES:Arrangementer,Netværk
ATTACH;FMTTYPE=image/png:https://mer.dk/wp-content/uploads/2024/11/Foto-events-paa-hjemmesiden-5.png
ORGANIZER;CN="Mors%C3%B8 Erhvervsr%C3%A5d":MAILTO:post@mer.dk
END:VEVENT
END:VCALENDAR