BEGIN:VCALENDAR
VERSION:2.0
PRODID:-//Morsø Erhvervsråd - ECPv6.15.14//NONSGML v1.0//EN
CALSCALE:GREGORIAN
METHOD:PUBLISH
X-WR-CALNAME:Morsø Erhvervsråd
X-ORIGINAL-URL:https://mer.dk
X-WR-CALDESC:Begivenheder for Morsø Erhvervsråd
REFRESH-INTERVAL;VALUE=DURATION:PT1H
X-Robots-Tag:noindex
X-PUBLISHED-TTL:PT1H
BEGIN:VTIMEZONE
TZID:Europe/Copenhagen
BEGIN:DAYLIGHT
TZOFFSETFROM:+0100
TZOFFSETTO:+0200
TZNAME:CEST
DTSTART:20240331T010000
END:DAYLIGHT
BEGIN:STANDARD
TZOFFSETFROM:+0200
TZOFFSETTO:+0100
TZNAME:CET
DTSTART:20241027T010000
END:STANDARD
BEGIN:DAYLIGHT
TZOFFSETFROM:+0100
TZOFFSETTO:+0200
TZNAME:CEST
DTSTART:20250330T010000
END:DAYLIGHT
BEGIN:STANDARD
TZOFFSETFROM:+0200
TZOFFSETTO:+0100
TZNAME:CET
DTSTART:20251026T010000
END:STANDARD
BEGIN:DAYLIGHT
TZOFFSETFROM:+0100
TZOFFSETTO:+0200
TZNAME:CEST
DTSTART:20260329T010000
END:DAYLIGHT
BEGIN:STANDARD
TZOFFSETFROM:+0200
TZOFFSETTO:+0100
TZNAME:CET
DTSTART:20261025T010000
END:STANDARD
END:VTIMEZONE
BEGIN:VEVENT
DTSTART;TZID=Europe/Copenhagen:20250225T083000
DTEND;TZID=Europe/Copenhagen:20250225T100000
DTSTAMP:20260424T223002
CREATED:20241122T081654Z
LAST-MODIFIED:20250224T114617Z
UID:10000201-1740472200-1740477600@mer.dk
SUMMARY:Værktøjskursus: LinkedIn Workshop med Jane Søndergaard fra FS2 Reklame
DESCRIPTION:LinkedIn vinder mere og mere frem\, og bruges af flere og flere\, men hvordan bruges mediet egentlig bedst? \n  \nHvad skal du – personligt og som virksomhed – bruge LinkedIn til i 2025? \nUanset om du er på platformen som privatperson\, firmaets ambassadør eller virksomhed\, er det afgørende at stå skarpt og kende de vigtigste dos and don’ts. \n  \nI løbet af 1\,5 time vil Jane Søndergaard fra FS2 Reklame inspirere og udfordre dig\, så du går derfra med modet og lysten til at øge din aktivitet og dermed effekten af din indsats. \n  \nEventet er gratis men tilmelding nødvendig nedenfor. \n 
URL:https://mer.dk/event/linkedin-workshop-med-jane-soendergaard-fra-fs2-reklame/
LOCATION:Morsø Erhvervsråd\, Holgersgade 1\, Nykøbing M\, 7900\, Danmark
CATEGORIES:Workshop
ATTACH;FMTTYPE=image/png:https://mer.dk/wp-content/uploads/2023/10/5-1.png
ORGANIZER;CN="Mors%C3%B8 Erhvervsr%C3%A5d":MAILTO:post@mer.dk
END:VEVENT
END:VCALENDAR