BEGIN:VCALENDAR
VERSION:2.0
PRODID:-//Morsø Erhvervsråd - ECPv6.15.14//NONSGML v1.0//EN
CALSCALE:GREGORIAN
METHOD:PUBLISH
X-ORIGINAL-URL:https://mer.dk
X-WR-CALDESC:Begivenheder for Morsø Erhvervsråd
REFRESH-INTERVAL;VALUE=DURATION:PT1H
X-Robots-Tag:noindex
X-PUBLISHED-TTL:PT1H
BEGIN:VTIMEZONE
TZID:Europe/Copenhagen
BEGIN:DAYLIGHT
TZOFFSETFROM:+0100
TZOFFSETTO:+0200
TZNAME:CEST
DTSTART:20240331T010000
END:DAYLIGHT
BEGIN:STANDARD
TZOFFSETFROM:+0200
TZOFFSETTO:+0100
TZNAME:CET
DTSTART:20241027T010000
END:STANDARD
BEGIN:DAYLIGHT
TZOFFSETFROM:+0100
TZOFFSETTO:+0200
TZNAME:CEST
DTSTART:20250330T010000
END:DAYLIGHT
BEGIN:STANDARD
TZOFFSETFROM:+0200
TZOFFSETTO:+0100
TZNAME:CET
DTSTART:20251026T010000
END:STANDARD
BEGIN:DAYLIGHT
TZOFFSETFROM:+0100
TZOFFSETTO:+0200
TZNAME:CEST
DTSTART:20260329T010000
END:DAYLIGHT
BEGIN:STANDARD
TZOFFSETFROM:+0200
TZOFFSETTO:+0100
TZNAME:CET
DTSTART:20261025T010000
END:STANDARD
END:VTIMEZONE
BEGIN:VEVENT
DTSTART;TZID=Europe/Copenhagen:20250317T160000
DTEND;TZID=Europe/Copenhagen:20250317T183000
DTSTAMP:20260424T211818
CREATED:20250129T102043Z
LAST-MODIFIED:20250217T102256Z
UID:10000222-1742227200-1742236200@mer.dk
SUMMARY:Iværksætterdanmark: AI I markedsføring - Lav et Content\, der fænger
DESCRIPTION:Dette event afholdes i regi af Iværksætterdanmark og i samarbejde med Thy Erhvervsforum. \n  \nPå dette event vil du vil du få inspiration samt ”Hands-On”-instruktion til\, hvordan du laver det helt rigtige opslag på de forskellige So-Me platforme. \nPå kurset vil du få et indblik i de utrolig mange muligheder samt værktøjer\, som AI omfatter. Kurset vil blive bygget op med ”Hands-On”-instruktion – derfor skal du medbringe din egen computer. \nInstruktør på kurset er Rasmus Kvejborg fra JVR Consult\, der er en af de førende eksperter på området. \n  \nTilmelding: Aktivitet: AI I markedsføring – Lav et Content\, der fænger – Iværksætterdanmark
URL:https://mer.dk/event/ivaerksaetterdanmark-ai-i-markedsfoering-lav-et-content-der-faenger/
LOCATION:Thy Erhvervsforum\, Tilstedvej 73\, Thisted\, 7700
CATEGORIES:Arrangementer
ATTACH;FMTTYPE=image/png:https://mer.dk/wp-content/uploads/2025/01/workshop-eb4840da-d4bc-41be-9eef-889fa6aa38cc.png
ORGANIZER;CN="Mors%C3%B8 Erhvervsr%C3%A5d":MAILTO:post@mer.dk
END:VEVENT
END:VCALENDAR