BEGIN:VCALENDAR
VERSION:2.0
PRODID:-//Morsø Erhvervsråd - ECPv6.15.14//NONSGML v1.0//EN
CALSCALE:GREGORIAN
METHOD:PUBLISH
X-WR-CALNAME:Morsø Erhvervsråd
X-ORIGINAL-URL:https://mer.dk
X-WR-CALDESC:Begivenheder for Morsø Erhvervsråd
REFRESH-INTERVAL;VALUE=DURATION:PT1H
X-Robots-Tag:noindex
X-PUBLISHED-TTL:PT1H
BEGIN:VTIMEZONE
TZID:Europe/Copenhagen
BEGIN:DAYLIGHT
TZOFFSETFROM:+0100
TZOFFSETTO:+0200
TZNAME:CEST
DTSTART:20240331T010000
END:DAYLIGHT
BEGIN:STANDARD
TZOFFSETFROM:+0200
TZOFFSETTO:+0100
TZNAME:CET
DTSTART:20241027T010000
END:STANDARD
BEGIN:DAYLIGHT
TZOFFSETFROM:+0100
TZOFFSETTO:+0200
TZNAME:CEST
DTSTART:20250330T010000
END:DAYLIGHT
BEGIN:STANDARD
TZOFFSETFROM:+0200
TZOFFSETTO:+0100
TZNAME:CET
DTSTART:20251026T010000
END:STANDARD
BEGIN:DAYLIGHT
TZOFFSETFROM:+0100
TZOFFSETTO:+0200
TZNAME:CEST
DTSTART:20260329T010000
END:DAYLIGHT
BEGIN:STANDARD
TZOFFSETFROM:+0200
TZOFFSETTO:+0100
TZNAME:CET
DTSTART:20261025T010000
END:STANDARD
END:VTIMEZONE
BEGIN:VEVENT
DTSTART;TZID=Europe/Copenhagen:20250403T193000
DTEND;TZID=Europe/Copenhagen:20250403T213000
DTSTAMP:20260424T183756
CREATED:20241122T100519Z
LAST-MODIFIED:20250403T062610Z
UID:10000202-1743708600-1743715800@mer.dk
SUMMARY:Medlemsevent: Kom i biografen med Morsø Erhvervsråd
DESCRIPTION:Medlemsevent: Kom med med Morsø Erhvervsråd i biografen (kun for medlemmer)\nDen 3. april 2025 vil vi hos Morsø Erhvervsråd gerne invitere til en særforestilling med filmen “Under stjernerne på himlen”. Tilbuddet gælder kun for medlemmer af Morsø Erhvervsråd og deres ansatte. \n  \nFilmen:\n”Under stjernerne på himlen” er et portræt af en af dansk popkulturs største stjerner\, Tommy Seebach\, der i 1979 ved et skæbnetræf fik mulighed for at deltage ved Dansk Melodi Grand Prix med det store hit ‘Disco Tango’. Men det er samtidig en familie historie – et drama om en far\, der kom så langt ud i sit misbrug\, at han måtte flytte fra sin kone og børn\, før han endelig forstod og fik vist dem\, hvad de betød. Det er en fortælling om en stor personlighed\, som på sin egen måde blev det popmusikalske samlingspunkt for en hel generation. Præcis som hans søn Rasmus Seebach er blevet det for den næste generation. ”Under stjernerne på himlen” er en hyldest til en popkunstner\, hvis ikoniske sangskat har dannet soundtrack til rigtig mange danskeres liv. Sange\, som længe efter Tommy Seebachs alt for tidlige død har levet videre i os alle.\nKilde: SF Film \nSkuespillere: Anders Matthesen\, Neel Rønholt\, Caspar Phillipson \nInstruktør: Kasper Gaardsøe \nGenre: Drama \nLængde: 01:47 \n  \nPris:\nkr. 125\,- inkl. sodavand og popcorn (normalpris kr. 155\,-). \nDu bestiller billet ved at tilmelde dig herunder. Afregning sker direkte i BioMors. \n  \nFoto: Jan Pallesen
URL:https://mer.dk/event/medlemsevent-kom-i-biografen-med-morsoe-erhvervsraad/
LOCATION:Bio Mors\, Kirkegade 3\, Nykøbing Mors\, 7900\, Danmark
CATEGORIES:Arrangementer,Medlemsfordel
ORGANIZER;CN="Mors%C3%B8 Erhvervsr%C3%A5d":MAILTO:post@mer.dk
END:VEVENT
END:VCALENDAR