BEGIN:VCALENDAR
VERSION:2.0
PRODID:-//Morsø Erhvervsråd - ECPv6.15.14//NONSGML v1.0//EN
CALSCALE:GREGORIAN
METHOD:PUBLISH
X-ORIGINAL-URL:https://mer.dk
X-WR-CALDESC:Begivenheder for Morsø Erhvervsråd
REFRESH-INTERVAL;VALUE=DURATION:PT1H
X-Robots-Tag:noindex
X-PUBLISHED-TTL:PT1H
BEGIN:VTIMEZONE
TZID:Europe/Copenhagen
BEGIN:DAYLIGHT
TZOFFSETFROM:+0100
TZOFFSETTO:+0200
TZNAME:CEST
DTSTART:20240331T010000
END:DAYLIGHT
BEGIN:STANDARD
TZOFFSETFROM:+0200
TZOFFSETTO:+0100
TZNAME:CET
DTSTART:20241027T010000
END:STANDARD
BEGIN:DAYLIGHT
TZOFFSETFROM:+0100
TZOFFSETTO:+0200
TZNAME:CEST
DTSTART:20250330T010000
END:DAYLIGHT
BEGIN:STANDARD
TZOFFSETFROM:+0200
TZOFFSETTO:+0100
TZNAME:CET
DTSTART:20251026T010000
END:STANDARD
BEGIN:DAYLIGHT
TZOFFSETFROM:+0100
TZOFFSETTO:+0200
TZNAME:CEST
DTSTART:20260329T010000
END:DAYLIGHT
BEGIN:STANDARD
TZOFFSETFROM:+0200
TZOFFSETTO:+0100
TZNAME:CET
DTSTART:20261025T010000
END:STANDARD
END:VTIMEZONE
BEGIN:VEVENT
DTSTART;TZID=Europe/Copenhagen:20250424T180000
DTEND;TZID=Europe/Copenhagen:20250424T183000
DTSTAMP:20260424T120115
CREATED:20250401T121427Z
LAST-MODIFIED:20250402T071804Z
UID:10000227-1745517600-1745519400@mer.dk
SUMMARY:Ekstraordinær generalforsamling hos Morsø Erhvervsråd
DESCRIPTION:Bestyrelsen ved Morsø Erhvervsråd inviterer medlemmerne til ekstraordinær generalforsamling. \nHos Morsø Erhvervsråd\, Holgersgade 1\, 7900 Nykøbing M. i Erhvervscaféen med følgende dagsorden: \nDagsorden \n\nValg af dirigent\nBeslutning om endelig vedtagelse af vedtægtsændringer\, hvilke godkendtes énstemmigt på ordinær generalforsamling den 26/3 2025 (som bilag til dagsordenen vedlægges det samlede forslag til vedtægtsændringer)\nEvt.\n\n  \nBemærk se forslag til vedtægtsændringer godkendt på ordinær generalforsamling den 26/3 2025\, her: https://mer.dk/bestyrelse-og-generalforsamling/ \nTilmeldingsfrist den 22. april 2025
URL:https://mer.dk/event/ekstraordinaer-generalforsamling-hos-morsoe-erhvervsraad/
LOCATION:Morsø Erhvervsråd\, Holgersgade 1\, Nykøbing M\, 7900\, Danmark
CATEGORIES:Arrangementer
ATTACH;FMTTYPE=image/png:https://mer.dk/wp-content/uploads/2024/10/Generalforsamlingen.png
ORGANIZER;CN="Mors%C3%B8 Erhvervsr%C3%A5d":MAILTO:post@mer.dk
END:VEVENT
END:VCALENDAR