BEGIN:VCALENDAR
VERSION:2.0
PRODID:-//Morsø Erhvervsråd - ECPv6.15.14//NONSGML v1.0//EN
CALSCALE:GREGORIAN
METHOD:PUBLISH
X-WR-CALNAME:Morsø Erhvervsråd
X-ORIGINAL-URL:https://mer.dk
X-WR-CALDESC:Begivenheder for Morsø Erhvervsråd
REFRESH-INTERVAL;VALUE=DURATION:PT1H
X-Robots-Tag:noindex
X-PUBLISHED-TTL:PT1H
BEGIN:VTIMEZONE
TZID:Europe/Copenhagen
BEGIN:DAYLIGHT
TZOFFSETFROM:+0100
TZOFFSETTO:+0200
TZNAME:CEST
DTSTART:20240331T010000
END:DAYLIGHT
BEGIN:STANDARD
TZOFFSETFROM:+0200
TZOFFSETTO:+0100
TZNAME:CET
DTSTART:20241027T010000
END:STANDARD
BEGIN:DAYLIGHT
TZOFFSETFROM:+0100
TZOFFSETTO:+0200
TZNAME:CEST
DTSTART:20250330T010000
END:DAYLIGHT
BEGIN:STANDARD
TZOFFSETFROM:+0200
TZOFFSETTO:+0100
TZNAME:CET
DTSTART:20251026T010000
END:STANDARD
BEGIN:DAYLIGHT
TZOFFSETFROM:+0100
TZOFFSETTO:+0200
TZNAME:CEST
DTSTART:20260329T010000
END:DAYLIGHT
BEGIN:STANDARD
TZOFFSETFROM:+0200
TZOFFSETTO:+0100
TZNAME:CET
DTSTART:20261025T010000
END:STANDARD
END:VTIMEZONE
BEGIN:VEVENT
DTSTART;TZID=Europe/Copenhagen:20250508T160000
DTEND;TZID=Europe/Copenhagen:20250508T173000
DTSTAMP:20260424T054222
CREATED:20250313T140210Z
LAST-MODIFIED:20250317T064623Z
UID:10000225-1746720000-1746725400@mer.dk
SUMMARY:Er du bilforhandler og vil du være leverandør til Morsø Kommune?
DESCRIPTION:Er du bilforhandler og vil du være leverandør til Morsø Kommune? \nFremover vil Morsø Kommune benytte SKI’s dynamiske indkøbssystem\, når der skal købes køretøjer. For at kunne byde på udbuddene\, skal bilforhandlerne være oprettet i systemet. Kom og få en præsentation af det dynamiske indkøbssystem\, og hør hvordan du opretter dig\, så du fremover kan byde på kommunens køretøjer. Kommunen forventer inden sommerferien at benytte systemet til indkøb af de første køretøjer. \n  \nDu vil også få en kort præsentation af Morsø Erhvervsråd\, og hvad vi kan tilbyde. \n  \nVi er værter med en kop kaffe og et stykke kage. \nTilmelding nedenfor.
URL:https://mer.dk/event/er-du-bilforhandler-og-vil-du-vaere-leverandoer-til-morsoe-kommune/
LOCATION:Morsø Erhvervsråd\, Holgersgade 1\, Nykøbing M\, 7900\, Danmark
CATEGORIES:Arrangementer
ATTACH;FMTTYPE=image/png:https://mer.dk/wp-content/uploads/2025/03/Morsoe-Kommune.png
ORGANIZER;CN="Mors%C3%B8 Erhvervsr%C3%A5d":MAILTO:post@mer.dk
END:VEVENT
END:VCALENDAR