BEGIN:VCALENDAR
VERSION:2.0
PRODID:-//Morsø Erhvervsråd - ECPv6.15.14//NONSGML v1.0//EN
CALSCALE:GREGORIAN
METHOD:PUBLISH
X-WR-CALNAME:Morsø Erhvervsråd
X-ORIGINAL-URL:https://mer.dk
X-WR-CALDESC:Begivenheder for Morsø Erhvervsråd
REFRESH-INTERVAL;VALUE=DURATION:PT1H
X-Robots-Tag:noindex
X-PUBLISHED-TTL:PT1H
BEGIN:VTIMEZONE
TZID:Europe/Copenhagen
BEGIN:DAYLIGHT
TZOFFSETFROM:+0100
TZOFFSETTO:+0200
TZNAME:CEST
DTSTART:20240331T010000
END:DAYLIGHT
BEGIN:STANDARD
TZOFFSETFROM:+0200
TZOFFSETTO:+0100
TZNAME:CET
DTSTART:20241027T010000
END:STANDARD
BEGIN:DAYLIGHT
TZOFFSETFROM:+0100
TZOFFSETTO:+0200
TZNAME:CEST
DTSTART:20250330T010000
END:DAYLIGHT
BEGIN:STANDARD
TZOFFSETFROM:+0200
TZOFFSETTO:+0100
TZNAME:CET
DTSTART:20251026T010000
END:STANDARD
BEGIN:DAYLIGHT
TZOFFSETFROM:+0100
TZOFFSETTO:+0200
TZNAME:CEST
DTSTART:20260329T010000
END:DAYLIGHT
BEGIN:STANDARD
TZOFFSETFROM:+0200
TZOFFSETTO:+0100
TZNAME:CET
DTSTART:20261025T010000
END:STANDARD
END:VTIMEZONE
BEGIN:VEVENT
DTSTART;TZID=Europe/Copenhagen:20250616T083000
DTEND;TZID=Europe/Copenhagen:20250616T103000
DTSTAMP:20260423T163117
CREATED:20250429T091258Z
LAST-MODIFIED:20250514T072546Z
UID:10000241-1750062600-1750069800@mer.dk
SUMMARY:TEXTA Workshop: Marketing i industri\, produktion og B2B: Branding og positionering
DESCRIPTION:Marketingsbureauet Texta vil henover det næste halve år afholde en workshop række\, der henvender sig specifikt til marketingsfolk\, der arbejder for industri-\, produktions- eller B2B-virksomheder. Det overordnede formål er at skabe det stærkest mulige fundament for det videre arbejde i afdelingen\, men ligeledes at skabe nye forbindelser\, inspirere og forhåbentlig også skabe et stærkt netværk. \nDe tre overordnede temaer for mødegangene vil være branding\, leadgenerering og CRM. \nDer vil være en naturlig kronologi i de 3 workshops\, men det er naturligvis muligt at deltage i dem separat. \n  \n1.Workshop: branding og positionering\nOutput fra workhoppen: Konkrete værktøjer til at arbejde med virksomhedens eget brand og positionering i markedet. \nEfterfølgende vil der være mulighed for at dykke ned i mere konkret arbejde med de enkelte virksomheders brands i mindre grupper. Her vil vidensdeling og erfaringsudveksling spille en nøglerolle\, ligesom det vil være et konkret mål for sessionen\, at vi skaber fundamentet for videre udvikling efter workshoppen.  \n  \nWorkshoppen afholdes hos Morsø Erhvervsråd i samarbejde med TEXTA.
URL:https://mer.dk/event/texta-workshop-marketing-i-industri-produktion-og-b2b-branding-og-positionering/
LOCATION:Morsø Erhvervsråd\, Holgersgade 1\, Nykøbing M\, 7900\, Danmark
CATEGORIES:Workshop
ATTACH;FMTTYPE=image/png:https://mer.dk/wp-content/uploads/2025/04/Texta_Morso-Erhvervsrad_workshop-branding.png
ORGANIZER;CN="Mors%C3%B8 Erhvervsr%C3%A5d":MAILTO:post@mer.dk
END:VEVENT
END:VCALENDAR