BEGIN:VCALENDAR
VERSION:2.0
PRODID:-//Morsø Erhvervsråd - ECPv6.15.14//NONSGML v1.0//EN
CALSCALE:GREGORIAN
METHOD:PUBLISH
X-WR-CALNAME:Morsø Erhvervsråd
X-ORIGINAL-URL:https://mer.dk
X-WR-CALDESC:Begivenheder for Morsø Erhvervsråd
REFRESH-INTERVAL;VALUE=DURATION:PT1H
X-Robots-Tag:noindex
X-PUBLISHED-TTL:PT1H
BEGIN:VTIMEZONE
TZID:Europe/Copenhagen
BEGIN:DAYLIGHT
TZOFFSETFROM:+0100
TZOFFSETTO:+0200
TZNAME:CEST
DTSTART:20240331T010000
END:DAYLIGHT
BEGIN:STANDARD
TZOFFSETFROM:+0200
TZOFFSETTO:+0100
TZNAME:CET
DTSTART:20241027T010000
END:STANDARD
BEGIN:DAYLIGHT
TZOFFSETFROM:+0100
TZOFFSETTO:+0200
TZNAME:CEST
DTSTART:20250330T010000
END:DAYLIGHT
BEGIN:STANDARD
TZOFFSETFROM:+0200
TZOFFSETTO:+0100
TZNAME:CET
DTSTART:20251026T010000
END:STANDARD
BEGIN:DAYLIGHT
TZOFFSETFROM:+0100
TZOFFSETTO:+0200
TZNAME:CEST
DTSTART:20260329T010000
END:DAYLIGHT
BEGIN:STANDARD
TZOFFSETFROM:+0200
TZOFFSETTO:+0100
TZNAME:CET
DTSTART:20261025T010000
END:STANDARD
END:VTIMEZONE
BEGIN:VEVENT
DTSTART;TZID=Europe/Copenhagen:20250618T080000
DTEND;TZID=Europe/Copenhagen:20250618T100000
DTSTAMP:20260423T235732
CREATED:20250429T084208Z
LAST-MODIFIED:20250429T084241Z
UID:10000239-1750233600-1750240800@mer.dk
SUMMARY:Business Breakfast med Morsø Erhvervsråd hos Jysk El-Teknik
DESCRIPTION:Kom med på VirksomhedsVandring med Morsø Erhvervsråd. Et nyt koncept vi søsatte i 2024\, som skal understøtte vores strategi og fokus på Morsø Erhvervsråd som et stærkt erhvervsfællesskab på Mors. Kært barn har mange navne\, så hvis du kender åbent hus\, business breakfast\, morgenbriefing eller lignende\, så taler vi ca. samme sprog. \n  \nVi vil gerne være med til at vise vores medlemsvirksomheder frem som en form for ”markvandring” eller åbent hus\, hvor vi øger kendskabet til øens virksomheder\, får en kop kaffe\, en rundvisning\, et indblik i virksomheden og en god snak med hinanden i “marken”. \n  \nDenne gang besøger vi Jysk Elteknik i Nykøbing Mors\, hvor vi vil få en rundvisning samt en fortælling om virksomheden. \n  \nOm Jysk Elteknik: \n\n\n\nJysk Elteknik er en veletableret el-installationsvirksomhed med afdelinger i Thisted\, Hurup og Nykøbing Mors. De har 50 års erfaring og er altid opdateret med den nyeste viden\, teknologi og værktøjer. Kom med ud og få et kig i virksomheden\, hør om deres store elevtal og deres talentprogram. Er du nysgerrig\, så kan læse mere om dem her i vores medlemsportræt: Medlemsportræt af Jysk Elteknik \n  \n\n\n\nSå snør vandrestøvlerne og tag med Morsø Erhvervsråd på VirksomhedsVandring hos Jysk Elteknik. Vi glæder os.
URL:https://mer.dk/event/business-breakfast-med-morsoe-erhvervsraad-hos-jysk-el-teknik/
LOCATION:Jysk Elteknik\, Soltoften 10\, Nykøbing Mors\, 7900\, Danmark
CATEGORIES:Arrangementer,Medlemsfordel
ATTACH;FMTTYPE=image/png:https://mer.dk/wp-content/uploads/2024/05/Coverfoto-til-eventkalenderen.png
ORGANIZER;CN="Mors%C3%B8 Erhvervsr%C3%A5d":MAILTO:post@mer.dk
END:VEVENT
BEGIN:VEVENT
DTSTART;TZID=Europe/Copenhagen:20250618T120000
DTEND;TZID=Europe/Copenhagen:20250618T150000
DTSTAMP:20260423T235732
CREATED:20250514T082847Z
LAST-MODIFIED:20250527T083936Z
UID:10000247-1750248000-1750258800@mer.dk
SUMMARY:Netværksmøde i Lærlinge- og elevnetværket
DESCRIPTION:Netværksmøde #1 – Onsdag den 18. juni 2025 kl. 12.00 \n📍 Mors-Thy Håndboldakademi \nFørste møde i det nye lærlinge- og elevnetværk! Vi starter med frokost og spændende oplæg fra bl.a. Lars Svane Nielsen (Mors-Thy Håndbold) om en af Mors’ helt store stoltheder: Mors-Thy Håndbold og håndboldakademiet. \n  \nHerefter indlæg fra Domea\, om mulighederne for at bo på akademiet og fra Lukas fra Outrup Vinduer & Døre\, om alle fordelene ved at flytte hjem til Mors for at arbejde. \n  \nVi slutter af med en snak om\, hvad I ønsker jer af netværket. \n  \nNetværket er for alle elever og lærlinge på Mors\, hvis du også ønsker at være med eller har en elev eller lærling til netværket\, så kontakt Lars Fjordbak Gehlert: lfg@mer.dk eller tlf. 3020 1105
URL:https://mer.dk/event/netvaerksmoede-i-laerlinge-og-elevnetvaerket/
LOCATION:Mors-Thy Håndboldakademi\, Tranevej 4\, Nykøbing Mors
CATEGORIES:Netværk
ATTACH;FMTTYPE=image/png:https://mer.dk/wp-content/uploads/2025/03/Laerlinge-og-elevnetvaerket.png
ORGANIZER;CN="Mors%C3%B8 Erhvervsr%C3%A5d":MAILTO:post@mer.dk
END:VEVENT
END:VCALENDAR