BEGIN:VCALENDAR
VERSION:2.0
PRODID:-//Morsø Erhvervsråd - ECPv6.15.14//NONSGML v1.0//EN
CALSCALE:GREGORIAN
METHOD:PUBLISH
X-WR-CALNAME:Morsø Erhvervsråd
X-ORIGINAL-URL:https://mer.dk
X-WR-CALDESC:Begivenheder for Morsø Erhvervsråd
REFRESH-INTERVAL;VALUE=DURATION:PT1H
X-Robots-Tag:noindex
X-PUBLISHED-TTL:PT1H
BEGIN:VTIMEZONE
TZID:Europe/Copenhagen
BEGIN:DAYLIGHT
TZOFFSETFROM:+0100
TZOFFSETTO:+0200
TZNAME:CEST
DTSTART:20240331T010000
END:DAYLIGHT
BEGIN:STANDARD
TZOFFSETFROM:+0200
TZOFFSETTO:+0100
TZNAME:CET
DTSTART:20241027T010000
END:STANDARD
BEGIN:DAYLIGHT
TZOFFSETFROM:+0100
TZOFFSETTO:+0200
TZNAME:CEST
DTSTART:20250330T010000
END:DAYLIGHT
BEGIN:STANDARD
TZOFFSETFROM:+0200
TZOFFSETTO:+0100
TZNAME:CET
DTSTART:20251026T010000
END:STANDARD
BEGIN:DAYLIGHT
TZOFFSETFROM:+0100
TZOFFSETTO:+0200
TZNAME:CEST
DTSTART:20260329T010000
END:DAYLIGHT
BEGIN:STANDARD
TZOFFSETFROM:+0200
TZOFFSETTO:+0100
TZNAME:CET
DTSTART:20261025T010000
END:STANDARD
END:VTIMEZONE
BEGIN:VEVENT
DTSTART;TZID=Europe/Copenhagen:20250916T090000
DTEND;TZID=Europe/Copenhagen:20250916T120000
DTSTAMP:20260423T095804
CREATED:20250708T073343Z
LAST-MODIFIED:20250709T085828Z
UID:10000259-1758013200-1758024000@mer.dk
SUMMARY:Styr på salget "Kold kanvas og gameplan for dine kundemøder"
DESCRIPTION:Salg er afgørende for at få sin succes med sin forretning\, men det kan være svært og grænseoverskridende\, at skulle sælge sit produkt eller sin ydelse. \nPå dette workshopforløb får du virksomme og velafprøvede værktøjer\, der kan gøre salgsprocessen mere overskuelig og give dig struktur på den – kort sagt: du får styr på salget. Efter forløbet vil du være blevet fortrolig med at kontakte kunderne og sælge personligt. \nForløbet er for dig\, som har etableret virksomhed\, og gerne vil blive bedre til at sælge dit produkt eller din ydelse. For at deltage i dette forløb må dit CVR-nummer være maksimalt tre år gammelt. \nDu vil helt sikkert få mest ud af workshopforløbet\, hvis du kan se dig selv i følgende:   \nDu ønsker overblik og viden om\, hvordan du griber salget an – hvordan kontakter du potentielle kunder\, hvordan forhandler du med dem og hvordan lukker du handlen? Du får indsigt i konkrete metoder\, der kan hjælpe dig med at overkomme mentale barrierer og gøre salgsprocessen håndgribelig. På forløbet arbejder vi med: \n\nVærdiskabelsen i salget: Hvad er dine unikke selling points\, hvilken værdi tilfører du dine kunder\, og hvordan formidler du det overfor kunden?\nKold kanvas: Du lærer at blive bedre til at skabe møder med nye kunder og møder med en højere kvalitet.\nForhandling: Hvordan håndterer du indvendinger fra kunden\, og hvordan lukker du handlen.\nHvordan sikrer du\, at du afholder de mest optimale kundemøder\, hvor det er dig der tager styringen på en god og etisk måde\, og samtidig kommer hele vejen rundt om kunden.\nLuk aftalen: Du lærer at lukke aftalen på forskellige måder alt efter situationen.\nPræsentation af din pris: At stå ved sin pris kræver mod og forståelse for den psykologiske dimension bag prissætningen. Iværksætterne vil få konkrete eksempler fra virkeligheden på best practices og faldgruber\, så de står stærkt\, når prisen skal præsenteres for kunden.\n\nFør hver workshop skal der afsættes tid til selvstudie\, da vi giver mulighed for at du kan afprøve værktøjerne på dine egne (potentielle) kunder undervejs i forløbet. \nDin guide på vejen fra god idé til god forretning       \nCoachers er eksperter i salgstræning\, og har siden 2001 coachet\, trænet og rådgivet adskillige danske virksomheder i salg og salgspsykologi. Underviserne Preben\, Ann Louise og Martin har\, hver især\, mere end 20 års erfaring i arbejdet med iværksættere\, både som investorer\, konsulenter og undervisere. \n  \nTilmelding: https://ivdk.ehsys.dk/workshops/vis/ae8024b7-f7c0-45d1-ba1c-692749f6b3a1?tilmeld=1
URL:https://mer.dk/event/styr-paa-salget-kold-kanvas-og-gameplan-for-dine-kundemoeder/
LOCATION:Online
CATEGORIES:Workshop
ATTACH;FMTTYPE=image/png:https://mer.dk/wp-content/uploads/2025/07/Styr-paa-salget-til-hjemmesiden.png
ORGANIZER;CN="Mors%C3%B8 Erhvervsr%C3%A5d":MAILTO:post@mer.dk
END:VEVENT
END:VCALENDAR