BEGIN:VCALENDAR
VERSION:2.0
PRODID:-//Morsø Erhvervsråd - ECPv6.15.14//NONSGML v1.0//EN
CALSCALE:GREGORIAN
METHOD:PUBLISH
X-WR-CALNAME:Morsø Erhvervsråd
X-ORIGINAL-URL:https://mer.dk
X-WR-CALDESC:Begivenheder for Morsø Erhvervsråd
REFRESH-INTERVAL;VALUE=DURATION:PT1H
X-Robots-Tag:noindex
X-PUBLISHED-TTL:PT1H
BEGIN:VTIMEZONE
TZID:Europe/Copenhagen
BEGIN:DAYLIGHT
TZOFFSETFROM:+0100
TZOFFSETTO:+0200
TZNAME:CEST
DTSTART:20240331T010000
END:DAYLIGHT
BEGIN:STANDARD
TZOFFSETFROM:+0200
TZOFFSETTO:+0100
TZNAME:CET
DTSTART:20241027T010000
END:STANDARD
BEGIN:DAYLIGHT
TZOFFSETFROM:+0100
TZOFFSETTO:+0200
TZNAME:CEST
DTSTART:20250330T010000
END:DAYLIGHT
BEGIN:STANDARD
TZOFFSETFROM:+0200
TZOFFSETTO:+0100
TZNAME:CET
DTSTART:20251026T010000
END:STANDARD
BEGIN:DAYLIGHT
TZOFFSETFROM:+0100
TZOFFSETTO:+0200
TZNAME:CEST
DTSTART:20260329T010000
END:DAYLIGHT
BEGIN:STANDARD
TZOFFSETFROM:+0200
TZOFFSETTO:+0100
TZNAME:CET
DTSTART:20261025T010000
END:STANDARD
END:VTIMEZONE
BEGIN:VEVENT
DTSTART;TZID=Europe/Copenhagen:20250918T160000
DTEND;TZID=Europe/Copenhagen:20250918T180000
DTSTAMP:20260423T065418
CREATED:20250129T102825Z
LAST-MODIFIED:20250129T102825Z
UID:10000223-1758211200-1758218400@mer.dk
SUMMARY:Patentrettigheder - Din idé fortjener at blive din
DESCRIPTION:Morsø Erhvervsråd og Thy Erhvervsforum inviterer til et spændende og informativt event om patentrettigheder. Anne-Mette Bak Nielsen\, IPR-konsulent og forretningsudvikler hos Larsen & Birkeholm\, vil guide dig gennem de vigtigste aspekter af patent- og ophavsrettigheder. \n  \nIndhold: \n\nPatentvoucher\nPatent og ophavsrettigheder\n“Din idé fortjener at blive din”\nOpfinderrådgivningen\n\n  \nAnne-Mette Bak Nielsen vil forklare\, hvordan du bedst muligt sikrer dine rettigheder\, og hvad du skal forvente\, at det koster. \nKom og få værdifuld indsigt i\, hvordan du beskytter dine idéer og opfindelser! \n  \nEventet er gratis\, men vi vil gerne have din tilmelding nedenfor.
URL:https://mer.dk/event/patentrettigheder-din-ide-fortjener-at-blive-din/
LOCATION:Morsø Erhvervsråd\, Holgersgade 1\, Nykøbing M\, 7900\, Danmark
CATEGORIES:Arrangementer
ATTACH;FMTTYPE=image/png:https://mer.dk/wp-content/uploads/2025/01/Events-6.png
ORGANIZER;CN="Mors%C3%B8 Erhvervsr%C3%A5d":MAILTO:post@mer.dk
END:VEVENT
END:VCALENDAR