BEGIN:VCALENDAR
VERSION:2.0
PRODID:-//Morsø Erhvervsråd - ECPv6.15.14//NONSGML v1.0//EN
CALSCALE:GREGORIAN
METHOD:PUBLISH
X-WR-CALNAME:Morsø Erhvervsråd
X-ORIGINAL-URL:https://mer.dk
X-WR-CALDESC:Begivenheder for Morsø Erhvervsråd
REFRESH-INTERVAL;VALUE=DURATION:PT1H
X-Robots-Tag:noindex
X-PUBLISHED-TTL:PT1H
BEGIN:VTIMEZONE
TZID:Europe/Copenhagen
BEGIN:DAYLIGHT
TZOFFSETFROM:+0100
TZOFFSETTO:+0200
TZNAME:CEST
DTSTART:20240331T010000
END:DAYLIGHT
BEGIN:STANDARD
TZOFFSETFROM:+0200
TZOFFSETTO:+0100
TZNAME:CET
DTSTART:20241027T010000
END:STANDARD
BEGIN:DAYLIGHT
TZOFFSETFROM:+0100
TZOFFSETTO:+0200
TZNAME:CEST
DTSTART:20250330T010000
END:DAYLIGHT
BEGIN:STANDARD
TZOFFSETFROM:+0200
TZOFFSETTO:+0100
TZNAME:CET
DTSTART:20251026T010000
END:STANDARD
BEGIN:DAYLIGHT
TZOFFSETFROM:+0100
TZOFFSETTO:+0200
TZNAME:CEST
DTSTART:20260329T010000
END:DAYLIGHT
BEGIN:STANDARD
TZOFFSETFROM:+0200
TZOFFSETTO:+0100
TZNAME:CET
DTSTART:20261025T010000
END:STANDARD
END:VTIMEZONE
BEGIN:VEVENT
DTSTART;TZID=Europe/Copenhagen:20251001T090000
DTEND;TZID=Europe/Copenhagen:20251001T153000
DTSTAMP:20260422T094719
CREATED:20241209T093247Z
LAST-MODIFIED:20250929T091246Z
UID:10000206-1759309200-1759332600@mer.dk
SUMMARY:Marketing Mødet Mors 2025
DESCRIPTION:Vi gentager succesen… \nOnsdag den 1. oktober fra kl. 9.00-15.30 gentager Morsø Erhvervsråd succesen fra sidste år og åbner dørene for Marketing Mødet Mors 2025. \nIgen i år inviterer vi til en dag\, hvor vi skal snakke markedsføring – både værdien af det for dig og din virksomhed samt konkrete ideer til\, hvordan du kommer videre eller i gang med din markedsføring. \nVi har igen sammensat et stærkt hold\, som hver især kan bidrage med deres erfaringer og ekspertise indenfor for forskellige områder af markedsføringsverdenen. \n  \nProgram for dagen \nKl. 9.00: Morgenmad \nKl. 9.30: Oplæg fra Jesperhus \nKl. 10.30: Oplæg og workshops (der vil blive 3 at vælge imellem) \n\n\n\n\n\nPlan for din visuelle tilstedeværelse med Malte og Sif fra Houe Film\nGoogle Ads\, hvordan bliver du synlig på Google\, hvordan bruger du din Google Ads account med Peter Kragh Lauritsen fra TEXTA\nE-mail marketing med fokus på indhold og klikrater med Nicolai Mortensen fra TEXTA\n\n\n\n\n\n\n\n\n\n\n\n\nKl. 12.00: Frokost og netværk \nKl. 13.00: Oplæg og workshops (der vil blive 3 at vælge imellem) \n\n\n\n\n\nFå mere ud af dine fysiske events bl.a. messer med Jakob Dyrbye fra Faust Dyrbye A/S\nLinkedIn med fokus på hvilke indlæg er relevante\, hvordan man begår sig som virksomhed på LinkedIn og kort om Ads på LinkedIn med Amalie Puggaard fra TEXTA\nDerfor er Shopify #1 platform til moderne B2C e-commerce med Kim Eriksen fra D’Tails\n\n\n\n\n\n\n\n\n\n\n\n\nKl. 14.30: Oplæg fra Morsø Jernstøberi \nKl. 15.30: Tak for i dag \n  \nTilmelding \nDu tilmelder dig eventet herunder. \nPrisen er 295 kr. for en hel dag inkl. morgenmad og frokost\n\nNår du har tilmeldt dig\, får du en faktura tilsendt separat. Kvitteringen for betaling er din adgangsbillet til dagen. \n  \nEt kæmpestort tak til lyde til vores sponsorerer\, som gør dette arrangement muligt:\n\nBageriet\, Nykøbing Mors\nThisted Bryghus\, Thisted\nFælledvejs Købmand\nCafé Holmen\, Nykøbing Mors\n\n \n\nArrangementet er åbent for alle\, og vi glæder os rigtig meget til at se dig!\n  \n  \n 
URL:https://mer.dk/event/marketing-moedet-mors-2025/
LOCATION:Morsø Erhvervsråd\, Holgersgade 1\, Nykøbing M\, 7900\, Danmark
CATEGORIES:Arrangementer,Workshop
ATTACH;FMTTYPE=image/png:https://mer.dk/wp-content/uploads/2024/12/MMMors-2025.png
ORGANIZER;CN="Mors%C3%B8 Erhvervsr%C3%A5d":MAILTO:post@mer.dk
END:VEVENT
END:VCALENDAR