BEGIN:VCALENDAR
VERSION:2.0
PRODID:-//Morsø Erhvervsråd - ECPv6.15.14//NONSGML v1.0//EN
CALSCALE:GREGORIAN
METHOD:PUBLISH
X-ORIGINAL-URL:https://mer.dk
X-WR-CALDESC:Begivenheder for Morsø Erhvervsråd
REFRESH-INTERVAL;VALUE=DURATION:PT1H
X-Robots-Tag:noindex
X-PUBLISHED-TTL:PT1H
BEGIN:VTIMEZONE
TZID:Europe/Copenhagen
BEGIN:DAYLIGHT
TZOFFSETFROM:+0100
TZOFFSETTO:+0200
TZNAME:CEST
DTSTART:20240331T010000
END:DAYLIGHT
BEGIN:STANDARD
TZOFFSETFROM:+0200
TZOFFSETTO:+0100
TZNAME:CET
DTSTART:20241027T010000
END:STANDARD
BEGIN:DAYLIGHT
TZOFFSETFROM:+0100
TZOFFSETTO:+0200
TZNAME:CEST
DTSTART:20250330T010000
END:DAYLIGHT
BEGIN:STANDARD
TZOFFSETFROM:+0200
TZOFFSETTO:+0100
TZNAME:CET
DTSTART:20251026T010000
END:STANDARD
BEGIN:DAYLIGHT
TZOFFSETFROM:+0100
TZOFFSETTO:+0200
TZNAME:CEST
DTSTART:20260329T010000
END:DAYLIGHT
BEGIN:STANDARD
TZOFFSETFROM:+0200
TZOFFSETTO:+0100
TZNAME:CET
DTSTART:20261025T010000
END:STANDARD
END:VTIMEZONE
BEGIN:VEVENT
DTSTART;TZID=Europe/Copenhagen:20251112T093000
DTEND;TZID=Europe/Copenhagen:20251112T143000
DTSTAMP:20260421T230916
CREATED:20251014T112148Z
LAST-MODIFIED:20251106T140601Z
UID:10000273-1762939800-1762957800@mer.dk
SUMMARY:Iværksætterugen: Træning og sundhedstjek af din hund hos Morsø Hundehus
DESCRIPTION:Tanja Klemmensen fra Morsø Hundehus er iværksætter og byder ind med dette event i Iværksætterugen. \nDu får individuel træning med fokus på netop de udfordringer\, du og din hund har – det kan være indkald\, kontakt\, ro eller andre relevante øvelser.\nVi afslutter med et mini-sundhedstjek\, hvor jeg mærker efter spændinger eller låsninger og giver dig råd til\, hvordan du kan støtte din hunds trivsel.\n👉 Bemærk: Tjekket er udelukkende en vurdering – eventuelle fund bliver ikke afhjulpet på dagen. Ønsker du behandling\, skal der bookes en separat tid. \n  \nTid & sted:\n📍 Plantagen 14\, 7980 Vils\n🕤 Start: 9:30 – Slut: ca. 14:30 \n  \nTider (1 deltager pr. tid) – du vælger tid ved tilmelding. Tanja vender retur til dig med den endelige tid. Noter gerne i kommentarfeltet\, hvis du kan på flere tidspunkter: \n\n9:30–10:15\n10:15–11:00\n11:00–11:45\n12:15–13:00\n13:00–13:45\n13:45–14:30\n\n  \nVarighed pr. deltager:\nCa. 25–30 min. træning + 10–15 min. sundhedstjek af hunden.\n➡️ Samlet tid pr. deltager: ca. 45 min. \n  \nPris:\n50 kr. pr. deltager. \n  \nKort beskrivelse af Morsø Hundehus:\nJeg hjælper hundeejere med at skabe en glad og velfungerende hund gennem positiv træning\, som bliver tilpasset til den enkelte hund og ejer. Derudover arbejder jeg som behandler for at afhjælpe og forebygge problemer i hundens bevægeapparat. \n  \nKrav til deltagerne: \n\nLækre godbidder\nFast line (ikke flexline)\nSele eller halsbånd
URL:https://mer.dk/event/ivaerksaetterugen-traening-og-sundhedstjek-af-din-hund-hos-morsoe-hundehus/
LOCATION:Morsø Hundehus\, Plantagen 14\, Vils\, 7980\, Danmark
CATEGORIES:Arrangementer,Medlemsfordel
ATTACH;FMTTYPE=image/png:https://mer.dk/wp-content/uploads/2025/10/Morsoe-Hundehus-Ivaerksaetterugen.png
ORGANIZER;CN="Mors%C3%B8 Erhvervsr%C3%A5d":MAILTO:post@mer.dk
END:VEVENT
BEGIN:VEVENT
DTSTART;TZID=Europe/Copenhagen:20251112T110000
DTEND;TZID=Europe/Copenhagen:20251112T123000
DTSTAMP:20260421T230916
CREATED:20250904T073522Z
LAST-MODIFIED:20250904T073522Z
UID:10000267-1762945200-1762950600@mer.dk
SUMMARY:Rådgivermøde
DESCRIPTION:Invitation til det årlige rådgivermøde hos Morsø Erhvervsråd \n  \nSom en hjælp til iværksætterne på Mors oprettede vi sidste år Rådgivernetværket\, som understøtter vores IværksætterVouchertm . \nVi indkalder derfor en gang årlige til rådgivermøde\, hvor vi gør status og taler erfaringer med hinanden. \n  \nAgenda:\n\nVelkomst\nStatus på iværksætterindsatsen og den kommende nationale indsats.\nHvilke nye tiltag har vi gennemført siden sidst?\n\nIværksættercaféerne – det nye format.\nMarkedsføring af iværksætterindsatsen\, (Ø-magasinet\, SO-ME).\nIværksætterugen – Uge 46\nIværksætteruddannelsen\n\n\nEvaluering af Voucher-ordningen.\n\nHvem er med?\nHvor mange har vi udleveret?\nHvad er erfaringerne hos rådgiverne?\nHvordan kan vi optimere ordningen?\n\n\nIndlæg omkring Virksomhedsprogrammet v. Jørgen Sølvkjær Erhvervshus Nordjylland\nFrokost og netværk.\n\n  \nHvis du ønsker at blive en del af Rådgivernetværket\, så tag kontakt til Jens på jvc@mer.dk
URL:https://mer.dk/event/raadgivermoede/
LOCATION:Morsø Erhvervsråd\, Holgersgade 1\, Nykøbing M\, 7900\, Danmark
CATEGORIES:Netværk
ATTACH;FMTTYPE=image/jpeg:https://mer.dk/wp-content/uploads/2025/04/Susanne-og-Jens-raadgivning-scaled.jpg
ORGANIZER;CN="Mors%C3%B8 Erhvervsr%C3%A5d":MAILTO:post@mer.dk
END:VEVENT
BEGIN:VEVENT
DTSTART;TZID=Europe/Copenhagen:20251112T170000
DTEND;TZID=Europe/Copenhagen:20251112T210000
DTSTAMP:20260421T230917
CREATED:20241219T140345Z
LAST-MODIFIED:20241219T140345Z
UID:10000217-1762966800-1762981200@mer.dk
SUMMARY:Netværksmøde i ejerledernetværket
DESCRIPTION:Morsø Erhvervsråd inviterer til møde i ejerledernetværket. \n  \nNetværket optager løbende nye medlemmer. Ved interesse kontakt Jens Vinther Christensen på jvc@mer.dk
URL:https://mer.dk/event/netvaerksmoede-i-ejerledernetvaerket-10/
LOCATION:Morsø Erhvervsråd\, Holgersgade 1\, Nykøbing M\, 7900\, Danmark
CATEGORIES:Netværk
ATTACH;FMTTYPE=image/png:https://mer.dk/wp-content/uploads/2023/03/Netvaerk.png
ORGANIZER;CN="Mors%C3%B8 Erhvervsr%C3%A5d":MAILTO:post@mer.dk
END:VEVENT
END:VCALENDAR