BEGIN:VCALENDAR
VERSION:2.0
PRODID:-//Morsø Erhvervsråd - ECPv6.15.14//NONSGML v1.0//EN
CALSCALE:GREGORIAN
METHOD:PUBLISH
X-WR-CALNAME:Morsø Erhvervsråd
X-ORIGINAL-URL:https://mer.dk
X-WR-CALDESC:Begivenheder for Morsø Erhvervsråd
REFRESH-INTERVAL;VALUE=DURATION:PT1H
X-Robots-Tag:noindex
X-PUBLISHED-TTL:PT1H
BEGIN:VTIMEZONE
TZID:Europe/Copenhagen
BEGIN:DAYLIGHT
TZOFFSETFROM:+0100
TZOFFSETTO:+0200
TZNAME:CEST
DTSTART:20240331T010000
END:DAYLIGHT
BEGIN:STANDARD
TZOFFSETFROM:+0200
TZOFFSETTO:+0100
TZNAME:CET
DTSTART:20241027T010000
END:STANDARD
BEGIN:DAYLIGHT
TZOFFSETFROM:+0100
TZOFFSETTO:+0200
TZNAME:CEST
DTSTART:20250330T010000
END:DAYLIGHT
BEGIN:STANDARD
TZOFFSETFROM:+0200
TZOFFSETTO:+0100
TZNAME:CET
DTSTART:20251026T010000
END:STANDARD
BEGIN:DAYLIGHT
TZOFFSETFROM:+0100
TZOFFSETTO:+0200
TZNAME:CEST
DTSTART:20260329T010000
END:DAYLIGHT
BEGIN:STANDARD
TZOFFSETFROM:+0200
TZOFFSETTO:+0100
TZNAME:CET
DTSTART:20261025T010000
END:STANDARD
END:VTIMEZONE
BEGIN:VEVENT
DTSTART;TZID=Europe/Copenhagen:20251113T170000
DTEND;TZID=Europe/Copenhagen:20251113T200000
DTSTAMP:20260422T025350
CREATED:20251007T080145Z
LAST-MODIFIED:20251007T080145Z
UID:10000271-1763053200-1763064000@mer.dk
SUMMARY:Uddannelses- og erhvervsmessen 2025
DESCRIPTION:Udnyt chancen for at fortælle de unge om jobmulighederne i din virksomhed – det er helt gratis at deltage. \nDen årlige Uddannelses- og Erhvervsmesse bliver igen i år afholdt i Sparekassen Thy – Arena Mors. \nDu får mulighed for at vise de muligheder de unge har i netop din virksomhed. Der plejer at være rigtig stor interesse\, og der blev skabt nogle rigtig gode kontakter til kommende elever og lærlinge fra de virksomheder\, som var med sidste år. \n  \nTid: I år er det torsdag 13. november mellem kl. 17.00 og 20.00. \n  \nBookning af stand: \nSend en mail til Uddannelsesvejleder Susanne Kjærsgaard på skj@morsoe.dk fra Ungeindsatsen – Ung Mors. Skriv i mailen\, at din virksomhed ønsker en stand på messen. Har du særlige ønsker og behov til din stand\, så som strøm\, lys osv. er det også Susanne du skal koordinere med. \nNår du har sendt mailen til Susanne\, kontakter hun dig direkte med de nærmere detaljer. \nDer er som altid et begrænset antal stande. Pladserne tildeles efter først-til-mølle princippet. Det er helt gratis for dig at udstille\, udover den tid du og dine kolleger bruger. \n  \nKontakten til de unge på messen \nVed at være med på den gratis messe\, har du vide rammer for at nå ud til de unge. Sidste år kunne deltagerne få lov til både at mure og hamre\, og der blev talt med de unge\, der overvejer en uddannelse som revisor\, en merkantil uddannelse eller nogle af de mange øvrige uddannelser\, som var repræsenteret. \nNogle virksomheder havde valgt at lave en lille konkurrence\, mens andre delte lækre smagsprøver ud. \nHvis du har en ung ansat i din virksomhed\, er det er rigtig god ide at tage ham eller hende med. Det virker særligt godt\, når du vil nå ud til de unge\, at de kan finde en at spejle sig i\, som ligner dem selv. \n  \nUddannelses- og jobmessen giver de unge på Mors en rigtig god fornemmelse af de mange job- og uddannelsesmuligheder\, der findes her på øen. Du får mulighed for at plante et frø hos de kommende elever og lærlinge. Samtidig kan du hjælpe de unge\, der endnu ikke har fundet ud af hvad de vil med fremtiden\, til måske at overveje en karriere hos dig. \n  \nHvad får du ud af at deltage? \nVed at deltage i messen er du med til at investere i din virksomheds fremtid. \nDesuden har de unge ofte deres far og mor med\, så du kan også være heldig at møde din næste medarbejder på messen. \n  \nUddannelses- og Erhvervsmessen arrangeres i et samarbejde mellem Ungeindsatsen – Ung Mors\, Morsø Tømrer- og Snedkerforretning og Morsø Erhvervsråd.
URL:https://mer.dk/event/uddannelses-og-erhvervsmessen-2025/
LOCATION:Sparekassen Thy – Arena Mors\, H.C. Ørsteds Vej 15\, Nykøbing Mors\, 7900\, Danmark
CATEGORIES:Arrangementer
ATTACH;FMTTYPE=image/png:https://mer.dk/wp-content/uploads/2024/09/Billeder-til-Erhvervs-Nyt-5.png
END:VEVENT
BEGIN:VEVENT
DTSTART;TZID=Europe/Copenhagen:20251113T190000
DTEND;TZID=Europe/Copenhagen:20251113T210000
DTSTAMP:20260422T025350
CREATED:20250818T095707Z
LAST-MODIFIED:20250818T100227Z
UID:10000265-1763060400-1763067600@mer.dk
SUMMARY:Iværksætterugen: Mal på keramik med STRØM Keramik
DESCRIPTION:Ann og Jens\, som siden foråret 2024 har stået bag det lille keramik værksted “STRØM Keramik”\, vil gerne byde jer indenfor til et par timers kreativ hygge\, hvor du får mulighed for at male på keramik. \n  \nSTRØM Keramik holder til i Algade 27 i Nykøbing Mors\, hvor deres butik ligger\, men de afholder også kurser og åbent værksted i Erslev samt malecafé i Algade. \n  \nDet er gratis at deltage\, men der er begrænset antal pladser. Tilmelding nedenfor. \n  \nDette event er en del af den internationale iværksætteruge 2025 hos Morsø Erhvervsråd
URL:https://mer.dk/event/ivaerksaetterugen-mal-paa-keramik-med-stroem-keramik/
LOCATION:Strøm Keramik\, Algade 27\, Nykøbing Mors\, 7900\, Danmark
CATEGORIES:Arrangementer
ATTACH;FMTTYPE=image/png:https://mer.dk/wp-content/uploads/2025/08/Ivaerksaetterugen-Stroem-keramik.png
ORGANIZER;CN="Mors%C3%B8 Erhvervsr%C3%A5d":MAILTO:post@mer.dk
END:VEVENT
END:VCALENDAR