BEGIN:VCALENDAR
VERSION:2.0
PRODID:-//Morsø Erhvervsråd - ECPv6.15.14//NONSGML v1.0//EN
CALSCALE:GREGORIAN
METHOD:PUBLISH
X-WR-CALNAME:Morsø Erhvervsråd
X-ORIGINAL-URL:https://mer.dk
X-WR-CALDESC:Begivenheder for Morsø Erhvervsråd
REFRESH-INTERVAL;VALUE=DURATION:PT1H
X-Robots-Tag:noindex
X-PUBLISHED-TTL:PT1H
BEGIN:VTIMEZONE
TZID:Europe/Copenhagen
BEGIN:DAYLIGHT
TZOFFSETFROM:+0100
TZOFFSETTO:+0200
TZNAME:CEST
DTSTART:20250330T010000
END:DAYLIGHT
BEGIN:STANDARD
TZOFFSETFROM:+0200
TZOFFSETTO:+0100
TZNAME:CET
DTSTART:20251026T010000
END:STANDARD
BEGIN:DAYLIGHT
TZOFFSETFROM:+0100
TZOFFSETTO:+0200
TZNAME:CEST
DTSTART:20260329T010000
END:DAYLIGHT
BEGIN:STANDARD
TZOFFSETFROM:+0200
TZOFFSETTO:+0100
TZNAME:CET
DTSTART:20261025T010000
END:STANDARD
BEGIN:DAYLIGHT
TZOFFSETFROM:+0100
TZOFFSETTO:+0200
TZNAME:CEST
DTSTART:20270328T010000
END:DAYLIGHT
BEGIN:STANDARD
TZOFFSETFROM:+0200
TZOFFSETTO:+0100
TZNAME:CET
DTSTART:20271031T010000
END:STANDARD
END:VTIMEZONE
BEGIN:VEVENT
DTSTART;TZID=Europe/Copenhagen:20260223T143000
DTEND;TZID=Europe/Copenhagen:20260223T160000
DTSTAMP:20260421T070011
CREATED:20260128T081354Z
LAST-MODIFIED:20260128T081354Z
UID:10000322-1771857000-1771862400@mer.dk
SUMMARY:Officiel åbning af BusinessPark Mors
DESCRIPTION:Kom og vær med til at fejre en ny stærk fælles ramme for erhvervslivet på Mors\, når vi åbner den nye businesspark. \nVi vil gerne invitere alle med interesse for det nye erhvervsfællesskab på Mors til åbning af BusinessPark Mors. Formand\, Torben Eilskov Leth byder velkommen og der vil være taler fra samarbejdspartnerne og interessenter\, som har været med til at realisere parken. \nLigeledes vil der løbende være mulighed for rundvisning i lokalerne\, så tag endelig din gode ven\, forretningspartner eller en nysgerrig nabo med. \n  \nIngen tilmelding – du kommer bare. Vi glæder os til at vise den nye BusinessPark Mors frem. \n  \nMANDAG DEN 23. FEBRUAR KL. 14.30-16.00\nELSØVEJ 105\, 7900 NYKØBING MORS\nVI SØRGER FOR LIDT GODT TIL GANEN
URL:https://mer.dk/event/officiel-aabning-af-businesspark-mors/
LOCATION:BusinessPark Mors\, Elsøvej 105\, Nykøbing Mors\, 7900\, Denmark
CATEGORIES:Arrangementer
ATTACH;FMTTYPE=image/png:https://mer.dk/wp-content/uploads/2026/01/Aabning-af-BPM.png
ORGANIZER;CN="Mors%C3%B8 Erhvervsr%C3%A5d":MAILTO:post@mer.dk
END:VEVENT
END:VCALENDAR