BEGIN:VCALENDAR
VERSION:2.0
PRODID:-//Morsø Erhvervsråd - ECPv6.15.14//NONSGML v1.0//EN
CALSCALE:GREGORIAN
METHOD:PUBLISH
X-WR-CALNAME:Morsø Erhvervsråd
X-ORIGINAL-URL:https://mer.dk
X-WR-CALDESC:Begivenheder for Morsø Erhvervsråd
REFRESH-INTERVAL;VALUE=DURATION:PT1H
X-Robots-Tag:noindex
X-PUBLISHED-TTL:PT1H
BEGIN:VTIMEZONE
TZID:Europe/Copenhagen
BEGIN:DAYLIGHT
TZOFFSETFROM:+0100
TZOFFSETTO:+0200
TZNAME:CEST
DTSTART:20250330T010000
END:DAYLIGHT
BEGIN:STANDARD
TZOFFSETFROM:+0200
TZOFFSETTO:+0100
TZNAME:CET
DTSTART:20251026T010000
END:STANDARD
BEGIN:DAYLIGHT
TZOFFSETFROM:+0100
TZOFFSETTO:+0200
TZNAME:CEST
DTSTART:20260329T010000
END:DAYLIGHT
BEGIN:STANDARD
TZOFFSETFROM:+0200
TZOFFSETTO:+0100
TZNAME:CET
DTSTART:20261025T010000
END:STANDARD
BEGIN:DAYLIGHT
TZOFFSETFROM:+0100
TZOFFSETTO:+0200
TZNAME:CEST
DTSTART:20270328T010000
END:DAYLIGHT
BEGIN:STANDARD
TZOFFSETFROM:+0200
TZOFFSETTO:+0100
TZNAME:CET
DTSTART:20271031T010000
END:STANDARD
END:VTIMEZONE
BEGIN:VEVENT
DTSTART;TZID=Europe/Copenhagen:20260224T120000
DTEND;TZID=Europe/Copenhagen:20260224T160000
DTSTAMP:20260421T065951
CREATED:20251119T100020Z
LAST-MODIFIED:20260122T124945Z
UID:10000282-1771934400-1771948800@mer.dk
SUMMARY:Netværksmøde i klimanetværket
DESCRIPTION:Morsø Erhvervsråds Klimanetværk er udsprunget af vores “Bliv Klima-Parat” forløb på 5 moduler\, som kørte fra september til november 2023\, hvor ca. 20 lokale virksomheder var repræsenteret. \nDanske virksomheder skal bidrage til at realisere målet om at reducere CO2 aftrykket med 70% inden 2030 og konkret indeholder Morsø Kommunes klimahandlingsplan en vision om en klimaneutral industri- og erhverv på Mors i 2030. \nMorsø Erhvervsråds Klimanetværk har til formål at samle virksomheder\, organisationer og interessenter på Mors med henblik på at inspirere og fremme bæredygtige løsninger og grøn omstilling i erhvervslivet – og dermed reducere klimaaftrykket. \n  \nPROGRAM FOR DETTE NETVÆRKSMØDE: \nVi skal høre mere om supplerende tiltag til en ESG-rapport fra Morten Vinde samt samle op på tidligere forløb og arrangement om Udvidet producentansvar. \nHusk at I er velkommen til at sende en kollega\, hvis I ikke selv kan deltage. \n  \nKl. 12.00 – Sandwich og velkomst \nKl. 12.30 – KlimaNyheder ved Erik Wind \nKl. 13.00 – Mærkningsordninger\, livscyklusvurdering og certificering – Indlæg fra Erhvervshus Nordjylland \nKl. 13.45 – Pause \nKl. 14.00 – Opfølgning/Vidensdeling – Udvidet producentansvar for emballage \nKl. 14.45 – Bordet Rundt \nKl. 15.30 – Opsamling og Afslutning \n  \n  \nDeltagelse i Morsø Erhvervsråds Klimanetværk koster 5.000\,- ekskl. moms årligt for op til 2 personer fra samme virksomhed.\nDet er en forudsætning\, at du er medlem af Morsø Erhvervsråd for at deltage i Klimanetværket. Ved interesse\, kontakt Erik Wind: ew@mer.dk eller Susanne Toftegaard Hansen: sth@mer.dk
URL:https://mer.dk/event/netvaerksmoede-i-klimanetvaerket-8/
LOCATION:Morsø Erhvervsråd\, Holgersgade 1\, Nykøbing M\, 7900\, Danmark
CATEGORIES:Netværk
ATTACH;FMTTYPE=image/png:https://mer.dk/wp-content/uploads/2025/06/Klimanetvaerk2.png
END:VEVENT
END:VCALENDAR