BEGIN:VCALENDAR
VERSION:2.0
PRODID:-//Morsø Erhvervsråd - ECPv6.15.14//NONSGML v1.0//EN
CALSCALE:GREGORIAN
METHOD:PUBLISH
X-ORIGINAL-URL:https://mer.dk
X-WR-CALDESC:Begivenheder for Morsø Erhvervsråd
REFRESH-INTERVAL;VALUE=DURATION:PT1H
X-Robots-Tag:noindex
X-PUBLISHED-TTL:PT1H
BEGIN:VTIMEZONE
TZID:Europe/Copenhagen
BEGIN:DAYLIGHT
TZOFFSETFROM:+0100
TZOFFSETTO:+0200
TZNAME:CEST
DTSTART:20250330T010000
END:DAYLIGHT
BEGIN:STANDARD
TZOFFSETFROM:+0200
TZOFFSETTO:+0100
TZNAME:CET
DTSTART:20251026T010000
END:STANDARD
BEGIN:DAYLIGHT
TZOFFSETFROM:+0100
TZOFFSETTO:+0200
TZNAME:CEST
DTSTART:20260329T010000
END:DAYLIGHT
BEGIN:STANDARD
TZOFFSETFROM:+0200
TZOFFSETTO:+0100
TZNAME:CET
DTSTART:20261025T010000
END:STANDARD
BEGIN:DAYLIGHT
TZOFFSETFROM:+0100
TZOFFSETTO:+0200
TZNAME:CEST
DTSTART:20270328T010000
END:DAYLIGHT
BEGIN:STANDARD
TZOFFSETFROM:+0200
TZOFFSETTO:+0100
TZNAME:CET
DTSTART:20271031T010000
END:STANDARD
END:VTIMEZONE
BEGIN:VEVENT
DTSTART;TZID=Europe/Copenhagen:20260226T083000
DTEND;TZID=Europe/Copenhagen:20260226T100000
DTSTAMP:20260421T034600
CREATED:20251023T130931Z
LAST-MODIFIED:20251023T130931Z
UID:10000275-1772094600-1772100000@mer.dk
SUMMARY:IVÆRKSÆTTERFORTÆLLING: Malte Houe fra Houe Film
DESCRIPTION:Kom og oplev Malte Houe fra Houe film fortælle sin iværksætterberetning.  \nDet hele startede med en Tuk Tuk som firmabil\, en campingvogn som kontor og tre 16-årige med en stor passion for film- og videoproduktion. Dengang fik vi titlen som “Danmarks yngste filmselskab”. Med blod på tanden og jysk charme\, ringede vi rundt til lokale butikker og virksomheder på Mors i håbet om at få lov til at lave reklamer – for det meste uden held. Det kom vi dog efter! \nI dag er Houe Film vokset til et team på seks kreative hoveder\, der fortsat formidler unikke historier gennem film- og videoproduktion.  \nKom og hør Malte fortælle hans historie.
URL:https://mer.dk/event/ivaerksaetterfortaelling-malte-houe-fra-houe-film/
LOCATION:Morsø Erhvervsråd\, Holgersgade 1\, Nykøbing M\, 7900\, Danmark
CATEGORIES:Arrangementer
ATTACH;FMTTYPE=image/png:https://mer.dk/wp-content/uploads/2025/10/Houe-film.png
ORGANIZER;CN="Mors%C3%B8 Erhvervsr%C3%A5d":MAILTO:post@mer.dk
END:VEVENT
BEGIN:VEVENT
DTSTART;TZID=Europe/Copenhagen:20260226T130000
DTEND;TZID=Europe/Copenhagen:20260226T153000
DTSTAMP:20260421T034601
CREATED:20260108T114157Z
LAST-MODIFIED:20260108T114157Z
UID:10000301-1772110800-1772119800@mer.dk
SUMMARY:Made in Produktionsdanmark - Strategi og planlægning
DESCRIPTION:Made in Produktionsdanmark – Strategi og planlægning\nl løbet af 2024 samlede vi 25 lokale produktionsvirksomheder til rådgivning\, kurser og netværk\, med fokus på at prioritere kommunikations-indsatser og\nstyrke den digitale synlighed. Nu er vi klar med version 2.0. \nM.I.P 2.0 handler nu om at accelerere udviklingen og styrke eksisterende kompetencer.\nDette kræver et fælles forum til sparring\, struktur og konkrete redskaber\, der kan hjælpe med at omsætte de mange kommunikative muligheder til strategiske handlingsplaner. \nLæs mere her: M.I.P 2.0 one-pager
URL:https://mer.dk/event/made-in-produktionsdanmark-strategi-og-planlaegning/
LOCATION:Morsø Erhvervsråd\, Holgersgade 1\, Nykøbing M\, 7900\, Danmark
CATEGORIES:Workshop
ATTACH;FMTTYPE=image/png:https://mer.dk/wp-content/uploads/2025/11/Made-in-Produktionsdanmark.png
ORGANIZER;CN="Mors%C3%B8 Erhvervsr%C3%A5d":MAILTO:post@mer.dk
END:VEVENT
END:VCALENDAR