BEGIN:VCALENDAR
VERSION:2.0
PRODID:-//Morsø Erhvervsråd - ECPv6.15.14//NONSGML v1.0//EN
CALSCALE:GREGORIAN
METHOD:PUBLISH
X-WR-CALNAME:Morsø Erhvervsråd
X-ORIGINAL-URL:https://mer.dk
X-WR-CALDESC:Begivenheder for Morsø Erhvervsråd
REFRESH-INTERVAL;VALUE=DURATION:PT1H
X-Robots-Tag:noindex
X-PUBLISHED-TTL:PT1H
BEGIN:VTIMEZONE
TZID:Europe/Copenhagen
BEGIN:DAYLIGHT
TZOFFSETFROM:+0100
TZOFFSETTO:+0200
TZNAME:CEST
DTSTART:20250330T010000
END:DAYLIGHT
BEGIN:STANDARD
TZOFFSETFROM:+0200
TZOFFSETTO:+0100
TZNAME:CET
DTSTART:20251026T010000
END:STANDARD
BEGIN:DAYLIGHT
TZOFFSETFROM:+0100
TZOFFSETTO:+0200
TZNAME:CEST
DTSTART:20260329T010000
END:DAYLIGHT
BEGIN:STANDARD
TZOFFSETFROM:+0200
TZOFFSETTO:+0100
TZNAME:CET
DTSTART:20261025T010000
END:STANDARD
BEGIN:DAYLIGHT
TZOFFSETFROM:+0100
TZOFFSETTO:+0200
TZNAME:CEST
DTSTART:20270328T010000
END:DAYLIGHT
BEGIN:STANDARD
TZOFFSETFROM:+0200
TZOFFSETTO:+0100
TZNAME:CET
DTSTART:20271031T010000
END:STANDARD
END:VTIMEZONE
BEGIN:VEVENT
DTSTART;TZID=Europe/Copenhagen:20260526T090000
DTEND;TZID=Europe/Copenhagen:20260526T110000
DTSTAMP:20260420T153829
CREATED:20251021T094924Z
LAST-MODIFIED:20260223T090746Z
UID:10000274-1779786000-1779793200@mer.dk
SUMMARY:Det stressfri arbejdsliv - et oplæg om stressforebyggelse
DESCRIPTION:Vi mister dygtige medarbejdere – ikke fordi de er svage\, men fordi vi mangler en plan. En plan for\, hvordan vi forebygger\, hvordan vi handler\, når en kollega er presset\, og hvordan vi får mennesker trygt tilbage i arbejdslivet igen. Det er det\, Stressfri arbejdsliv handler om. \nPia Heiberg er forfatter til bogen Stressfri arbejdsliv – en guide til stressforebyggelse i virksomheder. Hun er uddannet specialsygeplejerske i psykiatri\, terapeut og kropsterapeut\, og har arbejdet med mental sundhed i snart to årtier. Til daglig driver hun virksomheden Stressfrisind\, hvor hun arbejder med stress\, angst og depression\, og hun er desuden tilknyttet en privatpraktiserende psykiater\, hvor hun beskæftiger sig med udredning og behandling af psykiatriske lidelser. \nDen 25. februar 2026 kommer hun på besøg hos Morsø Erhvervsråd med “Det stressfrie arbejdsliv” som agenda. \nI sit oplæg vil Pia tage fat på kompleksiteten i stress og psykisk mistrivsel – men først og fremmest vise\, hvordan vi kan forebygge stressrelaterede lidelser på en enkel\, jordnær og praksisnær måde. Hun deler viden\, erfaring og konkrete redskaber\, som både ledere\, medarbejdere og HR kan tage med hjem og bruge i hverdagen. \nBogen – og oplægget – er skrevet til ledere\, medarbejdere og HR-professionelle\, der vil tage ansvar. Ikke kun for symptomerne\, men for kulturen bag dem. Den bygger på solid faglighed\, praksis og én klar overbevisning: Forebyggelse uden forståelse er en illusion
URL:https://mer.dk/event/det-stressfri-arbejdsliv-et-oplaeg-om-stressforebyggelse/
LOCATION:Morsø Erhvervsråd\, Holgersgade 1\, Nykøbing M\, 7900\, Danmark
CATEGORIES:Arrangementer,Værktøjskursus
ATTACH;FMTTYPE=image/png:https://mer.dk/wp-content/uploads/2025/10/Pia-Heiberg-til-hjemmesiden.jpg.png
ORGANIZER;CN="Mors%C3%B8 Erhvervsr%C3%A5d":MAILTO:post@mer.dk
END:VEVENT
END:VCALENDAR