BEGIN:VCALENDAR
VERSION:2.0
PRODID:-//Morsø Erhvervsråd - ECPv6.15.14//NONSGML v1.0//EN
CALSCALE:GREGORIAN
METHOD:PUBLISH
X-ORIGINAL-URL:https://mer.dk
X-WR-CALDESC:Begivenheder for Morsø Erhvervsråd
REFRESH-INTERVAL;VALUE=DURATION:PT1H
X-Robots-Tag:noindex
X-PUBLISHED-TTL:PT1H
BEGIN:VTIMEZONE
TZID:Europe/Copenhagen
BEGIN:DAYLIGHT
TZOFFSETFROM:+0100
TZOFFSETTO:+0200
TZNAME:CEST
DTSTART:20250330T010000
END:DAYLIGHT
BEGIN:STANDARD
TZOFFSETFROM:+0200
TZOFFSETTO:+0100
TZNAME:CET
DTSTART:20251026T010000
END:STANDARD
BEGIN:DAYLIGHT
TZOFFSETFROM:+0100
TZOFFSETTO:+0200
TZNAME:CEST
DTSTART:20260329T010000
END:DAYLIGHT
BEGIN:STANDARD
TZOFFSETFROM:+0200
TZOFFSETTO:+0100
TZNAME:CET
DTSTART:20261025T010000
END:STANDARD
BEGIN:DAYLIGHT
TZOFFSETFROM:+0100
TZOFFSETTO:+0200
TZNAME:CEST
DTSTART:20270328T010000
END:DAYLIGHT
BEGIN:STANDARD
TZOFFSETFROM:+0200
TZOFFSETTO:+0100
TZNAME:CET
DTSTART:20271031T010000
END:STANDARD
END:VTIMEZONE
BEGIN:VEVENT
DTSTART;TZID=Europe/Copenhagen:20260617T160000
DTEND;TZID=Europe/Copenhagen:20260617T180000
DTSTAMP:20260420T171708
CREATED:20260420T130723Z
LAST-MODIFIED:20260420T132303Z
UID:10000338-1781712000-1781719200@mer.dk
SUMMARY:5 trin til succes i klinikken Foredrag og netværksaften for terapeuter og behandlere
DESCRIPTION:Er du behandler eller terapeut? Og føler du dig god til dit fag\, men usikker på forretningen? \nSå er dette arrangement designet til dig. \nTil denne inspirerende og øjenåbnende aften med Jesper Hollensberg fra Terapeutforum får du konkrete idéer til\, hvordan du kan skabe en sund og bæredygtig klinik. \n  \nDu hører bl.a.\, hvordan du: \n\nTiltrækker flere klienter og skaber et stabilt kundeflow.\nTager dig ordentligt betalt for din tid og faglighed.\nFår en indkomst\, du kan leve af – uden at slide dig selv op.\nUndgår de typiske fejl\, som mange klinikejere begår.\nSkaber en klinik\, der passer til dit liv og dine værdier.\n\n  \nForedraget er til dig\, der er klinikejer – eller måske på vej til at blive det. Uanset\, om du er nystartet eller mere etableret\, får du her både ny inspiration og konkrete redskaber. \nDer bliver god tid til både spørgsmål\, debat og til at dele gode erfaringer med hinanden. Glæd dig til en hyggelig og inspirerende eftermiddag i selskab med lokale kolleger. \n  \nJesper Hollensberg er forretningsrådgiver for behandlere og terapeuter\, forfatter til bogen KlinikStart og tidligere leder og medejer af Nordic College of Natural Medicine. \nHan har igennem de seneste 15 år undervist mere end 1.200 studerende og uddannede kolleger i at starte og drive klinik \nSe mere på www.terapeutforum.dk \nVi ses onsdag d. 17. juni kl. 16-18.
URL:https://mer.dk/event/5-trin-til-succes-i-klinikken-foredrag-og-netvaerksaften-for-terapeuter-og-behandlere/
LOCATION:Morsø Erhvervsråd\, Holgersgade 1\, Nykøbing M\, 7900\, Danmark
ATTACH;FMTTYPE=image/jpeg:https://mer.dk/wp-content/uploads/2026/04/jesper-e1776691351434.jpg
ORGANIZER;CN="Mors%C3%B8 Erhvervsr%C3%A5d":MAILTO:post@mer.dk
END:VEVENT
END:VCALENDAR