BEGIN:VCALENDAR
VERSION:2.0
PRODID:-//Morsø Erhvervsråd - ECPv6.15.14//NONSGML v1.0//EN
CALSCALE:GREGORIAN
METHOD:PUBLISH
X-WR-CALNAME:Morsø Erhvervsråd
X-ORIGINAL-URL:https://mer.dk
X-WR-CALDESC:Begivenheder for Morsø Erhvervsråd
REFRESH-INTERVAL;VALUE=DURATION:PT1H
X-Robots-Tag:noindex
X-PUBLISHED-TTL:PT1H
BEGIN:VTIMEZONE
TZID:Europe/Copenhagen
BEGIN:DAYLIGHT
TZOFFSETFROM:+0100
TZOFFSETTO:+0200
TZNAME:CEST
DTSTART:20250330T010000
END:DAYLIGHT
BEGIN:STANDARD
TZOFFSETFROM:+0200
TZOFFSETTO:+0100
TZNAME:CET
DTSTART:20251026T010000
END:STANDARD
BEGIN:DAYLIGHT
TZOFFSETFROM:+0100
TZOFFSETTO:+0200
TZNAME:CEST
DTSTART:20260329T010000
END:DAYLIGHT
BEGIN:STANDARD
TZOFFSETFROM:+0200
TZOFFSETTO:+0100
TZNAME:CET
DTSTART:20261025T010000
END:STANDARD
BEGIN:DAYLIGHT
TZOFFSETFROM:+0100
TZOFFSETTO:+0200
TZNAME:CEST
DTSTART:20270328T010000
END:DAYLIGHT
BEGIN:STANDARD
TZOFFSETFROM:+0200
TZOFFSETTO:+0100
TZNAME:CET
DTSTART:20271031T010000
END:STANDARD
END:VTIMEZONE
BEGIN:VEVENT
DTSTART;TZID=Europe/Copenhagen:20260820T160000
DTEND;TZID=Europe/Copenhagen:20260820T190000
DTSTAMP:20260420T202248
CREATED:20251029T093127Z
LAST-MODIFIED:20251029T093127Z
UID:10000276-1787241600-1787252400@mer.dk
SUMMARY:VIP invitation til Kulturmødet Mors 2026
DESCRIPTION:VIP-Invitation til Kulturmødet Mors \nDet er en fornøjelse at  invitere dig med som  VIP-gæst til en særlig oplevelse under Kulturmødet Mors! \n  \nProgram : \nKl. 16.00: Vi mødes hos Sparekassen Danmark\, Algade 28\, Nykøbing Mors\, som byder velkommen med delikate smagsoplevelser i form af nippe – stå – mad – Prebens vinhandel serverer et glas vin \nKl.17.30:  Vi går i samlet flok ned til pladsen\, hvor Kulturmødet er godt i gang \nKl. 18.00: Direktør\, Caspar Ryttergaard byder os velkommen \nKl. 18.15: Vi følges i samlet flot til et af Kulturmødets event (mere info følger\, når vi kender programmet) \nKl. 19.00: Fri leg og tak for i dag \n  \nEt spændende program venter – fyldt med kultur\, inspirerende indslag og unikke oplevelser\, som snart bliver offentliggjort. \n  \nHvad er Kulturmødet ? \nKulturmødet Mors er Danmarks samlingssted for samtalen om kunst og kultur. \nHvert år i august samles kunstnere\, politikere\, meningsdannere og kulturinteresserede i Nykøbing Mors for at tage temperaturen på aktuelle temaer i kulturdebatten og blive klogere i fællesskab. ​ \nArrangementet kombinerer konference\, festival og forsamlingshus i ét og byder på over 500 gratis arrangementer fordelt på mere end 25 scener. \nProgrammet spænder fra debatter og samtaler til kunstneriske oplevelser inden for musik\, litteratur\, scenekunst og billedkunst. ​ \nKulturmødet er kendt for at fremme netværk og samarbejde på tværs af generationer\, brancher og geografi. \nDet er en platform\, hvor kulturens rolle i samfundet diskuteres\, og hvor nye idéer og partnerskaber opstår. \n  \nHer får vi mulighed for at netværke i afslappede rammer og nyde hinandens selskab i kulturens tegn. \nKultur\, netværk og fede oplevelser – vi glæder os til at dele dem med dig!
URL:https://mer.dk/event/vip-invitation-til-kulturmoedet-mors-2026/
LOCATION:Sparekassen Danmark\, Algade 28\, Nykøbing Mors\, 7900\, Danmark
CATEGORIES:Arrangementer,Medlemsfordel,Netværk
ATTACH;FMTTYPE=image/png:https://mer.dk/wp-content/uploads/2025/04/Kulturmoedet-.png
ORGANIZER;CN="Mors%C3%B8 Erhvervsr%C3%A5d":MAILTO:post@mer.dk
END:VEVENT
END:VCALENDAR