BEGIN:VCALENDAR
VERSION:2.0
PRODID:-//Morsø Erhvervsråd - ECPv6.15.14//NONSGML v1.0//EN
CALSCALE:GREGORIAN
METHOD:PUBLISH
X-ORIGINAL-URL:https://mer.dk
X-WR-CALDESC:Begivenheder for Morsø Erhvervsråd
REFRESH-INTERVAL;VALUE=DURATION:PT1H
X-Robots-Tag:noindex
X-PUBLISHED-TTL:PT1H
BEGIN:VTIMEZONE
TZID:Europe/Copenhagen
BEGIN:DAYLIGHT
TZOFFSETFROM:+0100
TZOFFSETTO:+0200
TZNAME:CEST
DTSTART:20250330T010000
END:DAYLIGHT
BEGIN:STANDARD
TZOFFSETFROM:+0200
TZOFFSETTO:+0100
TZNAME:CET
DTSTART:20251026T010000
END:STANDARD
BEGIN:DAYLIGHT
TZOFFSETFROM:+0100
TZOFFSETTO:+0200
TZNAME:CEST
DTSTART:20260329T010000
END:DAYLIGHT
BEGIN:STANDARD
TZOFFSETFROM:+0200
TZOFFSETTO:+0100
TZNAME:CET
DTSTART:20261025T010000
END:STANDARD
BEGIN:DAYLIGHT
TZOFFSETFROM:+0100
TZOFFSETTO:+0200
TZNAME:CEST
DTSTART:20270328T010000
END:DAYLIGHT
BEGIN:STANDARD
TZOFFSETFROM:+0200
TZOFFSETTO:+0100
TZNAME:CET
DTSTART:20271031T010000
END:STANDARD
END:VTIMEZONE
BEGIN:VEVENT
DTSTART;TZID=Europe/Copenhagen:20260901T090000
DTEND;TZID=Europe/Copenhagen:20260901T110000
DTSTAMP:20260420T202627
CREATED:20260204T124617Z
LAST-MODIFIED:20260204T124907Z
UID:10000328-1788253200-1788260400@mer.dk
SUMMARY:AI for nybegyndere med Jens Elung Jensen
DESCRIPTION:Kom med på rejsen\, og lær om hvordan din hverdag kan blive betydeligt lettere med AI værktøjet\, Microsoft Copilot. \n  \nDenne workshop er for nybegyndere – dig der ikke har haft fingrene i AI før\, og som er nysgerrig på at komme i gang. \n  \nVi står overfor en digital revolution\, og vi har kun lige set begyndelsen af den forandring som AI vil medføre i vores hverdag. \n  \nKunne du tænke dig at få din PC til at skrive undertekster og lave referater af dine teams-møder? Hvad med at få den til at lave en opsummering af de vigtigste pointer i en pdf-fil på mange sider? Mulighederne er mange\, og du vil opleve\, at opgaver du før har brugt lang tid på vil kunne løses bedre og mere effektivt ved hjælp af AI. \n  \nJens Elung Jensen fra Erhvervshus Nordjylland har tilrettelagt en workshop\, hvor du vil opleve praktiske eksempler på\, hvordan AI vil ændre den måde\, vi har arbejdet på tidligere. I løbet af workshoppen får du mulighed for selv at arbejde med Microsoft Copilot\, hvis du medbringer din computer. \n  \nDet bliver en lærerig workshop\, som opdaterer din viden og dine færdigheder. Du kan godt glæde dig\, for det bliver både spændende og underholdende. \n 
URL:https://mer.dk/event/ai-for-nybegyndere/
LOCATION:Morsø Erhvervsråd\, Holgersgade 1\, Nykøbing M\, 7900\, Danmark
CATEGORIES:Værktøjskursus
ATTACH;FMTTYPE=image/png:https://mer.dk/wp-content/uploads/2026/02/AI-events.png
ORGANIZER;CN="Mors%C3%B8 Erhvervsr%C3%A5d":MAILTO:post@mer.dk
END:VEVENT
END:VCALENDAR