BEGIN:VCALENDAR
VERSION:2.0
PRODID:-//Morsø Erhvervsråd - ECPv6.15.14//NONSGML v1.0//EN
CALSCALE:GREGORIAN
METHOD:PUBLISH
X-WR-CALNAME:Morsø Erhvervsråd
X-ORIGINAL-URL:https://mer.dk
X-WR-CALDESC:Begivenheder for Morsø Erhvervsråd
REFRESH-INTERVAL;VALUE=DURATION:PT1H
X-Robots-Tag:noindex
X-PUBLISHED-TTL:PT1H
BEGIN:VTIMEZONE
TZID:Europe/Copenhagen
BEGIN:DAYLIGHT
TZOFFSETFROM:+0100
TZOFFSETTO:+0200
TZNAME:CEST
DTSTART:20240331T010000
END:DAYLIGHT
BEGIN:STANDARD
TZOFFSETFROM:+0200
TZOFFSETTO:+0100
TZNAME:CET
DTSTART:20241027T010000
END:STANDARD
BEGIN:DAYLIGHT
TZOFFSETFROM:+0100
TZOFFSETTO:+0200
TZNAME:CEST
DTSTART:20250330T010000
END:DAYLIGHT
BEGIN:STANDARD
TZOFFSETFROM:+0200
TZOFFSETTO:+0100
TZNAME:CET
DTSTART:20251026T010000
END:STANDARD
BEGIN:DAYLIGHT
TZOFFSETFROM:+0100
TZOFFSETTO:+0200
TZNAME:CEST
DTSTART:20260329T010000
END:DAYLIGHT
BEGIN:STANDARD
TZOFFSETFROM:+0200
TZOFFSETTO:+0100
TZNAME:CET
DTSTART:20261025T010000
END:STANDARD
END:VTIMEZONE
BEGIN:VEVENT
DTSTART;TZID=Europe/Copenhagen:20250903T083000
DTEND;TZID=Europe/Copenhagen:20250903T150000
DTSTAMP:20260423T085552
CREATED:20250709T115129Z
LAST-MODIFIED:20250808T083821Z
UID:10000264-1756888200-1756911600@mer.dk
SUMMARY:Ledelse med Vilje
DESCRIPTION:Morsø Erhvervsråd og Ledelse med Vilje har et enestående godt tilbud til dig\, som er ejerleder. \n  \nOnsdag 3. september har du mulighed for at give dig selv et ”tune-up” af dine ledelsesværktøjer. Ole Nielsen fra Ledelse med Vilje\, som rigtig mange oplevede til vores generalforsamling i år\, vil i løbet af dagen give dig nogle praktiske værktøjer til dig som ejerleder. Der vil både være fokus på forretningsdelen\, og på dig som leder. Ole har i mange år undervist på Ejerlederuddannelsen\, og har en meget dyb forståelse for de udfordringer der ligger i det at være ejerleder. Han har gennem årene hjulpet og inspireret mange virksomheder med ledertræning\, bestyrelsesarbejde og ledersparring. \n  \nDu kan læse mere om Ole her: LEDELSE MED VILJE \n  \nProgram: \n\n\n\n08.30\nMorgenmad\n\n\n09.00\nOpstart og præsentation\n\n\n9.30\nDel 1: Hvor og hvordan kan du rykke din forretning? \n\nHvilke mål har du for din forretning?\nHvordan kan du rykke din bundlinje i praksis?\nHvordan oplever dine kunder din forretning?\n\nPraktiske opgaver og indlæg\n\n\n12.00\nFrokost\n\n\n12.45\nDel 2: Hvor og hvordan kan du rykke dig selv? \n\nLivet som Ejerleder kan godt være anderledes\nHvor meget flaskehals er du?\nEr du god til at delegere?\nEr du god til at give ansvaret fra dig?\n\nPraktiske opgaver og indlæg \n  \nPræsentation af Ejerlederuddannelsen for Morsø Erhvervsråd\n\n\n15.00\nDagsafslutning\n\n\n\n  \nPris for deltagelse inklusive frokost: kr. 850\,- \n  \nTilmelding senest fredag 29. august i formularen nedenfor. Du får fremsendt en faktura\, som skal betales inden kurset starter.
URL:https://mer.dk/event/ledelse-med-vilje/
LOCATION:Morsø Erhvervsråd\, Holgersgade 1\, Nykøbing M\, 7900\, Danmark
CATEGORIES:Kursus
ATTACH;FMTTYPE=image/png:https://mer.dk/wp-content/uploads/2025/07/Ole-Ledelse-med-Vilje.png
ORGANIZER;CN="Mors%C3%B8 Erhvervsr%C3%A5d":MAILTO:post@mer.dk
END:VEVENT
END:VCALENDAR