BEGIN:VCALENDAR
VERSION:2.0
PRODID:-//Morsø Erhvervsråd - ECPv6.15.14//NONSGML v1.0//EN
CALSCALE:GREGORIAN
METHOD:PUBLISH
X-ORIGINAL-URL:https://mer.dk
X-WR-CALDESC:Begivenheder for Morsø Erhvervsråd
REFRESH-INTERVAL;VALUE=DURATION:PT1H
X-Robots-Tag:noindex
X-PUBLISHED-TTL:PT1H
BEGIN:VTIMEZONE
TZID:Europe/Copenhagen
BEGIN:DAYLIGHT
TZOFFSETFROM:+0100
TZOFFSETTO:+0200
TZNAME:CEST
DTSTART:20240331T010000
END:DAYLIGHT
BEGIN:STANDARD
TZOFFSETFROM:+0200
TZOFFSETTO:+0100
TZNAME:CET
DTSTART:20241027T010000
END:STANDARD
BEGIN:DAYLIGHT
TZOFFSETFROM:+0100
TZOFFSETTO:+0200
TZNAME:CEST
DTSTART:20250330T010000
END:DAYLIGHT
BEGIN:STANDARD
TZOFFSETFROM:+0200
TZOFFSETTO:+0100
TZNAME:CET
DTSTART:20251026T010000
END:STANDARD
BEGIN:DAYLIGHT
TZOFFSETFROM:+0100
TZOFFSETTO:+0200
TZNAME:CEST
DTSTART:20260329T010000
END:DAYLIGHT
BEGIN:STANDARD
TZOFFSETFROM:+0200
TZOFFSETTO:+0100
TZNAME:CET
DTSTART:20261025T010000
END:STANDARD
END:VTIMEZONE
BEGIN:VEVENT
DTSTART;TZID=Europe/Copenhagen:20250924T080000
DTEND;TZID=Europe/Copenhagen:20250924T100000
DTSTAMP:20260423T021136
CREATED:20250422T101508Z
LAST-MODIFIED:20250819T090210Z
UID:10000236-1758700800-1758708000@mer.dk
SUMMARY:Business Breakfast med Morsø Erhvervsråd hos Røntveds
DESCRIPTION:Kom med på VirksomhedsVandring med Morsø Erhvervsråd. Et nyt koncept vi søsatte i 2024\, som skal understøtte vores strategi og fokus på Morsø Erhvervsråd som et stærkt erhvervsfællesskab på Mors. Kært barn har mange navne\, så hvis du kender åbent hus\, business breakfast\, morgenbriefing eller lignende\, så taler vi ca. samme sprog. \n  \nVi vil gerne være med til at vise vores medlemsvirksomheder frem som en form for ”markvandring” eller åbent hus\, hvor vi øger kendskabet til øens virksomheder\, får en kop kaffe\, en rundvisning\, et indblik i virksomheden og en god snak med hinanden i “marken”. \n  \nDenne gang besøger vi Røntveds i Øster Jølby\, hvor vi vil få en rundvisning samt en fortælling om virksomheden. \n  \nOm Rønveds: \n\n\n\nGitte og Michael Røntveds har gjort deres store passion; kunsthåndværk med tryk på håndværk\, til deres levevej. De er blandt de få uddannede stenhuggere der er tilbage i landet\, og har begge mere end 30 års erfaring. Det er derfor ikke uden grund\, at deres små og store skulpturer i materialerne granit\, bronze\, glas og keramik\, er kendte over hele landet.  \nPå samme adresse som galleriet\, finder du den eventyrlige skulpturhave\, som er åben fra maj til august. Haven  er i konstant forandring og vel nærmest en blanding af en skovhave\, en engelsk staudehave og noget svensk sommerhushygge. \n\n\n\n  \nSå snør vandrestøvlerne og tag med Morsø Erhvervsråd på VirksomhedsVandring hos Røntveds. Vi glæder os.
URL:https://mer.dk/event/business-breakfast-med-morsoe-erhvervsraad-hos-roentveds/
LOCATION:Røntveds\, Halvvej 5\, Erslev\, Øster Jølby\, 7950
CATEGORIES:Arrangementer,Medlemsfordel
ATTACH;FMTTYPE=image/png:https://mer.dk/wp-content/uploads/2024/10/Business-Breakfast.png
ORGANIZER;CN="Mors%C3%B8 Erhvervsr%C3%A5d":MAILTO:post@mer.dk
END:VEVENT
END:VCALENDAR