BEGIN:VCALENDAR
VERSION:2.0
PRODID:-//Morsø Erhvervsråd - ECPv6.15.14//NONSGML v1.0//EN
CALSCALE:GREGORIAN
METHOD:PUBLISH
X-ORIGINAL-URL:https://mer.dk
X-WR-CALDESC:Begivenheder for Morsø Erhvervsråd
REFRESH-INTERVAL;VALUE=DURATION:PT1H
X-Robots-Tag:noindex
X-PUBLISHED-TTL:PT1H
BEGIN:VTIMEZONE
TZID:Europe/Copenhagen
BEGIN:DAYLIGHT
TZOFFSETFROM:+0100
TZOFFSETTO:+0200
TZNAME:CEST
DTSTART:20250330T010000
END:DAYLIGHT
BEGIN:STANDARD
TZOFFSETFROM:+0200
TZOFFSETTO:+0100
TZNAME:CET
DTSTART:20251026T010000
END:STANDARD
BEGIN:DAYLIGHT
TZOFFSETFROM:+0100
TZOFFSETTO:+0200
TZNAME:CEST
DTSTART:20260329T010000
END:DAYLIGHT
BEGIN:STANDARD
TZOFFSETFROM:+0200
TZOFFSETTO:+0100
TZNAME:CET
DTSTART:20261025T010000
END:STANDARD
BEGIN:DAYLIGHT
TZOFFSETFROM:+0100
TZOFFSETTO:+0200
TZNAME:CEST
DTSTART:20270328T010000
END:DAYLIGHT
BEGIN:STANDARD
TZOFFSETFROM:+0200
TZOFFSETTO:+0100
TZNAME:CET
DTSTART:20271031T010000
END:STANDARD
END:VTIMEZONE
BEGIN:VEVENT
DTSTART;TZID=Europe/Copenhagen:20260317T170000
DTEND;TZID=Europe/Copenhagen:20260317T210000
DTSTAMP:20260421T195510
CREATED:20250520T100450Z
LAST-MODIFIED:20260316T085035Z
UID:10000252-1773766800-1773781200@mer.dk
SUMMARY:Ordinær Generalforsamling hos Morsø Erhvervsråd
DESCRIPTION:Bestyrelsen og de ansatte ved Morsø Erhvervsråd\, inviterer medlemmerne til ordinær generalforsamling. \nIgen i år har vi valgt at begynde aftenen med et par indlæg om et aktuelt tema for erhvervslivet. Temaet i år er FREMTIDEN. Vi har inviteret fremtidsforsker\, Anne Skare Nielsen til at fyre fremtids-raketten af 🚀 \n1. del med indlæg er for ALLE\, mens 2. del med middag og den ordinære generalforsamling KUN ER FOR MEDLEMMER af Morsø Erhvervsråd. \n  \nProgram: \n\nVelkomst\nIndlæg  \n\nAnne Skare Nielsen\, Universal Futurist\nIan Marko Fog\, Mors Thy Håndbold\n\n\n\n\nMiddag og netværk\nOrdinær generalforsamling – Tage Odgaard Nielsen\, bestyrelsesformand\, Morsø Erhvervsråd\n\nValg af dirigent\nFormanden fremlægger årsberetning 2025\nFremlæggelse og godkendelse af regnskab\nFremlæggelse af budget og kontingent\nBehandling af indkommende forslag\nValg af bestyrelsesmedlemmer og suppleanter\nValg af revisor\nEventuelt\n\n\nOverrækkelse af Erhvervsrådets priser\n\nDen Gyldne Musling\nDen Gyldne Østers\n\n\nFejring af Årets Gazeller 2025\n\n\n\n\n\nTak for i aften\n\n  \nForslag\, kandidatur og priser \nMedlemsforslag der ønskes behandlet på generalforsamlingen\, skal fremsendes skriftligt senest den 2. marts 2026 på mail: post@mer.dk \nØnsker du at tilkendegive dit kandidatur eller indstille en kandidat på valg til bestyrelsen\, kan forslagene indsendes på mail post@mer.dk – det er muligt at opstille som kandidat på selve generalforsamlingen. \nHar du en kandidat\, som du ønsker at indstille til en af Erhvervsrådets 2 priser\, så send dit forslag senest den 15. februar 2026 på mail post@mer.dk \n  \nDEN GYLDNE MUSLING – IVÆRKSÆTTERPRISEN\nPrisen gives til en iværksætter\, som har været på en usædvanlig rejse\, har opnået succes og som er en god ambassadør for Mors. \n  \nDEN GYLDNE ØSTERS – INITIATIVPRISEN\nPrisen gives til en virksomhed\, som har været på en usædvanlig rejse\, har opnået succes og som er en god ambassadør for Mors samtidig med at virksomheden har ydet en særlig indsats for erhvervslivet på Mors. \n  \nTilmeldingsfrist fredag den 13. marts \nFor at opnå stemmeret på generalforsamlingen\, kræves et indbetalt kontingent for medlemskab 2025 – senest den 12. marts 2026. \nAf hensyn til middagen er tilmelding til generalforsamlingen nødvendigt (max. 2 personer pr. virksomhed) – seneste fredag den 13. marts 2026 kl. 12.00.
URL:https://mer.dk/event/ordinaer-generalforsamling-hos-morsoe-erhvervsraad-4/
LOCATION:Midtmors Sport\, Poulsen Dalsvej 12\, Erslev\, Øster Jølby\, 7950\, Danmark
CATEGORIES:Arrangementer,Medlemsfordel
ATTACH;FMTTYPE=image/jpeg:https://mer.dk/wp-content/uploads/2025/04/image00010-scaled.jpeg
ORGANIZER;CN="Mors%C3%B8 Erhvervsr%C3%A5d":MAILTO:post@mer.dk
END:VEVENT
BEGIN:VEVENT
DTSTART;TZID=Europe/Copenhagen:20260324T081500
DTEND;TZID=Europe/Copenhagen:20260324T093000
DTSTAMP:20260421T195510
CREATED:20260302T120656Z
LAST-MODIFIED:20260303T064205Z
UID:10000332-1774340100-1774344600@mer.dk
SUMMARY:Morgenmøde: "SEO & Synlighed i 2026: Bliver jeres hjemmeside fundet – eller overset?" med Maibritt Rittermann
DESCRIPTION:SEO & Synlighed i 2026: Bliver jeres hjemmeside fundet – eller overset? \nMange virksomhedsejere oplever\, at deres hjemmeside mest af alt fungerer som et online visitkort\, der er svært at finde\, medmindre man kender virksomhedens navn i forvejen. Men hvordan bliver din side til den som Google og de nye AI-tjenester foreslår\, når kunden søger efter dine ydelser? \nKom til morgenmøde og få en jordnær gennemgang af\, hvordan du med få\, strategiske greb kan gøre din hjemmeside mere synlig og brugervenlig. \nHvad får du ud af at deltage? Jeg skærer igennem de tekniske fagudtryk og giver dig konkrete svar på: \n\nHastighed er god kundeservice: Vi ser på\, hvorfor en hurtig hjemmeside er afgørende for\, om kunden bliver hængende – og hvordan det booster din placering på Google.\nBliv klar til fremtidens søgninger: En kort introduktion til\, hvordan du gør dit indhold nemt at forstå for både Google og de nye AI-assistenter (som ChatGPT).\n3 ting du selv kan gøre i dag: Du får en enkel tjekliste til at forbedre din sides synlighed uden at skulle røre en eneste linje kode.\nUndgå de tekniske fælder: Hvordan du vælger de rigtige løsninger (og temaer)\, så din hjemmeside er nem at vedligeholde og ikke ender som en dyr\, langsom flaskehals.\n\nOplægget er til dig\, der ønsker at din hjemmeside rent faktisk bliver fundet\, uden at du selv behøver at være it-ekspert. \nOplægsholder: Maibritt Rittermann. Jeg hjælper virksomheder med at bygge og optimere hjemmesider\, der er til at forstå – både for ejeren\, de besøgende og for søgemaskinerne.
URL:https://mer.dk/event/morgenmoede-seo-synlighed-i-2026-bliver-jeres-hjemmeside-fundet-eller-overset-med-maibritt-rittermann/
LOCATION:Sparekassen Danmark\, Algade 28\, Nykøbing Mors\, 7900\, Danmark
CATEGORIES:Arrangementer,Medlemsfordel
ATTACH;FMTTYPE=image/png:https://mer.dk/wp-content/uploads/2026/03/Maibritt-Rittermann.png
ORGANIZER;CN="Mors%C3%B8 Erhvervsr%C3%A5d":MAILTO:post@mer.dk
END:VEVENT
END:VCALENDAR