BEGIN:VCALENDAR
VERSION:2.0
PRODID:-//Morsø Erhvervsråd - ECPv6.15.14//NONSGML v1.0//EN
CALSCALE:GREGORIAN
METHOD:PUBLISH
X-ORIGINAL-URL:https://mer.dk
X-WR-CALDESC:Begivenheder for Morsø Erhvervsråd
REFRESH-INTERVAL;VALUE=DURATION:PT1H
X-Robots-Tag:noindex
X-PUBLISHED-TTL:PT1H
BEGIN:VTIMEZONE
TZID:Europe/Copenhagen
BEGIN:DAYLIGHT
TZOFFSETFROM:+0100
TZOFFSETTO:+0200
TZNAME:CEST
DTSTART:20240331T010000
END:DAYLIGHT
BEGIN:STANDARD
TZOFFSETFROM:+0200
TZOFFSETTO:+0100
TZNAME:CET
DTSTART:20241027T010000
END:STANDARD
BEGIN:DAYLIGHT
TZOFFSETFROM:+0100
TZOFFSETTO:+0200
TZNAME:CEST
DTSTART:20250330T010000
END:DAYLIGHT
BEGIN:STANDARD
TZOFFSETFROM:+0200
TZOFFSETTO:+0100
TZNAME:CET
DTSTART:20251026T010000
END:STANDARD
BEGIN:DAYLIGHT
TZOFFSETFROM:+0100
TZOFFSETTO:+0200
TZNAME:CEST
DTSTART:20260329T010000
END:DAYLIGHT
BEGIN:STANDARD
TZOFFSETFROM:+0200
TZOFFSETTO:+0100
TZNAME:CET
DTSTART:20261025T010000
END:STANDARD
END:VTIMEZONE
BEGIN:VEVENT
DTSTART;TZID=Europe/Copenhagen:20251202T120000
DTEND;TZID=Europe/Copenhagen:20251202T150000
DTSTAMP:20260421T015625
CREATED:20250514T090145Z
LAST-MODIFIED:20250514T092605Z
UID:10000250-1764676800-1764687600@mer.dk
SUMMARY:Netværksmøde i Lærlinge- og elevnetværket
DESCRIPTION:Netværksmøde #5 – Tirsdag den 2. december 2025 kl. 12.00 \n  \n📍 Jysk Elteknik\nJuleafslutning og virksomhedsbesøg hos Jysk Elteknik. Vi runder året af med et spændende besøg\, god mad og julehygge. En oplagt mulighed for at styrke relationerne i netværket inden juleferien. \nJysk Elteknik har et meget imponerende og inspirerende fokus på deres elever og lærlinge\, i form af deres helt eget talentprogram.  Det og meget andet i Jysk Elteknik dykker vi ned i\, her på årets sidste netværksmøde. \nNetværket er for alle elever og lærlinge på Mors\, hvis du også ønsker at være med eller har en elev eller lærling til netværket\, så kontakt Lars Fjordbak Gehlert: lfg@mer.dk eller tlf. 3020 1105
URL:https://mer.dk/event/netvaerksmoede-i-laerlinge-og-elevnetvaerket-5/
LOCATION:Jysk Elteknik\, Soltoften 10\, Nykøbing Mors\, 7900\, Danmark
CATEGORIES:Netværk
ATTACH;FMTTYPE=image/png:https://mer.dk/wp-content/uploads/2025/03/Laerlinge-og-elevnetvaerket.png
ORGANIZER;CN="Mors%C3%B8 Erhvervsr%C3%A5d":MAILTO:post@mer.dk
END:VEVENT
BEGIN:VEVENT
DTSTART;TZID=Europe/Copenhagen:20251202T120000
DTEND;TZID=Europe/Copenhagen:20251202T160000
DTSTAMP:20260421T015625
CREATED:20241107T114324Z
LAST-MODIFIED:20251117T064514Z
UID:10000194-1764676800-1764691200@mer.dk
SUMMARY:Netværksmøde i Klimanetværket
DESCRIPTION:Morsø Erhvervsråds Klimanetværk er udsprunget af vores “Bliv Klima-Parat” forløb på 5 moduler\, som kørte fra september til november 2023\, hvor ca. 20 lokale virksomheder var repræsenteret. \nDanske virksomheder skal bidrage til at realisere målet om at reducere CO2 aftrykket med 70% inden 2030 og konkret indeholder Morsø Kommunes klimahandlingsplan en vision om en klimaneutral industri- og erhverv på Mors i 2030. \nMorsø Erhvervsråds Klimanetværk har til formål at samle virksomheder\, organisationer og interessenter på Mors med henblik på at inspirere og fremme bæredygtige løsninger og grøn omstilling i erhvervslivet – og dermed reducere klimaaftrykket. \n  \nProgram for netværksmødet: \nKl. 12 – Sandwich og velkomst \nKl. 12.30 – Generel præsentation af klimanetværket ved Erik og Susanne \nKl. 13 – KlimaNyheder ved Erik \nKl. 13.45 – Pause \nKl. 14 – VANA \nKl. 15.30 – Opsamling og Afslutning \n  \nDeltagelse i Morsø Erhvervsråds Klimanetværk koster 5.000\,- ekskl. moms årligt for op til 2 personer fra samme virksomhed.\nDet er en forudsætning\, at du er medlem af Morsø Erhvervsråd for at deltage i Klimanetværket. Ved interesse\, kontakt Susanne Toftegaard Hansen: sth@mer.dk
URL:https://mer.dk/event/netvaerksmoede-i-klimanetvaerket-7/
LOCATION:Morsø Erhvervsråd\, Holgersgade 1\, Nykøbing M\, 7900\, Danmark
CATEGORIES:Netværk
ATTACH;FMTTYPE=image/png:https://mer.dk/wp-content/uploads/2024/02/Klimanetvaerk.png
ORGANIZER;CN="Mors%C3%B8 Erhvervsr%C3%A5d":MAILTO:post@mer.dk
END:VEVENT
BEGIN:VEVENT
DTSTART;TZID=Europe/Copenhagen:20251202T120000
DTEND;TZID=Europe/Copenhagen:20251202T160000
DTSTAMP:20260421T015625
CREATED:20251119T133536Z
LAST-MODIFIED:20251201T123402Z
UID:10000287-1764676800-1764691200@mer.dk
SUMMARY:Udvidet producentansvar for emballage
DESCRIPTION:Dette arrangement er i regi af Morsø Erhvervsråds Klimanetværk\, men dette er åbent for alle. \n  \nDen nye lov om udvidet producentansvar for emballage er trådt i kraft – og kravene er omfattende\, så derfor har vi inviteret Peter Riemer fra VANA til at give os et kig ind i den nye lovgivning. \n  \nArrangementet er som sagt en del af Morsø Erhvervsråds Klimanetværk\, som har til formål at samle virksomheder\, organisationer og interessenter på Mors med henblik på at inspirere og fremme bæredygtige løsninger og grøn omstilling i erhvervslivet – og dermed reducere klimaaftrykket. Det kan du også høre mere om til dette event. \n  \nProgram: \nKl. 12 – Sandwich og velkomst \nKl. 12.30 – Generel præsentation af klimanetværket ved Erik og Susanne \nKl. 13 – KlimaNyheder ved Erik \nKl. 13.45 – Pause \nKl. 14 – VANA \nHør Peter Riemer fra VANA give en skarp gennemgang af: \n\nHvad loven betyder for din virksomhed\nHvordan du undgår unødige gebyrer\nStrategier for emballagedesign\n\nKl. 15.30 – Opsamling og Afslutning \n  \nDeltagelse i Morsø Erhvervsråds Klimanetværk koster 5.000\,- ekskl. moms årligt for op til 2 personer fra samme virksomhed.\nDet er en forudsætning\, at du er medlem af Morsø Erhvervsråd for at deltage i Klimanetværket. Ved interesse\, kontakt Susanne Toftegaard Hansen: sth@mer.dk
URL:https://mer.dk/event/udvidet-producentansvar-for-emballage/
LOCATION:Morsø Erhvervsråd\, Holgersgade 1\, Nykøbing M\, 7900\, Danmark
CATEGORIES:Arrangementer,Netværk
ATTACH;FMTTYPE=image/png:https://mer.dk/wp-content/uploads/2025/06/Skaermbillede-2025-06-11-131835.png
END:VEVENT
BEGIN:VEVENT
DTSTART;TZID=Europe/Copenhagen:20251208T080000
DTEND;TZID=Europe/Copenhagen:20251208T095000
DTSTAMP:20260421T015625
CREATED:20241017T131657Z
LAST-MODIFIED:20241017T132733Z
UID:10000166-1765180800-1765187400@mer.dk
SUMMARY:Netværksmøde for markedsføringsnetværket
DESCRIPTION:Morsø Erhvervsråd inviterer til møde i markedsføringsnetværket. Denne gang kigger vi på markedsføringsplaner for 2026. \n  \nDagsorden: \n\nVelkommen\nMarkedsføringsplaner for 2026 med oplæg fra deltagerne\nTema og dato for næste møde\nÅrsplan for møderne i 2026\nTak for i dag\n\n  \nNetværket er åbent for flere medlemmer. Ved interesse kontakt venligst Lea Frederikke Mommer på lfm@mer.dk \n  \nFormålet er at få skabt et fortroligt netværk\, hvor medlemmerne kan vende og dele faglige udfordringer/problemstillinger i et tillidsfuldt rum. Som medlem forventes det\, at man er villig til at dele sine erfaringer\, udfordringer\, tips og tricks med hinanden.
URL:https://mer.dk/event/netvaerksmoede-for-markedsfoeringsnetvaerket-11/
LOCATION:Morsø Erhvervsråd\, Holgersgade 1\, Nykøbing M\, 7900\, Danmark
CATEGORIES:Netværk
ATTACH;FMTTYPE=image/png:https://mer.dk/wp-content/uploads/2023/10/Markedsfoeringsnetvaerket.png
ORGANIZER;CN="Mors%C3%B8 Erhvervsr%C3%A5d":MAILTO:post@mer.dk
END:VEVENT
END:VCALENDAR