BEGIN:VCALENDAR
VERSION:2.0
PRODID:-//Morsø Erhvervsråd - ECPv6.15.14//NONSGML v1.0//EN
CALSCALE:GREGORIAN
METHOD:PUBLISH
X-ORIGINAL-URL:https://mer.dk
X-WR-CALDESC:Begivenheder for Morsø Erhvervsråd
REFRESH-INTERVAL;VALUE=DURATION:PT1H
X-Robots-Tag:noindex
X-PUBLISHED-TTL:PT1H
BEGIN:VTIMEZONE
TZID:Europe/Copenhagen
BEGIN:DAYLIGHT
TZOFFSETFROM:+0100
TZOFFSETTO:+0200
TZNAME:CEST
DTSTART:20250330T010000
END:DAYLIGHT
BEGIN:STANDARD
TZOFFSETFROM:+0200
TZOFFSETTO:+0100
TZNAME:CET
DTSTART:20251026T010000
END:STANDARD
BEGIN:DAYLIGHT
TZOFFSETFROM:+0100
TZOFFSETTO:+0200
TZNAME:CEST
DTSTART:20260329T010000
END:DAYLIGHT
BEGIN:STANDARD
TZOFFSETFROM:+0200
TZOFFSETTO:+0100
TZNAME:CET
DTSTART:20261025T010000
END:STANDARD
BEGIN:DAYLIGHT
TZOFFSETFROM:+0100
TZOFFSETTO:+0200
TZNAME:CEST
DTSTART:20270328T010000
END:DAYLIGHT
BEGIN:STANDARD
TZOFFSETFROM:+0200
TZOFFSETTO:+0100
TZNAME:CET
DTSTART:20271031T010000
END:STANDARD
END:VTIMEZONE
BEGIN:VEVENT
DTSTART;TZID=Europe/Copenhagen:20260309T160000
DTEND;TZID=Europe/Copenhagen:20260309T180000
DTSTAMP:20260420T211052
CREATED:20260113T115933Z
LAST-MODIFIED:20260213T150424Z
UID:10000305-1773072000-1773079200@mer.dk
SUMMARY:Iværksættercafé
DESCRIPTION:Iværksættercaféen er et gratis tilbud til alle iværksættere og før-startere fra Morsø Kommune \nKom og netværk med andre unge iværksættere og nystartede virksomheder – og få input\, der kan tage din idé til næste niveau! \nDet får du ved at deltage: \n\nInspiration og viden\nUdvid dit netværk\nFå en dialog med erhvervsrådets konsulenter\nStille spørgsmål til en rådgiver\nMøder andre iværksættere på Mors\nFortælle andre om din ide\nFå feedback med det samme\nUdvikle din forretningside\n\n  \nProgram:   \n16.00: Caféen åbner \nFå hjælp til aktuelle emner\, du går og tænker på lige nu. \nVi tager en dialog rundt om bordet for at høre om din ide eller din virksomhed. \n  \n16.30: Mød en iværksætter – Info følger \n  \n17.00: Dagens tema – Kortere vej fra idé til implementering \nHelle Schrøder\, Erhvervshus Nordjylland deler sin ekspertise i forretningsudvikling: Sådan benytter du økosystemet: Midlerne\, eksperterne og næste skridt \n  \n18.00: Caféen lukker \n  \nTilmelding \nDeltagelse er gratis\, men tilmelding er nødvendig nedenfor. \nHvis du har spørgsmål\, er du velkommen til at kontakte Lars Fjordbak Gehlert på lfg@mer.dk eller Jens Vinther Christensen på jvc@mer.dk
URL:https://mer.dk/event/ivaerksaettercafe-14/
LOCATION:Morsø Erhvervsråd\, Holgersgade 1\, Nykøbing M\, 7900\, Danmark
CATEGORIES:Netværk
ATTACH;FMTTYPE=image/jpeg:https://mer.dk/wp-content/uploads/2022/11/Ivaerksaettercafeen-e1675932540651.jpg
ORGANIZER;CN="Mors%C3%B8 Erhvervsr%C3%A5d":MAILTO:post@mer.dk
END:VEVENT
BEGIN:VEVENT
DTSTART;TZID=Europe/Copenhagen:20260310T120000
DTEND;TZID=Europe/Copenhagen:20260310T160000
DTSTAMP:20260420T211052
CREATED:20260119T094745Z
LAST-MODIFIED:20260119T095507Z
UID:10000315-1773144000-1773158400@mer.dk
SUMMARY:Netværksmøde i Lærlinge- og elevnetværket
DESCRIPTION:Frokost & bowling i Jesperhus\nVi skyder året i gang med et socialt arrangement i Jesperhus! Erhvervskonsulent Lars Fjordbak Gehlert er tilbage fra barsel\, derfor starter vi først i marts.\nNyd en lækker frokost\, hyggelig bowling og godt selskab i lærlinge- og elevnetværket – kom og vær med til en sjov eftermiddag! \nNetværket er for alle elever og lærlinge på Mors\, hvis du også ønsker at være med eller har en elev eller lærling til netværket\, så kontakt Lars Fjordbak Gehlert: lfg@mer.dk eller tlf. 3020 1105
URL:https://mer.dk/event/netvaerksmoede-i-laerlinge-og-elevnetvaerket-6/
LOCATION:Jesperhus\, Legindvej 30\, Nykøbing Mors\, 7900\, Danmark
CATEGORIES:Netværk
ATTACH;FMTTYPE=image/png:https://mer.dk/wp-content/uploads/2025/03/Laerlinge-og-elevnetvaerket.png
ORGANIZER;CN="Mors%C3%B8 Erhvervsr%C3%A5d":MAILTO:post@mer.dk
END:VEVENT
BEGIN:VEVENT
DTSTART;TZID=Europe/Copenhagen:20260325T120000
DTEND;TZID=Europe/Copenhagen:20260325T160000
DTSTAMP:20260420T211052
CREATED:20251119T100423Z
LAST-MODIFIED:20260304T073703Z
UID:10000283-1774440000-1774454400@mer.dk
SUMMARY:Studietur Fossflakes A/S  med Klimanetværket - alle er velkomne til at tilmelde sig
DESCRIPTION:Morsø Erhvervsråds Klimanetværk er udsprunget af vores “Bliv Klima-Parat” forløb på 5 moduler\, som kørte fra september til november 2023\, hvor ca. 20 lokale virksomheder var repræsenteret. \nDanske virksomheder skal bidrage til at realisere målet om at reducere CO2 aftrykket med 70% inden 2030 og konkret indeholder Morsø Kommunes klimahandlingsplan en vision om en klimaneutral industri- og erhverv på Mors i 2030. \nMorsø Erhvervsråds Klimanetværk har til formål at samle virksomheder\, organisationer og interessenter på Mors med henblik på at inspirere og fremme bæredygtige løsninger og grøn omstilling i erhvervslivet – og dermed reducere klimaaftrykket. \n  \nPROGRAM FOR DETTE NETVÆRKSMØDE: \nStudietur til Fossflakes A/S: \nFossflakes arbejder målrettet med at reducere deres miljøaftryk gennem hele værdikæden. De har gennemført livscyklus-analyser\, som viser\, at deres puder har markant lavere miljøbelastning end dunalternativer i størstedelen af de målte kategorier. Virksomheden skifter gradvist til mere ansvarlige materialer\, herunder Better Cotton og genanvendt fyld og emballage\, og deres produktion kører allerede på 100 % grøn elektricitet med meget lavt ressourcespild\, hvor 98\,6 % af råmaterialerne udnyttes i de færdige produkter. Derudover arbejder de aktivt med etisk ansvarlighed i leverandørkæden og har modtaget anerkendelse lokalt for deres grønne indsats\, bl.a. Årets Bæredygtighedspris ved Skive Business Awards i 2026. Forhåbentlig kan besøget fungere som god inspiration for Klimanetværket. \n  \nProgram: \n\n12.00 Frokost\n12.30 Fælles kørsel\n13.00 Besøg hos FossFlakes\n\n\n\n\nVelkomst\nGennemgang af bæredygtighedsprogram\nRundvisning\nSpørgsmål og diskussion\n\n\n\n\n15.00 Fælles kørsel til Holgersgade 1\, Nykøbing Mors\n\n  \nDeltagelse i Morsø Erhvervsråds Klimanetværk koster 5.000\,- ekskl. moms årligt for op til 2 personer fra samme virksomhed. Dette event er dog åbent for alle – også ikke-medlemmer af Klimanetværket.\nVed interesse\, kontakt Erik Wind: ew@mer.dk – 2534 5925 eller Susanne Toftegaard Hansen: sth@mer.dk
URL:https://mer.dk/event/netvaerksmoede-i-klimanetvaerket-9/
LOCATION:Morsø Erhvervsråd\, Holgersgade 1\, Nykøbing M\, 7900\, Danmark
CATEGORIES:Netværk
ATTACH;FMTTYPE=image/png:https://mer.dk/wp-content/uploads/2025/06/Klimanetvaerk2.png
END:VEVENT
END:VCALENDAR