BEGIN:VCALENDAR
VERSION:2.0
PRODID:-//Morsø Erhvervsråd - ECPv6.15.14//NONSGML v1.0//EN
CALSCALE:GREGORIAN
METHOD:PUBLISH
X-WR-CALNAME:Morsø Erhvervsråd
X-ORIGINAL-URL:https://mer.dk
X-WR-CALDESC:Begivenheder for Morsø Erhvervsråd
REFRESH-INTERVAL;VALUE=DURATION:PT1H
X-Robots-Tag:noindex
X-PUBLISHED-TTL:PT1H
BEGIN:VTIMEZONE
TZID:Europe/Copenhagen
BEGIN:DAYLIGHT
TZOFFSETFROM:+0100
TZOFFSETTO:+0200
TZNAME:CEST
DTSTART:20250330T010000
END:DAYLIGHT
BEGIN:STANDARD
TZOFFSETFROM:+0200
TZOFFSETTO:+0100
TZNAME:CET
DTSTART:20251026T010000
END:STANDARD
BEGIN:DAYLIGHT
TZOFFSETFROM:+0100
TZOFFSETTO:+0200
TZNAME:CEST
DTSTART:20260329T010000
END:DAYLIGHT
BEGIN:STANDARD
TZOFFSETFROM:+0200
TZOFFSETTO:+0100
TZNAME:CET
DTSTART:20261025T010000
END:STANDARD
BEGIN:DAYLIGHT
TZOFFSETFROM:+0100
TZOFFSETTO:+0200
TZNAME:CEST
DTSTART:20270328T010000
END:DAYLIGHT
BEGIN:STANDARD
TZOFFSETFROM:+0200
TZOFFSETTO:+0100
TZNAME:CET
DTSTART:20271031T010000
END:STANDARD
END:VTIMEZONE
BEGIN:VEVENT
DTSTART;TZID=Europe/Copenhagen:20260421T080000
DTEND;TZID=Europe/Copenhagen:20260421T100000
DTSTAMP:20260420T211028
CREATED:20250917T121855Z
LAST-MODIFIED:20250917T131402Z
UID:10000270-1776758400-1776765600@mer.dk
SUMMARY:Business Breakfast med Morsø Erhvervsråd hos Krone Kapital
DESCRIPTION:Kom med på VirksomhedsVandring med Morsø Erhvervsråd. Et nyt koncept vi søsatte i 2024\, som skal understøtte vores strategi og fokus på Morsø Erhvervsråd som et stærkt erhvervsfællesskab på Mors. Kært barn har mange navne\, så hvis du kender åbent hus\, business breakfast\, morgenbriefing eller lignende\, så taler vi ca. samme sprog. \n  \nVi vil gerne være med til at vise vores medlemsvirksomheder frem som en form for ”markvandring” eller åbent hus\, hvor vi øger kendskabet til øens virksomheder\, får en kop kaffe\, en rundvisning\, et indblik i virksomheden og en god snak med hinanden i “marken”. \n  \nDenne gang besøger vi Krone Kapital i Nykøbing\, hvor vi vil få en rundvisning samt en fortælling om virksomheden. \n  \nKrone Kapital fortæller: \n\n\n\nKrone Kapital arbejder med leasing i tæt samarbejde med landets banker og bilforhandlere. De hjælper virksomheder med at lease alt fra biler og varevogne til maskiner og udstyr – altid med fokus på at skabe fleksible løsninger\, der giver værdi i hverdagen. \nVi glæder os til at byde jer velkommen\, vise jer rundt i vores lokaler og give et indblik i\, hvem vi er\, og hvordan vi arbejder. \n  \n\n\n\nSå snør vandrestøvlerne og tag med Morsø Erhvervsråd på VirksomhedsVandring hos Krone Kapital. Vi glæder os.
URL:https://mer.dk/event/business-breakfast-med-morsoe-erhvervsraad-hos-krone-kapital/
LOCATION:Krone Kapital\, Jernbanevej 16\, Nykøbing Mors\, 7900\, Danmark
CATEGORIES:Arrangementer,Medlemsfordel,Netværk
ATTACH;FMTTYPE=image/png:https://mer.dk/wp-content/uploads/2024/10/Business-Breakfast.png
ORGANIZER;CN="Mors%C3%B8 Erhvervsr%C3%A5d":MAILTO:post@mer.dk
END:VEVENT
END:VCALENDAR