BEGIN:VCALENDAR
VERSION:2.0
PRODID:-//Morsø Erhvervsråd - ECPv6.15.14//NONSGML v1.0//EN
CALSCALE:GREGORIAN
METHOD:PUBLISH
X-WR-CALNAME:Morsø Erhvervsråd
X-ORIGINAL-URL:https://mer.dk
X-WR-CALDESC:Begivenheder for Morsø Erhvervsråd
REFRESH-INTERVAL;VALUE=DURATION:PT1H
X-Robots-Tag:noindex
X-PUBLISHED-TTL:PT1H
BEGIN:VTIMEZONE
TZID:Europe/Copenhagen
BEGIN:DAYLIGHT
TZOFFSETFROM:+0100
TZOFFSETTO:+0200
TZNAME:CEST
DTSTART:20250330T010000
END:DAYLIGHT
BEGIN:STANDARD
TZOFFSETFROM:+0200
TZOFFSETTO:+0100
TZNAME:CET
DTSTART:20251026T010000
END:STANDARD
BEGIN:DAYLIGHT
TZOFFSETFROM:+0100
TZOFFSETTO:+0200
TZNAME:CEST
DTSTART:20260329T010000
END:DAYLIGHT
BEGIN:STANDARD
TZOFFSETFROM:+0200
TZOFFSETTO:+0100
TZNAME:CET
DTSTART:20261025T010000
END:STANDARD
BEGIN:DAYLIGHT
TZOFFSETFROM:+0100
TZOFFSETTO:+0200
TZNAME:CEST
DTSTART:20270328T010000
END:DAYLIGHT
BEGIN:STANDARD
TZOFFSETFROM:+0200
TZOFFSETTO:+0100
TZNAME:CET
DTSTART:20271031T010000
END:STANDARD
END:VTIMEZONE
BEGIN:VEVENT
DTSTART;TZID=Europe/Copenhagen:20261005T080000
DTEND;TZID=Europe/Copenhagen:20261005T100000
DTSTAMP:20260420T192940
CREATED:20260119T092904Z
LAST-MODIFIED:20260119T092904Z
UID:10000313-1791187200-1791194400@mer.dk
SUMMARY:Netværksmøde i Markedsføringsnetværket
DESCRIPTION:Morsø Erhvervsråd inviterer til møde i markedsføringsnetværket. \n  \nNetværket er åbent for flere medlemmer. Ved interesse kontakt venligst Lea Frederikke Mommer på lfm@mer.dk \n  \nFormålet er at få skabt et fortroligt netværk\, hvor medlemmerne kan vende og dele faglige udfordringer/problemstillinger i et tillidsfuldt rum. Som medlem forventes det\, at man er villig til at dele sine erfaringer\, udfordringer\, tips og tricks med hinanden.
URL:https://mer.dk/event/netvaerksmoede-i-markedsfoeringsnetvaerket-5/
LOCATION:Morsø Erhvervsråd\, Holgersgade 1\, Nykøbing M\, 7900\, Danmark
CATEGORIES:Netværk
ATTACH;FMTTYPE=image/png:https://mer.dk/wp-content/uploads/2023/10/Markedsfoeringsnetvaerket.png
ORGANIZER;CN="Mors%C3%B8 Erhvervsr%C3%A5d":MAILTO:post@mer.dk
END:VEVENT
BEGIN:VEVENT
DTSTART;TZID=Europe/Copenhagen:20261020T120000
DTEND;TZID=Europe/Copenhagen:20261020T160000
DTSTAMP:20260420T192940
CREATED:20260119T102314Z
LAST-MODIFIED:20260119T102314Z
UID:10000319-1792497600-1792512000@mer.dk
SUMMARY:Netværksmøde i Lærlinge- og elevnetværket
DESCRIPTION:Teambuilding og fællesskab\nVi mødes hos Midtmors Sport til en dag med fokus på teambuilding og fællesskab. Denne gang står den på helt nye udfordringer\, der ryster netværket sammen og giver masser af grin og energi. Kom og vær med til en aktiv og sjov eftermiddag!\nMorsø Erhvervsråd sørger for frokosten. \nNetværket er for alle elever og lærlinge på Mors\, hvis du også ønsker at være med eller har en elev eller lærling til netværket\, så kontakt Lars Fjordbak Gehlert: lfg@mer.dk eller tlf. 3020 1105
URL:https://mer.dk/event/netvaerksmoede-i-laerlinge-og-elevnetvaerket-9/
LOCATION:Midtmors Sport\, Poulsen Dalsvej 12\, Erslev\, Øster Jølby\, 7950\, Danmark
CATEGORIES:Netværk
ATTACH;FMTTYPE=image/png:https://mer.dk/wp-content/uploads/2025/03/Laerlinge-og-elevnetvaerket.png
ORGANIZER;CN="Mors%C3%B8 Erhvervsr%C3%A5d":MAILTO:post@mer.dk
END:VEVENT
BEGIN:VEVENT
DTSTART;TZID=Europe/Copenhagen:20261109T160000
DTEND;TZID=Europe/Copenhagen:20261109T180000
DTSTAMP:20260420T192940
CREATED:20260113T122323Z
LAST-MODIFIED:20260113T122323Z
UID:10000308-1794240000-1794247200@mer.dk
SUMMARY:Iværksættercafé
DESCRIPTION:Iværksættercaféen er et gratis tilbud til alle iværksættere og før-startere fra Morsø Kommune \nKom og netværk med andre unge iværksættere og nystartede virksomheder – og få input\, der kan tage din idé til næste niveau! \nDet får du ved at deltage: \n\nInspiration og viden\nUdvid dit netværk\nFå en dialog med erhvervsrådets konsulenter\nStille spørgsmål til en rådgiver\nMøder andre iværksættere på Mors\nFortælle andre om din ide\nFå feedback med det samme\nUdvikle din forretningside\n\n  \nProgram:   \n16.00 – Caféen åbner \nKickstart den internationale iværksætteruge: AI for iværksættere \nVi skyder den internationale iværksætteruge i gang og temaet er AI for iværksættere.\nHvordan kan kunstig intelligens hjælpe dig med at udvikle din forretning\, spare tid og skabe nye muligheder? \nNærmere information følger. \n18.00 – Caféen lukker \n  \nTilmelding \nDeltagelse er gratis\, men tilmelding er nødvendig nedenfor. \nHvis du har spørgsmål\, er du velkommen til at kontakte Lars Fjordbak Gehlert på lfg@mer.dk eller Jens Vinther Christensen på jvc@mer.dk
URL:https://mer.dk/event/ivaerksaettercafe-17/
LOCATION:Morsø Erhvervsråd\, Holgersgade 1\, Nykøbing M\, 7900\, Danmark
CATEGORIES:Netværk
ATTACH;FMTTYPE=image/jpeg:https://mer.dk/wp-content/uploads/2022/11/Ivaerksaettercafeen-e1675932540651.jpg
ORGANIZER;CN="Mors%C3%B8 Erhvervsr%C3%A5d":MAILTO:post@mer.dk
END:VEVENT
BEGIN:VEVENT
DTSTART;TZID=Europe/Copenhagen:20261111T080000
DTEND;TZID=Europe/Copenhagen:20261111T100000
DTSTAMP:20260420T192940
CREATED:20260323T071953Z
LAST-MODIFIED:20260323T071953Z
UID:10000333-1794384000-1794391200@mer.dk
SUMMARY:VirksomhedsVandring med Morsø Erhvervsråd hos CN Agro
DESCRIPTION:Kom med på VirksomhedsVandring med Morsø Erhvervsråd. Et nyt koncept vi søsatte i 2024\, som skal understøtte vores strategi og fokus på Morsø Erhvervsråd som et stærkt erhvervsfællesskab på Mors. Kært barn har mange navne\, så hvis du kender åbent hus\, business breakfast\, morgenbriefing eller lignende\, så taler vi ca. samme sprog. \n  \nVi vil gerne være med til at vise vores medlemsvirksomheder frem som en form for ”markvandring” eller åbent hus\, hvor vi øger kendskabet til øens virksomheder\, får en kop kaffe\, en rundvisning\, et indblik i virksomheden og en god snak med hinanden i “marken”. \n  \nDenne gang besøger vi CN Agro i Nykøbing Mors\, hvor vi vil få en rundvisning samt en fortælling om virksomheden. \n  \nOm CN Agro: \n\nCN Agro A/S er en moderne og udviklingsorienteret landbrugsvirksomhed på Mors\, som gennem en professionel og datadrevet tilgang arbejder målrettet med at optimere drift\, produktion og bæredygtighed. Virksomheden er kendt for at kombinere solide landbrugstraditioner med nye teknologier og innovative metoder\, der styrker effektivitet og kvalitet i hele produktionen. \nMed et stærkt fokus på ansvarlighed\, grøn omstilling og langsigtet udvikling er CN Agro A/S et godt eksempel på en lokal virksomhed\, der formår at tænke strategisk\, investere i nye løsninger og samtidig bidrage positivt til erhvervslivet på Mors. \n  \n\nSidst men ikke mindst har CN Agro i år modtaget “Den Gyldne Østers”\, som er Morsø Erhvervsråds initiativpris. Så snør vandrestøvlerne og tag med Morsø Erhvervsråd på VirksomhedsVandring hos CN Agro. Vi glæder os.
URL:https://mer.dk/event/virksomhedsvandring-med-morsoe-erhvervsraad-hos-cn-agro/
LOCATION:CN Agro\, Elsøvej 214\, Nykøbing Mors\, 7900\, Danmark
CATEGORIES:Arrangementer,Medlemsfordel,Netværk
ATTACH;FMTTYPE=image/png:https://mer.dk/wp-content/uploads/2024/10/Business-Breakfast.png
ORGANIZER;CN="Mors%C3%B8 Erhvervsr%C3%A5d":MAILTO:post@mer.dk
END:VEVENT
BEGIN:VEVENT
DTSTART;TZID=Europe/Copenhagen:20261111T170000
DTEND;TZID=Europe/Copenhagen:20261111T210000
DTSTAMP:20260420T192940
CREATED:20251118T102810Z
LAST-MODIFIED:20251118T102810Z
UID:10000281-1794416400-1794430800@mer.dk
SUMMARY:Netværksmøde i ejerledernetværket
DESCRIPTION:Morsø Erhvervsråd inviterer til møde i ejerledernetværket. \n  \nNetværket optager løbende nye medlemmer. Ved interesse kontakt Jens Vinther Christensen på jvc@mer.dk
URL:https://mer.dk/event/netvaerksmoede-i-ejerledernetvaerket-15/
LOCATION:Morsø Erhvervsråd\, Holgersgade 1\, Nykøbing M\, 7900\, Danmark
CATEGORIES:Netværk
ATTACH;FMTTYPE=image/png:https://mer.dk/wp-content/uploads/2023/03/Netvaerk.png
ORGANIZER;CN="Mors%C3%B8 Erhvervsr%C3%A5d":MAILTO:post@mer.dk
END:VEVENT
BEGIN:VEVENT
DTSTART;TZID=Europe/Copenhagen:20261125T120000
DTEND;TZID=Europe/Copenhagen:20261125T160000
DTSTAMP:20260420T192940
CREATED:20251119T100735Z
LAST-MODIFIED:20251119T100735Z
UID:10000286-1795608000-1795622400@mer.dk
SUMMARY:Netværksmøde i klimanetværket
DESCRIPTION:Morsø Erhvervsråds Klimanetværk er udsprunget af vores “Bliv Klima-Parat” forløb på 5 moduler\, som kørte fra september til november 2023\, hvor ca. 20 lokale virksomheder var repræsenteret. \nDanske virksomheder skal bidrage til at realisere målet om at reducere CO2 aftrykket med 70% inden 2030 og konkret indeholder Morsø Kommunes klimahandlingsplan en vision om en klimaneutral industri- og erhverv på Mors i 2030. \nMorsø Erhvervsråds Klimanetværk har til formål at samle virksomheder\, organisationer og interessenter på Mors med henblik på at inspirere og fremme bæredygtige løsninger og grøn omstilling i erhvervslivet – og dermed reducere klimaaftrykket. \n  \nPROGRAM FOR DETTE NETVÆRKSMØDE: \nFølger… \n  \nDeltagelse i Morsø Erhvervsråds Klimanetværk koster 5.000\,- ekskl. moms årligt for op til 2 personer fra samme virksomhed.\nDet er en forudsætning\, at du er medlem af Morsø Erhvervsråd for at deltage i Klimanetværket. Ved interesse\, kontakt Erik Wind: ew@mer.dk eller Susanne Toftegaard Hansen: sth@mer.dk
URL:https://mer.dk/event/netvaerksmoede-i-klimanetvaerket-12/
LOCATION:Morsø Erhvervsråd\, Holgersgade 1\, Nykøbing M\, 7900\, Danmark
CATEGORIES:Netværk
ATTACH;FMTTYPE=image/png:https://mer.dk/wp-content/uploads/2025/06/Klimanetvaerk2.png
END:VEVENT
BEGIN:VEVENT
DTSTART;TZID=Europe/Copenhagen:20261207T080000
DTEND;TZID=Europe/Copenhagen:20261207T100000
DTSTAMP:20260420T192940
CREATED:20260119T093004Z
LAST-MODIFIED:20260119T093004Z
UID:10000314-1796630400-1796637600@mer.dk
SUMMARY:Netværksmøde i Markedsføringsnetværket
DESCRIPTION:Morsø Erhvervsråd inviterer til møde i markedsføringsnetværket. \n  \nNetværket er åbent for flere medlemmer. Ved interesse kontakt venligst Lea Frederikke Mommer på lfm@mer.dk \n  \nFormålet er at få skabt et fortroligt netværk\, hvor medlemmerne kan vende og dele faglige udfordringer/problemstillinger i et tillidsfuldt rum. Som medlem forventes det\, at man er villig til at dele sine erfaringer\, udfordringer\, tips og tricks med hinanden.
URL:https://mer.dk/event/netvaerksmoede-i-markedsfoeringsnetvaerket-6/
LOCATION:Morsø Erhvervsråd\, Holgersgade 1\, Nykøbing M\, 7900\, Danmark
CATEGORIES:Netværk
ATTACH;FMTTYPE=image/png:https://mer.dk/wp-content/uploads/2023/10/Markedsfoeringsnetvaerket.png
ORGANIZER;CN="Mors%C3%B8 Erhvervsr%C3%A5d":MAILTO:post@mer.dk
END:VEVENT
BEGIN:VEVENT
DTSTART;TZID=Europe/Copenhagen:20261208T120000
DTEND;TZID=Europe/Copenhagen:20261208T150000
DTSTAMP:20260420T192940
CREATED:20260119T102623Z
LAST-MODIFIED:20260119T102623Z
UID:10000320-1796731200-1796742000@mer.dk
SUMMARY:Netværksmøde i Lærlinge- og elevnetværket
DESCRIPTION:Virksomhedsbesøg hos Davidsen\nVi runder året af med et spændende besøg hos Davidsen – butikken\, som de fleste på Mors kender\, især jer i håndværkerfaget. Bag facaden og “den gamle Tømmergaarden” gemmer sig en imponerende organisation og læreplads\, som vi skal blive meget klogere på. Efter rundvisningen holder vi netværkets juleafslutning med hygge og god stemning. \nNetværket er for alle elever og lærlinge på Mors\, hvis du også ønsker at være med eller har en elev eller lærling til netværket\, så kontakt Lars Fjordbak Gehlert: lfg@mer.dk eller tlf. 3020 1105
URL:https://mer.dk/event/netvaerksmoede-i-laerlinge-og-elevnetvaerket-10/
LOCATION:Davidsen\, Soltoften 3\, Nykøbing Mors\, 7900\, Danmark
CATEGORIES:Netværk
ATTACH;FMTTYPE=image/png:https://mer.dk/wp-content/uploads/2025/03/Laerlinge-og-elevnetvaerket.png
ORGANIZER;CN="Mors%C3%B8 Erhvervsr%C3%A5d":MAILTO:post@mer.dk
END:VEVENT
END:VCALENDAR