BEGIN:VCALENDAR
VERSION:2.0
PRODID:-//Morsø Erhvervsråd - ECPv6.15.14//NONSGML v1.0//EN
CALSCALE:GREGORIAN
METHOD:PUBLISH
X-ORIGINAL-URL:https://mer.dk
X-WR-CALDESC:Begivenheder for Morsø Erhvervsråd
REFRESH-INTERVAL;VALUE=DURATION:PT1H
X-Robots-Tag:noindex
X-PUBLISHED-TTL:PT1H
BEGIN:VTIMEZONE
TZID:Europe/Copenhagen
BEGIN:DAYLIGHT
TZOFFSETFROM:+0100
TZOFFSETTO:+0200
TZNAME:CEST
DTSTART:20250330T010000
END:DAYLIGHT
BEGIN:STANDARD
TZOFFSETFROM:+0200
TZOFFSETTO:+0100
TZNAME:CET
DTSTART:20251026T010000
END:STANDARD
BEGIN:DAYLIGHT
TZOFFSETFROM:+0100
TZOFFSETTO:+0200
TZNAME:CEST
DTSTART:20260329T010000
END:DAYLIGHT
BEGIN:STANDARD
TZOFFSETFROM:+0200
TZOFFSETTO:+0100
TZNAME:CET
DTSTART:20261025T010000
END:STANDARD
BEGIN:DAYLIGHT
TZOFFSETFROM:+0100
TZOFFSETTO:+0200
TZNAME:CEST
DTSTART:20270328T010000
END:DAYLIGHT
BEGIN:STANDARD
TZOFFSETFROM:+0200
TZOFFSETTO:+0100
TZNAME:CET
DTSTART:20271031T010000
END:STANDARD
END:VTIMEZONE
BEGIN:VEVENT
DTSTART;TZID=Europe/Copenhagen:20260413T080000
DTEND;TZID=Europe/Copenhagen:20260413T100000
DTSTAMP:20260420T205633
CREATED:20260119T092319Z
LAST-MODIFIED:20260119T092319Z
UID:10000310-1776067200-1776074400@mer.dk
SUMMARY:Netværksmøde i Markedsføringsnetværket
DESCRIPTION:Morsø Erhvervsråd inviterer til møde i markedsføringsnetværket. \n  \nNetværket er åbent for flere medlemmer. Ved interesse kontakt venligst Lea Frederikke Mommer på lfm@mer.dk \n  \nFormålet er at få skabt et fortroligt netværk\, hvor medlemmerne kan vende og dele faglige udfordringer/problemstillinger i et tillidsfuldt rum. Som medlem forventes det\, at man er villig til at dele sine erfaringer\, udfordringer\, tips og tricks med hinanden.
URL:https://mer.dk/event/netvaerksmoede-i-markedsfoeringsnetvaerket-2/
LOCATION:Frøslev Mollerup Sparekasse\, Vestergade 7\, Nykøbing Mors\, 7900\, Danmark
CATEGORIES:Netværk
ATTACH;FMTTYPE=image/png:https://mer.dk/wp-content/uploads/2023/10/Markedsfoeringsnetvaerket.png
ORGANIZER;CN="Mors%C3%B8 Erhvervsr%C3%A5d":MAILTO:post@mer.dk
END:VEVENT
BEGIN:VEVENT
DTSTART;TZID=Europe/Copenhagen:20260414T120000
DTEND;TZID=Europe/Copenhagen:20260414T160000
DTSTAMP:20260420T205633
CREATED:20260119T095013Z
LAST-MODIFIED:20260119T095548Z
UID:10000316-1776168000-1776182400@mer.dk
SUMMARY:Netværksmøde i Lærlinge- og elevnetværket
DESCRIPTION:Virksomhedsbesøg hos Dencker\nKom med på et spændende besøg hos Dencker – en virksomhed kendt for kvalitet og stærke lærlingepladser. Vi får en rundvisning\, indblik i hverdagen og hører\, hvorfor det er fedt at være i lære hos Dencker. Perfekt mulighed for netværk og inspiration! \nNetværket er for alle elever og lærlinge på Mors\, hvis du også ønsker at være med eller har en elev eller lærling til netværket\, så kontakt Lars Fjordbak Gehlert: lfg@mer.dk eller tlf. 3020 1105
URL:https://mer.dk/event/netvaerksmoede-i-laerlinge-og-elevnetvaerket-7/
LOCATION:Dencker\, Nykøbing Mors\, 7900
CATEGORIES:Netværk
ATTACH;FMTTYPE=image/png:https://mer.dk/wp-content/uploads/2025/03/Laerlinge-og-elevnetvaerket.png
ORGANIZER;CN="Mors%C3%B8 Erhvervsr%C3%A5d":MAILTO:post@mer.dk
END:VEVENT
BEGIN:VEVENT
DTSTART;TZID=Europe/Copenhagen:20260414T170000
DTEND;TZID=Europe/Copenhagen:20260414T210000
DTSTAMP:20260420T205633
CREATED:20260407T083930Z
LAST-MODIFIED:20260407T083930Z
UID:10000336-1776186000-1776200400@mer.dk
SUMMARY:Netværksmøde i ejerledernetværket
DESCRIPTION:Morsø Erhvervsråd inviterer til møde i ejerledernetværket. \n  \nNetværket optager løbende nye medlemmer. Ved interesse kontakt Jens Vinther Christensen på jvc@mer.dk
URL:https://mer.dk/event/netvaerksmoede-i-ejerledernetvaerket-12/
LOCATION:Morsø Erhvervsråd\, Holgersgade 1\, Nykøbing M\, 7900\, Danmark
CATEGORIES:Netværk
ATTACH;FMTTYPE=image/png:https://mer.dk/wp-content/uploads/2023/03/Netvaerk.png
ORGANIZER;CN="Mors%C3%B8 Erhvervsr%C3%A5d":MAILTO:post@mer.dk
END:VEVENT
END:VCALENDAR