BEGIN:VCALENDAR
VERSION:2.0
PRODID:-//Morsø Erhvervsråd - ECPv6.15.14//NONSGML v1.0//EN
CALSCALE:GREGORIAN
METHOD:PUBLISH
X-WR-CALNAME:Morsø Erhvervsråd
X-ORIGINAL-URL:https://mer.dk
X-WR-CALDESC:Begivenheder for Morsø Erhvervsråd
REFRESH-INTERVAL;VALUE=DURATION:PT1H
X-Robots-Tag:noindex
X-PUBLISHED-TTL:PT1H
BEGIN:VTIMEZONE
TZID:Europe/Copenhagen
BEGIN:DAYLIGHT
TZOFFSETFROM:+0100
TZOFFSETTO:+0200
TZNAME:CEST
DTSTART:20230326T010000
END:DAYLIGHT
BEGIN:STANDARD
TZOFFSETFROM:+0200
TZOFFSETTO:+0100
TZNAME:CET
DTSTART:20231029T010000
END:STANDARD
BEGIN:DAYLIGHT
TZOFFSETFROM:+0100
TZOFFSETTO:+0200
TZNAME:CEST
DTSTART:20240331T010000
END:DAYLIGHT
BEGIN:STANDARD
TZOFFSETFROM:+0200
TZOFFSETTO:+0100
TZNAME:CET
DTSTART:20241027T010000
END:STANDARD
BEGIN:DAYLIGHT
TZOFFSETFROM:+0100
TZOFFSETTO:+0200
TZNAME:CEST
DTSTART:20250330T010000
END:DAYLIGHT
BEGIN:STANDARD
TZOFFSETFROM:+0200
TZOFFSETTO:+0100
TZNAME:CET
DTSTART:20251026T010000
END:STANDARD
END:VTIMEZONE
BEGIN:VEVENT
DTSTART;TZID=Europe/Copenhagen:20241001T133000
DTEND;TZID=Europe/Copenhagen:20241001T160000
DTSTAMP:20260425T234302
CREATED:20240627T130116Z
LAST-MODIFIED:20240912T063009Z
UID:10000155-1727789400-1727798400@mer.dk
SUMMARY:Netværksmøde – Fremtidens arbejdskraft på Mors
DESCRIPTION:Virksomhedsgruppen er med til at skabe rammerne for en fælles indsats\, der synliggør praktik- og jobåbninger hos erhvervslivet på Mors. \n  \nDen samlede indsats i gruppen er med til at understøtte den enkelte virksomheds muligheder\, for at gøre det attraktivt for studerende og kandidater at se vores vej. \nPå møderne har vi fokus på at dele viden og erfaringer om tiltrækning af elever\, lærlinge\, praktikforløb og kandidater til ordinære jobs. De enkelte indsatser kan være virksomhedsrettede\, lokale initiativer eller fælles messeaktiviteter. \nDesuden vil vi søge inspiration hos samarbejdspartnere og uddannelsesinstitutioner\, for at opnå størst mulig indsigt og viden om tiltrækning af kandidater til erhvervslivet. \n  \nProgram \nVelkommen \nInformation \n\nSiden sidste møde\nKommende initiativer\n\nErfaringer rundt om bordet \nIndlæg \n\nVækst via Viden – Din vej til kvalificeret arbejdskraft\, https://vaekstviaviden.dk/\n\n  \nGruppen er et åbent forum med interesse for tiltrækning af arbejdskraft til Mors. Ved interesse og tilmelding kontakt Susanne Toftegaard Hansen sth@mer.dk eller tlf. 2172 9930
URL:https://mer.dk/event/netvaerksmoede-fremtidens-arbejdskraft-paa-mors-2/
LOCATION:Morsø Erhvervsråd\, Holgersgade 1\, Nykøbing M\, 7900\, Danmark
ATTACH;FMTTYPE=image/jpeg:https://mer.dk/wp-content/uploads/2024/04/Netvaerksmoede.jpg
ORGANIZER;CN="Mors%C3%B8 Erhvervsr%C3%A5d":MAILTO:post@mer.dk
END:VEVENT
BEGIN:VEVENT
DTSTART;TZID=Europe/Copenhagen:20241002T160000
DTEND;TZID=Europe/Copenhagen:20241002T173000
DTSTAMP:20260425T234302
CREATED:20240702T072316Z
LAST-MODIFIED:20241001T095105Z
UID:10000157-1727884800-1727890200@mer.dk
SUMMARY:Virksomhedsbesøg - Kom og hør om Vinhuset ApS og deres fantastiske rejse
DESCRIPTION:Virksomhedsbesøg – Kom og hør om Vinhuset ApS og deres fantastiske rejse fra starten til i dag at være Danmarks 4. største online vinhus \nSom optakt til den internationale iværksætteruge Global Entrepreneurship Week der afholdes i uge 46\, vil vi gerne invitere dig til et spændende og inspirerende arrangement. \nTid: Onsdag 2. oktober kl. 16.00 \n  \nSted: Vinhuset ApS\, Industrivej 13\, 7700 Thisted \n  \nTilmelding nødvendig. Det kan du via linket nederst på denne side. \n  \nRigtig mange har set programmet Løvens Hule\, hvor Regin og Bjarke fik løverne til at investere i deres virksomhed. Vinhuset ApS startede i nogle mindre lokaler i Nykøbing\, og er i dag vækstet til at være Danmarks 4. største vinhus. De har i dag 16 ansatte og det går stadig rigtig godt. \n  \nIndhold: \n\nKom og hør om vækstrejsen fra starten til der hvor Vinhuset er i dag.\nHvilke overvejelser var der for at melde sig til Løvens Hule?\nHvordan var det at være med til optagelserne?\nHvad skete der da kameraet blev slukket?\nProcessen med Due Diligence\nRundvisning hos Vinhuset Aps\nSmagsprøver (både med og uden alkohol)\nDialog om hvad der skal til som iværksætter for at få succes.\n\nArrangementer sker i samarbejde mellem Morsø Erhvervsråd og Thy Erhvervsforum. \n  \nVed spørgsmål til arrangementet kan du kontakte Jens Vinther Christensen på jvc@mer.dk eller tlf. 2147 8880.
URL:https://mer.dk/event/virksomhedsbesoeg-kom-og-hoer-om-vinhuset-aps-og-deres-fantastiske-rejse-fra-starten-til-i-dag-at-vaere-danmarks-4-stoerste-online-vinhus/
LOCATION:Vinhuset Aps\, Industrivej 13\, 7700 Thisted
ATTACH;FMTTYPE=image/png:https://mer.dk/wp-content/uploads/2024/08/Vinhuset.png
ORGANIZER;CN="Mors%C3%B8 Erhvervsr%C3%A5d":MAILTO:post@mer.dk
END:VEVENT
BEGIN:VEVENT
DTSTART;TZID=Europe/Copenhagen:20241003T100000
DTEND;TZID=Europe/Copenhagen:20241003T120000
DTSTAMP:20260425T234302
CREATED:20240619T075151Z
LAST-MODIFIED:20240619T075213Z
UID:10000152-1727949600-1727956800@mer.dk
SUMMARY:Workshop om AI og kunstig intelligens
DESCRIPTION:Kom med på rejsen\, og lær om hvordan din hverdag kan blive betydeligt lettere med de nye værktøjer.\n  \nVi står overfor en digital revolution\, og vi har kun lige set begyndelsen af den forandring som AI vil medføre i vores hverdag.   \nKunne du tænke dig at få din PC til at skrive undertekster og lave referater af dine teams-møder? Hvad med at få den til at lave en opsummering af de vigtigste pointer i en pdf-fil på mange sider? Mulighederne er mange\, og du vil opleve\, at opgaver du før har brugt lang tid på vil kunne løses bedre og mere effektivt ved hjælp af AI.     \nMicrosoft har netop lanceret Microsoft Co-pilot\, som er en overbygning på Office 365. Den integrerer ChatGPT og Microsoft Bing på en måde vi aldrig har set før.   \nJens Elung Jensen fra Erhvervshus Nordjylland har tilrettelagt en workshop\, hvor du vil opleve praktiske eksempler på hvordan AI vil ændre den måde vi har arbejdet på tidligere. I løbet af workshoppen får du mulighed for selv at arbejde med ChatGPT\, hvis du medbringer din computer.   \nDet bliver en lærerig workshop\, som opdaterer din viden og dine færdigheder. Du kan godt glæde dig\, for det bliver både spændende og underholdende.   \n  \n \n  \nProgram: \nVelkomst – Bordet rundt \n\nHvordan startede AI\, og hvorfor er der så meget snak om det?\nHvad er kunstig intelligens\, og hvor er dens svagheder og styrker?\nRisiko og fordele med AI\nEksempler på ChatGPT\n\nKom i gang med ChatGPT – Praktiske øvelser med ChatGPT (Medbring din egen PC) \nEksempler fra Microsoft Co-pilot \n\nMicrosofts strategi med Bing og ChatGPT\nMicrosoft Designer\nOpsamling og konklusion på workshoppen\n\n  \nDeltagelse er gratis\, men tilmelding nødvendig.
URL:https://mer.dk/event/workshop-om-ai-og-kunstig-intelligens/
LOCATION:Morsø Erhvervsråd\, Holgersgade 1\, Nykøbing M\, 7900\, Danmark
CATEGORIES:Workshop
ATTACH;FMTTYPE=image/jpeg:https://mer.dk/wp-content/uploads/2023/10/Jens.jpg
ORGANIZER;CN="Mors%C3%B8 Erhvervsr%C3%A5d":MAILTO:post@mer.dk
END:VEVENT
BEGIN:VEVENT
DTSTART;TZID=Europe/Copenhagen:20241021T080000
DTEND;TZID=Europe/Copenhagen:20241021T095000
DTSTAMP:20260425T234302
CREATED:20231017T083911Z
LAST-MODIFIED:20240930T111943Z
UID:10000109-1729497600-1729504200@mer.dk
SUMMARY:Netværksmøde for markedsføringsnetværket
DESCRIPTION:Morsø Erhvervsråd inviterer til møde i markedsføringsnetværket. \n  \nDagsorden: \n\nVelkommen\nBordet rundt\nEt dyk dybere ned i egne virksomheder og markedsføringsplaner\nTema for næste møde samt et kig ind i 2025 og temaer til næste års møder\nTak for i dag\n\n  \nNetværket er åbent for flere medlemmer. Ved interesse kontakt venligst Lea Frederikke Mommer på lfm@mer.dk \n  \nFormålet er at få skabt et fortroligt netværk\, hvor medlemmerne kan vende og dele faglige udfordringer/problemstillinger i et tillidsfuldt rum. Som medlem forventes det\, at man er villig til at dele sine erfaringer\, udfordringer\, tips og tricks med hinanden.
URL:https://mer.dk/event/netvaerksmoede-for-markedsfoeringsnetvaerket-9/
LOCATION:Morsø Erhvervsråd\, Holgersgade 1\, Nykøbing M\, 7900\, Danmark
CATEGORIES:Netværk
ATTACH;FMTTYPE=image/png:https://mer.dk/wp-content/uploads/2023/10/Markedsfoeringsnetvaerket.png
ORGANIZER;CN="Mors%C3%B8 Erhvervsr%C3%A5d":MAILTO:post@mer.dk
END:VEVENT
BEGIN:VEVENT
DTSTART;TZID=Europe/Copenhagen:20241022T130000
DTEND;TZID=Europe/Copenhagen:20241022T160000
DTSTAMP:20260425T234302
CREATED:20240318T081607Z
LAST-MODIFIED:20240920T111323Z
UID:10000137-1729602000-1729612800@mer.dk
SUMMARY:Kursus 3 - Made in Produktionsdanmark: Strategi for din markedsføring
DESCRIPTION:“Made in Produktionsdanmark” er et projekt med fokus på markedsføring og digitalisering til gavn for erhvervslivet på Mors. \nHos Morsø Erhvervsråd er det en målsætning at gøre Mors til et af Danmarks bedste produktionssteder. Det handler om gode rammevilkår og om optimale betingelser for skabelse af vækst og arbejdspladser. Men for at komme i mål skal kendskabsgraden og synligheden af produktionsvirksomhederne på Mors løftes markant! ”Made in Produktionsdanmark” projektet skal netop styrke erhvervslivets profil og attraktivitet. \nVi stiller skarpt på netop din virksomheds markedsføring og kommunikation. Det styrker din rekruttering\, din kendskabsgrad\, dit salg og vigtigst af alt din bundlinje. \n  \nDen pakke du som virksomheder køber ind i indeholder følgende: \n\nVideospot om et konkret produkt eller en ydelse til annoncering på sociale medier\nFri adgang for 2 pers. til alle kurser (detaljeret beskrivelse nedenfor).\nGratis adgang til netværksaktiviteter hos Morsø Erhvervsråd om digital markedsføring mv.\nSparring om din markedsføring og kommunikation\nStrategisk konsultation om din virksomheds digitale tilstedeværelse (vi kommer på besøg)\n\nPrisen er 7500\,- (værdi 30.000\,-) \n  \nDette kursus er en del af pakken og omhandler: STRATEGI FOR DIN MARKEDSFØRING \nDet er vigtigt at have en markedsføringsstrategi for at målrette og optimere virksomhedens indsats\, samt for at opbygge et effektivt brand og nå ud til målgruppen på en meningsfuld måde. \n  \nHvis du ønsker at blive en del af projektet\, så kontakt Malte Houe på malte@houefilm.dk eller Susanne Toftegaard Hansen på sth@mer.dk \nProjektet er støttet af Den lokale Erhvervsfremmefond og Morsø Kommune.
URL:https://mer.dk/event/kursus-3-made-in-produktionsdanmark-strategi-for-din-markedsfoering/
LOCATION:Morsø Erhvervsråd\, Holgersgade 1\, Nykøbing M\, 7900\, Danmark
CATEGORIES:Kursus
ATTACH;FMTTYPE=image/png:https://mer.dk/wp-content/uploads/2024/03/Kursus-3.png
ORGANIZER;CN="Mors%C3%B8 Erhvervsr%C3%A5d":MAILTO:post@mer.dk
END:VEVENT
BEGIN:VEVENT
DTSTART;TZID=Europe/Copenhagen:20241028T080000
DTEND;TZID=Europe/Copenhagen:20241028T093000
DTSTAMP:20260425T234302
CREATED:20240902T093236Z
LAST-MODIFIED:20241009T100055Z
UID:10000159-1730102400-1730107800@mer.dk
SUMMARY:VirksomhedsVandring med Morsø Erhvervsråd hos Worm ApS
DESCRIPTION:Kom med på VirksomhedsVandring med Morsø Erhvervsråd. Et nyt koncept vi har søsat\, som skal understøtte vores strategi og fokus på Morsø Erhvervsråd som et stærkt erhvervsfællesskab på Mors. Kært barn har mange navne\, så hvis du kender åbent hus\, business breakfast\, morgenbriefing eller lignende\, så taler vi ca. samme sprog. \n  \nVi vil gerne være med til at vise vores medlemsvirksomheder frem som en form for ”markvandring” eller åbent hus\, hvor vi øger kendskabet til øens virksomheder\, får en kop kaffe\, en rundvisning\, et indblik i virksomheden og en god snak med hinanden i “marken”. \n  \nDenne gang besøger vi Worm ApS i Nykøbing Mors\, hvor direktør Egon Worm vil vise os rundt samt fortælle om virksomheden. \n  \nOm Worm ApS: \nWorm ApS er et smede- og maskinværksted på Mors\, som tilbyder en bred vifte af produkter og tjenester indenfor jern- og metalindustrien. Virksomheden blev stiftet i 1971 og har mere end 30 års erfaring inden for jern- og metalbranchen. Med moderne produktionslokaler\, en veludbygget maskinpark og erfarne medarbejdere tilbyder Worm unikke løsninger og produkter til deres kunder. \n  \nSidst men ikke mindst har Egon i år modtaget “Den Gyldne Østers”\, som er Morsø Erhvervsråds initiativpris. Så snør vandrestøvlerne og tag med Morsø Erhvervsråd på VirksomhedsVandring hos Worm ApS. Vi glæder os.
URL:https://mer.dk/event/virksomhedsvandring-med-morsoe-erhvervsraad-hos-worm-aps/
LOCATION:Worm\, Bakkegårdsvej 4\, Nykøbing Mors\, 7900\, Danmark
CATEGORIES:Arrangementer
ATTACH;FMTTYPE=image/png:https://mer.dk/wp-content/uploads/2024/05/Coverfoto-til-eventkalenderen.png
ORGANIZER;CN="Mors%C3%B8 Erhvervsr%C3%A5d":MAILTO:post@mer.dk
END:VEVENT
BEGIN:VEVENT
DTSTART;TZID=Europe/Copenhagen:20241029T080000
DTEND;TZID=Europe/Copenhagen:20241029T160000
DTSTAMP:20260425T234302
CREATED:20240917T103053Z
LAST-MODIFIED:20241001T140807Z
UID:10000162-1730188800-1730217600@mer.dk
SUMMARY:Tour de Mors
DESCRIPTION:Tour de Mors er en dag med fokus på fremtidens arbejdskraft på Mors. \nVejledere\, uddannelseschefer og virksomhedskonsulenter fra Ung Mors\, virksomhedsservice\, VUC\, Morsø Gymnasium og EUC Nordvest vil sammen med Morsø Erhvervsråd besøge en række virksomheder til en snak om elevpladser\, praktikpladser\, sabbatårsjob og meget andet\, som kan hjælpe de unge mennesker på Mors i arbejde. \nVi skal denne gang besøge følgende virksomheder: \n\nHalkjærs Auto\nHE-VA\nHoue Film\nFrontego\nKirk Maskinfabrik\nKrone Kapital\n\nLyder det som noget for din virksomhed\, så send en mail til Lea hos Morsø Erhvervsråd – lfm@mer.dk\, så vil vi tage et kig på din virksomhed\, hvis vi laver en runde 2.
URL:https://mer.dk/event/tour-de-mors/
CATEGORIES:Arrangementer
ATTACH;FMTTYPE=image/png:https://mer.dk/wp-content/uploads/2024/09/Tour-de-Mors-event-til-hjemmeside.png
ORGANIZER;CN="Mors%C3%B8 Erhvervsr%C3%A5d":MAILTO:post@mer.dk
END:VEVENT
END:VCALENDAR