BEGIN:VCALENDAR
VERSION:2.0
PRODID:-//Morsø Erhvervsråd - ECPv6.15.14//NONSGML v1.0//EN
CALSCALE:GREGORIAN
METHOD:PUBLISH
X-WR-CALNAME:Morsø Erhvervsråd
X-ORIGINAL-URL:https://mer.dk
X-WR-CALDESC:Begivenheder for Morsø Erhvervsråd
REFRESH-INTERVAL;VALUE=DURATION:PT1H
X-Robots-Tag:noindex
X-PUBLISHED-TTL:PT1H
BEGIN:VTIMEZONE
TZID:Europe/Copenhagen
BEGIN:DAYLIGHT
TZOFFSETFROM:+0100
TZOFFSETTO:+0200
TZNAME:CEST
DTSTART:20240331T010000
END:DAYLIGHT
BEGIN:STANDARD
TZOFFSETFROM:+0200
TZOFFSETTO:+0100
TZNAME:CET
DTSTART:20241027T010000
END:STANDARD
BEGIN:DAYLIGHT
TZOFFSETFROM:+0100
TZOFFSETTO:+0200
TZNAME:CEST
DTSTART:20250330T010000
END:DAYLIGHT
BEGIN:STANDARD
TZOFFSETFROM:+0200
TZOFFSETTO:+0100
TZNAME:CET
DTSTART:20251026T010000
END:STANDARD
BEGIN:DAYLIGHT
TZOFFSETFROM:+0100
TZOFFSETTO:+0200
TZNAME:CEST
DTSTART:20260329T010000
END:DAYLIGHT
BEGIN:STANDARD
TZOFFSETFROM:+0200
TZOFFSETTO:+0100
TZNAME:CET
DTSTART:20261025T010000
END:STANDARD
END:VTIMEZONE
BEGIN:VEVENT
DTSTART;TZID=Europe/Copenhagen:20250507T130000
DTEND;TZID=Europe/Copenhagen:20250507T160000
DTSTAMP:20260424T150838
CREATED:20250408T084435Z
LAST-MODIFIED:20250409T074348Z
UID:10000230-1746622800-1746633600@mer.dk
SUMMARY:Åbent klimakontor - Kom og arbejd med din ESG rapport
DESCRIPTION:Vi åbner vores klimakontor op\, hvor projektleder\, Erik Wind vil sidde og være klar til vejledning i forbindelse med udfyldelse af din virksomheds ESG rapport. Tag din computer med\, og lad os hjælpe dig i mål. \n  \nDu kan begynde din forberedelse allerede nu ved at kigge ind i skabelonen her: ESG-skabelon \n  \nBasismodul for VSME-standarden indeholder følgende rapporteringspunkter \nGenerelt: \n\nB1: Grundlag for udarbejdelse\nB2: Praksis for omstilling til en mere cirkulær økonomi\n\n  \nMiljø: \n\nB3: Energi- og drivhusgasemissioner\nB4: Forurening af luft\, vand og jord\nB5: Biodiversitet\nB6: Vand\nB7: Ressourceforbrug\, cirkulær økonomi og biodiversitet\n\n  \nSocial: \n\nB8: Arbejdsstyrke – generelle karakteristika\nB9: Arbejdsstyrke – sundhed og sikkerhed\nB10: Arbejdsstyrke – aflønning\, kollektive forhandlinger og uddannelse\n\n  \nForretningsadfærd: \n\nB11: Domsfældelser og bøder for korruption og bestikkelse
URL:https://mer.dk/event/aabent-klimakontor-kom-og-arbejd-med-din-esg-rapport/
LOCATION:Morsø Erhvervsråd\, Holgersgade 1\, Nykøbing M\, 7900\, Danmark
CATEGORIES:Workshop
ATTACH;FMTTYPE=image/png:https://mer.dk/wp-content/uploads/2025/04/aabent-klimakontor-ESG.jpg.png
ORGANIZER;CN="Mors%C3%B8 Erhvervsr%C3%A5d":MAILTO:post@mer.dk
END:VEVENT
BEGIN:VEVENT
DTSTART;TZID=Europe/Copenhagen:20250507T160000
DTEND;TZID=Europe/Copenhagen:20250507T180000
DTSTAMP:20260424T150838
CREATED:20241021T092022Z
LAST-MODIFIED:20241023T084618Z
UID:10000173-1746633600-1746640800@mer.dk
SUMMARY:Netværksmøde for soloselvstændige og nystartede virksomheder
DESCRIPTION:Morsø Erhvervsråd har etableret et erhvervsnetværk for soloselvstændige og nystartede virksomheder\, som har til formål at skabe et fællesskab\, hvor medlemmerne af netværket kan mødes regelmæssigt for at drøfte udfordringer\, udveksle erfaringer og hente inspiration fra hinanden. \n  \nBaggrund \nSoloselvstændige og ejere af nystartede virksomheder har det til fælles\, at man er den eneste\, der arbejder i virksomheden. Man er selvstændig eller iværksætter uden at have nogle ansatte. Det vil sige\, at man står alene med alt lige fra salg\, marketing\, jura\, regnskab\, og hvad det ellers indebærer at drive virksomhed. Den fælles udfordring er\, at man ofte mangler ligesindede at sparre med. \n  \nOm netværket \nVi mødes fire gange om året. Møderne afholder vi i tidsrummet kl. 16.00 – 18.00. Netværket består af virksomheder fra forskellige brancher. \nMorsø Erhvervsråd står for det praktiske omkring indkaldelse og gennemførelsen af møderne. \nDet er gratis at deltage i netværket. Det er blot en forudsætning\, at man er medlem hos Morsø Erhvervsråd. Er du interesseret i at deltage i netværket\, så send en mail til Jens: jvc@mer.dk eller giv ham et kald på: 21 47 88 80.
URL:https://mer.dk/event/netvaerksmoede-for-soloselvstaendige-2/
LOCATION:Morsø Erhvervsråd\, Holgersgade 1\, Nykøbing M\, 7900\, Danmark
CATEGORIES:Netværk
ATTACH;FMTTYPE=image/png:https://mer.dk/wp-content/uploads/2024/08/Netvaerk-for-soloselvstaendige.png
ORGANIZER;CN="Mors%C3%B8 Erhvervsr%C3%A5d":MAILTO:post@mer.dk
END:VEVENT
BEGIN:VEVENT
DTSTART;TZID=Europe/Copenhagen:20250508T160000
DTEND;TZID=Europe/Copenhagen:20250508T173000
DTSTAMP:20260424T150838
CREATED:20250313T140210Z
LAST-MODIFIED:20250317T064623Z
UID:10000225-1746720000-1746725400@mer.dk
SUMMARY:Er du bilforhandler og vil du være leverandør til Morsø Kommune?
DESCRIPTION:Er du bilforhandler og vil du være leverandør til Morsø Kommune? \nFremover vil Morsø Kommune benytte SKI’s dynamiske indkøbssystem\, når der skal købes køretøjer. For at kunne byde på udbuddene\, skal bilforhandlerne være oprettet i systemet. Kom og få en præsentation af det dynamiske indkøbssystem\, og hør hvordan du opretter dig\, så du fremover kan byde på kommunens køretøjer. Kommunen forventer inden sommerferien at benytte systemet til indkøb af de første køretøjer. \n  \nDu vil også få en kort præsentation af Morsø Erhvervsråd\, og hvad vi kan tilbyde. \n  \nVi er værter med en kop kaffe og et stykke kage. \nTilmelding nedenfor.
URL:https://mer.dk/event/er-du-bilforhandler-og-vil-du-vaere-leverandoer-til-morsoe-kommune/
LOCATION:Morsø Erhvervsråd\, Holgersgade 1\, Nykøbing M\, 7900\, Danmark
CATEGORIES:Arrangementer
ATTACH;FMTTYPE=image/png:https://mer.dk/wp-content/uploads/2025/03/Morsoe-Kommune.png
ORGANIZER;CN="Mors%C3%B8 Erhvervsr%C3%A5d":MAILTO:post@mer.dk
END:VEVENT
BEGIN:VEVENT
DTSTART;TZID=Europe/Copenhagen:20250509T090000
DTEND;TZID=Europe/Copenhagen:20250509T103000
DTSTAMP:20260424T150838
CREATED:20250423T113837Z
LAST-MODIFIED:20250428T105136Z
UID:10000237-1746781200-1746786600@mer.dk
SUMMARY:Fjernvarme i Food Parken
DESCRIPTION:Kom og hør nærmere om fjernvarmeplanerne for Food Parken. \n  \nFjernvarme planlægges for Erslev og Øster Jølby\, herunder industriområdet. Planlægningen er nu i tilslutningsfasen\, som er afgørende for projektets gennemførelse. \nFjernvarme er blevet relevant og rentabel igen\, da det kan udnytte overskudsvarme fra industrier og overskud fra nettet. Projektet baseres på el\, overskudsvarme og en akkumuleringstank\, hvilket giver stordriftsfordele og lavere elpriser. \nFjernvarme kan reducere virksomheders afhængighed af naturgas og forbedre deres ESG-profil. Det er ofte billigere og mere stabilt end naturgas\, hvilket gør budgettering lettere. \nTilslutning til fjernvarme indebærer en pris for stikledninger og målere. Virksomheder kan søge tilskud til etablering via Energistyrelsens erhvervspulje\, afhængigt af virksomhedens størrelse og varmeforbrug. \nFjernvarme kan skabe synergi i industriområder som Erslev ved at udnytte lokale ressourcer bedre. Det handler om\, hvor meget man kan spare ved at tilslutte sig fjernvarme\, og hvordan det sker. \n  \nArrangementet er arrangeret af Sdr. Herreds Kraftvarmeværker. \nMødet afholdes hos BILA\, Industrivej 18\, Nykøbing Mors. \nTilmelding nedenfor.
URL:https://mer.dk/event/fjernvarme-i-foodparken/
LOCATION:BILA\, Industrivej 8\, Nykøbing Mors\, 7900\, Danmark
CATEGORIES:Arrangementer
ATTACH;FMTTYPE=image/png:https://mer.dk/wp-content/uploads/2025/04/Fjernvarme-event.png
ORGANIZER;CN="Mors%C3%B8 Erhvervsr%C3%A5d":MAILTO:post@mer.dk
END:VEVENT
BEGIN:VEVENT
DTSTART;TZID=Europe/Copenhagen:20250512T160000
DTEND;TZID=Europe/Copenhagen:20250512T180000
DTSTAMP:20260424T150838
CREATED:20241025T092435Z
LAST-MODIFIED:20250410T061244Z
UID:10000179-1747065600-1747072800@mer.dk
SUMMARY:Iværksættercafé
DESCRIPTION:Iværksættercaféen er et gratis tilbud til alle iværksættere og før-startere fra Morsø Kommune \nCaféen er for dig\, der ønsker at starte som selvstændig\, og stedet hvor du kan få en personlig dialog og møde professionelle rådgivere. \nDet er også for dig\, der er i gang som iværksætter\, men søger mere inspiration og et netværk med andre iværksættere. \nDet får du ved at deltage: \n\nInspiration og viden\nUdvid dit netværk\nFå en dialog med erhvervsrådets konsulenter\nStille spørgsmål til en rådgiver\nMøder andre iværksættere på Mors\nFortælle andre om din ide\nFå feedback med det samme\nUdvikle din forretningside\n\n  \nProgram:   \n16.00 – Caféen åbner \nFå hjælp til aktuelle emner\, du går og tænker på lige nu. \nVi tager en dialog rundt om bordet for at høre om din ide eller din virksomhed. \nMød andre iværksættere. Del dine erfaringer og få inspiration fra andre\, der lige som dig er i gang med rejsen som iværksætter. \n  \n16.30 – Mød en iværksætter – Denne gang får vi besøg af Malte Houe som startede Houe Film for syv år siden. Malte vil fortælle os om sin spændende rejse fra ideen til at starte egen virksomhed\, og frem til i dag\, hvor der stadig er fart på. De er i dag 6 medarbejdere og tilknyttede faste konsulenter\, og Malte har gang i mange rigtig spændende projekter.  Vi glæder os til at møde en rigtig ildsjæl\, og blive inspireret til hvordan du udvikler din forretning. Du kan læse mere om Malte Houe her: Houe Film \n \n17.00 – Dagens tema – Har du selvindsigt som selvstændig?  \nJette Facius vil give dig noget at tænke over\, når hun gennemgår personprofilværktøjet fra Insights Discovery. \nVia oplægget bliver du mere klar over: \n\nhvem og hvad der betyder noget for\, at du trives som selvstændig\nhvem og hvad der kan udfordre en personprofil som dig i det selvstændige liv.\n\nMålet er\, at du tager hjem med en lidt større selvindsigt – og at du har grinet lidt af dig selv undervejs. \nDu kan læse mere om Jette fra Facius Rådgivning her: faciusraadgivning.dk. \n \n17.45 – Aktuelle gratis kurser fra Iværksætter Danmark                    \n  \n18.00 – Caféen lukker \n  \nTilmelding \nDeltagelse er gratis\, men tilmelding er nødvendig nedenfor. \nIværksættercaféen laves i samarbejde med Thy Erhvervsforum. \nHvis du har spørgsmål\, er du velkommen til at kontakte Jens Vinther Christensen på jvc@mer.dk
URL:https://mer.dk/event/ivaerksaettercafe-12/
LOCATION:Morsø Erhvervsråd\, Holgersgade 1\, Nykøbing M\, 7900\, Danmark
CATEGORIES:Netværk
ATTACH;FMTTYPE=image/jpeg:https://mer.dk/wp-content/uploads/2022/11/Ivaerksaettercafeen-e1675932540651.jpg
ORGANIZER;CN="Mors%C3%B8 Erhvervsr%C3%A5d":MAILTO:post@mer.dk
END:VEVENT
BEGIN:VEVENT
DTSTART;TZID=Europe/Copenhagen:20250514T130000
DTEND;TZID=Europe/Copenhagen:20250514T170000
DTSTAMP:20260424T150838
CREATED:20241107T113852Z
LAST-MODIFIED:20250506T080833Z
UID:10000191-1747227600-1747242000@mer.dk
SUMMARY:Netværksmøde i Klimanetværket
DESCRIPTION:Morsø Erhvervsråds Klimanetværk er udsprunget af vores “Bliv Klima-Parat” forløb på 5 moduler\, som kørte fra september til november 2023\, hvor ca. 20 lokale virksomheder var repræsenteret. \nDanske virksomheder skal bidrage til at realisere målet om at reducere CO2 aftrykket med 70% inden 2030 og konkret indeholder Morsø Kommunes klimahandlingsplan en vision om en klimaneutral industri- og erhverv på Mors i 2030. \nMorsø Erhvervsråds Klimanetværk har til formål at samle virksomheder\, organisationer og interessenter på Mors med henblik på at inspirere og fremme bæredygtige løsninger og grøn omstilling i erhvervslivet – og dermed reducere klimaaftrykket. \n  \nProgram for netværksmødet\, som afholdes i Erhvervscafeen: \nI forløbet mod at lave en ESG-rapport med afsæt i Erhvervstyrelsens ESG-skabelon\, vil vi på dette netværksmøde få ekstern input til ESG-indledning og -afgrænsning i form af en light væsentlighedsvurdering. \nUd fra oplægget vil hver virksomhed blive i stand til sagligt at redegøre for hvad der er væsentlig for virksomheden. Og dermed hvilke punkter der er relevante at inkludere og hvilke der sagligt kan ekskluderes i en ESG-rapport iht. Basis- og Udvidet Modul. \n  \nKl. 12.00 – 12.30: Sandwich og velkomst \n  \nKl. 12.30 – 13.15: Oplæg ved Anders Chr. Haahr\, Milestone Pro (gamle kending i netværket) \n\nEn praksisnær gennemgang af en simpel Dobbelt Væsentlighedsvurdering\n\n  \nKl. 13.15 – 14.00: Spørgsmål/Vejledning med Anders Chr. Haahr \n\nGennemgang af medlemsvirksomheder – Hvordan skal den enkelte virksomhed argumentere for hvad der er væsentligt\n\n  \nKl. 14.00 – 14.30: Pause\, kaffe/the og Bordet Rundt \n  \nKl. 14.30-16: Vejen til ESG-rapport 2024 (2/3) – Hands-on workshop med vejledning \n\nOpsamling på første del – E’et – inkl. klimarapport.\nGennemgang og hands-on med emnerne under S’et.\n\n  \nPå disse 3 netværksmøder vil anden halvdel være hands-on med henblik på at hjælpe alle klimanetværksmedlemmer i mål med en esg-rapport\, som kan bruges enten til intern kommunikation eller ekstern. \n  \nDeltagelse i Morsø Erhvervsråds Klimanetværk koster 5.000\,- ekskl. moms årligt for op til 2 personer fra samme virksomhed.\nDet er en forudsætning\, at du er medlem af Morsø Erhvervsråd for at deltage i Klimanetværket. Ved interesse\, kontakt Susanne Toftegaard Hansen: sth@mer.dk
URL:https://mer.dk/event/netvaerksmoede-i-klimanetvaerket-5/
LOCATION:Morsø Erhvervsråd\, Holgersgade 1\, Nykøbing M\, 7900\, Danmark
CATEGORIES:Netværk
ATTACH;FMTTYPE=image/png:https://mer.dk/wp-content/uploads/2024/02/Klimanetvaerk.png
ORGANIZER;CN="Mors%C3%B8 Erhvervsr%C3%A5d":MAILTO:post@mer.dk
END:VEVENT
BEGIN:VEVENT
DTSTART;TZID=Europe/Copenhagen:20250521T130000
DTEND;TZID=Europe/Copenhagen:20250521T160000
DTSTAMP:20260424T150838
CREATED:20250409T115716Z
LAST-MODIFIED:20250521T084209Z
UID:10000233-1747832400-1747843200@mer.dk
SUMMARY:Åbent klimakontor – Kom og arbejd med din ESG rapport
DESCRIPTION:Vi åbner vores klimakontor op\, hvor projektleder\, Erik Wind vil sidde og være klar til vejledning i forbindelse med udfyldelse af din virksomheds ESG rapport. Tag din computer med\, og lad os hjælpe dig i mål. \n  \nDu kan begynde din forberedelse allerede nu ved at kigge ind i skabelonen her: ESG-skabelon \n  \nBasismodul for VSME-standarden indeholder følgende rapporteringspunkter \nGenerelt: \n\nB1: Grundlag for udarbejdelse\nB2: Praksis for omstilling til en mere cirkulær økonomi\n\n  \nMiljø: \n\nB3: Energi- og drivhusgasemissioner\nB4: Forurening af luft\, vand og jord\nB5: Biodiversitet\nB6: Vand\nB7: Ressourceforbrug\, cirkulær økonomi og biodiversitet\n\n  \nSocial: \n\nB8: Arbejdsstyrke – generelle karakteristika\nB9: Arbejdsstyrke – sundhed og sikkerhed\nB10: Arbejdsstyrke – aflønning\, kollektive forhandlinger og uddannelse\n\n  \nForretningsadfærd: \n\nB11: Domsfældelser og bøder for korruption og bestikkelse
URL:https://mer.dk/event/aabent-klimakontor-kom-og-arbejd-med-din-esg-rapport-2/
LOCATION:Morsø Erhvervsråd\, Holgersgade 1\, Nykøbing M\, 7900\, Danmark
CATEGORIES:Workshop
ATTACH;FMTTYPE=image/png:https://mer.dk/wp-content/uploads/2025/04/aabent-klimakontor-ESG.jpg.png
ORGANIZER;CN="Mors%C3%B8 Erhvervsr%C3%A5d":MAILTO:post@mer.dk
END:VEVENT
BEGIN:VEVENT
DTSTART;TZID=Europe/Copenhagen:20250522T083000
DTEND;TZID=Europe/Copenhagen:20250522T100000
DTSTAMP:20260424T150838
CREATED:20250506T080302Z
LAST-MODIFIED:20250519T113205Z
UID:10000245-1747902600-1747908000@mer.dk
SUMMARY:Webinar: Undgå katastrofen - få en plan B
DESCRIPTION:Når verden vælter – står din virksomhed fast? Lær\, hvordan du styrker du din virksomheds robusthed og kriseberedskab. Hvad gør du\, hvis din vigtigste leverandør går konkurs\, du mister din største kunde eller strømmen pludselig forsvinder? Kan din virksomhed modstå uventede hændelser – eller bliver det forretningskritisk? \n  \n\n\n\nVerden er i konstant forandring\nVerden omkring os er i hastig forandring – præget af stor usikkerhed\, nye toldsatser\, ustabile forsyningskæder og globale konflikter. Som ejerleder har du ansvaret – og kun lidt tid til at handle\, når noget går galt. Her snakker vi både det fulde ansvar – for drift\, medarbejdere\, kunder og økonomi. Et stærkt kriseberedskab kan være forskellen mellem at klare sig igennem – derfor er det afgørende at have en plan B. \nFor helt konkret risikerer I – uden en plan B – langsommere beslutningstagning\, ineffektiv kommunikation og fejl\, hvilket kan forlænge krisens varighed og forværre dens konsekvenser. \nPå dette webinar får du:\n\nIndblik i\, hvad kriseberedskab er – og hvorfor det er afgørende for overlevelse.\nKonkrete værktøjer til at spotte og beskytte dine største sårbarheder.\nInspiration fra en virksomhedsejer\, der har været igennem det i praksis.\nOverblik over\, hvordan du får hjælp til at lave en solid beredskabsplan.\n\nDu kan ikke planlægge krisen – men du kan planlægge din reaktion.\n\n\n\n\n\n\n\n\nMød dagens oplægsholder: Jan Stentoft\nJan Stentoft er professor i Supply Chain Management ved Syddansk Universitet og en af Danmarks førende eksperter i forsyningskæders robusthed. Han forsker blandt andet i kriseberedskab\, cybersikkerhed og forsyningskæders modstandsdygtighed – og har praktisk erfaring fra både LEGO og rådgivning i industrien. I dag leder han et stort forskningsprojekt støttet af Industriens Fond\, der fokuserer på\, hvordan mindre virksomheder bedst håndterer geopolitiske kriser og cybertrusler. \n\n\n\n\n\n\n\n\n\n\n\n\n\nWebinarets program\n08:30 – Velkommen og introduktion: Kender du dine største risici?\nv/ Troels Larsen\, forretningsudvikler \n08:50 – Gør din virksomhed klar til det uventede\nv/ Jan Stentoft\, ekspert og prækvalificeret rådgiver \n09:20 – Indlæg fra en virksomhedsejer: Hvordan gør du det i praksis? \n09:50 – Kriseberedskab gennem SMV:PRO\, spørgsmål og afrunding \n10:00 – Tak for i dag \n\n\n\n\n\n\n\n\n\n\n\nMålgruppe\nDette webinar henvender sig til virksomhedsejere eller medejere af en SMV-virksomhed. \nFor at deltage skal din virksomhed opfylde følgende kriterier:\n✔ CVR-nummer\n✔ 0-249 ansatte\n✔ Minimum ét afsluttet regnskabsår \nVi forbeholder os retten til at kontakte dig\, hvis din virksomhed ikke falder inden for målgruppen. Har du spørgsmål til din deltagelse\, er du altid velkommen til at kontakte os. \n\n\n\n  \n\nDeltagelse\nDu kan deltagen enten online fra din egen PC eller du er velkommen her hos Morsø Erhvervsråd\, hvor vi vil deltage i webinaret fra fælles skærm. Hvis du ønsker at deltage her i Holgersgade sammen med os\, tilmelder du dig blot nederst som du plejer med vores events. \n  \n\nTilmelding fra egen skærm her: Aktivitet: Webinar: Undgå katastrofen – få en plan B – Erhvervshus Hovedstaden
URL:https://mer.dk/event/webinar-undgaa-katastrofen-faa-en-plan-b/
LOCATION:Online
CATEGORIES:Webinar
ATTACH;FMTTYPE=image/webp:https://mer.dk/wp-content/uploads/2025/05/600x400-Jan-Stentoft.webp
END:VEVENT
BEGIN:VEVENT
DTSTART;TZID=Europe/Copenhagen:20250522T170000
DTEND;TZID=Europe/Copenhagen:20250522T210000
DTSTAMP:20260424T150838
CREATED:20241219T140046Z
LAST-MODIFIED:20241219T140046Z
UID:10000215-1747933200-1747947600@mer.dk
SUMMARY:Netværksmøde i ejerledernetværket
DESCRIPTION:Morsø Erhvervsråd inviterer til møde i ejerledernetværket. \n  \nNetværket optager løbende nye medlemmer. Ved interesse kontakt Jens Vinther Christensen på jvc@mer.dk
URL:https://mer.dk/event/netvaerksmoede-i-ejerledernetvaerket-8/
LOCATION:Morsø Erhvervsråd\, Holgersgade 1\, Nykøbing M\, 7900\, Danmark
CATEGORIES:Netværk
ATTACH;FMTTYPE=image/png:https://mer.dk/wp-content/uploads/2023/03/Netvaerk.png
ORGANIZER;CN="Mors%C3%B8 Erhvervsr%C3%A5d":MAILTO:post@mer.dk
END:VEVENT
BEGIN:VEVENT
DTSTART;TZID=Europe/Copenhagen:20250527T081500
DTEND;TZID=Europe/Copenhagen:20250527T100000
DTSTAMP:20260424T150838
CREATED:20250403T122115Z
LAST-MODIFIED:20250403T122115Z
UID:10000229-1748333700-1748340000@mer.dk
SUMMARY:Morgenmøde: BEHIND THE SCENES - KULTURMØDET MORS
DESCRIPTION:I samarbejde med Jeanette Kilde inviterer vi jer til et spændende morgenmøde\, hvor vi får besøg af projektleder Malte Houe og  Caspar Ryttergaard direktør for Kulturmødet Mors. \nKulturmødet Mors er Danmarks største samlingspunkt for kultur\, kunst og samfundsdebat. \nDet har gennem årene udviklet sig til en vigtig platform\, hvor politikere\, kunstnere\, erhvervsfolk og kulturaktører mødes for at drøfte kulturens betydning og fremtid. \nTil morgenmødet vil vi få et unikt indblik i historien bag Kulturmødet\, hvordan det er blevet en national begivenhed\, og hvilke tanker der ligger bag processen. \nDerudover vil vores gæster dele personlige anekdoter og refleksioner om udviklingen af Kulturmødet – fra idé til realisering. \nDette er en oplagt mulighed for at blive klogere på samarbejdet mellem kultur og erhverv\, få ny inspiration og netværke med andre engagerede aktører. \nVi ser frem til en inspirerende morgen sammen med jer!
URL:https://mer.dk/event/morgenmoede-behind-the-scenes-kulturmoedet-mors/
LOCATION:Morsø Erhvervsråd\, Holgersgade 1\, Nykøbing M\, 7900\, Danmark
CATEGORIES:Arrangementer,Medlemsfordel
ATTACH;FMTTYPE=image/png:https://mer.dk/wp-content/uploads/2025/04/Kulturmoedet-.png
ORGANIZER;CN="Mors%C3%B8 Erhvervsr%C3%A5d":MAILTO:post@mer.dk
END:VEVENT
END:VCALENDAR