BEGIN:VCALENDAR
VERSION:2.0
PRODID:-//Morsø Erhvervsråd - ECPv6.15.14//NONSGML v1.0//EN
CALSCALE:GREGORIAN
METHOD:PUBLISH
X-WR-CALNAME:Morsø Erhvervsråd
X-ORIGINAL-URL:https://mer.dk
X-WR-CALDESC:Begivenheder for Morsø Erhvervsråd
REFRESH-INTERVAL;VALUE=DURATION:PT1H
X-Robots-Tag:noindex
X-PUBLISHED-TTL:PT1H
BEGIN:VTIMEZONE
TZID:Europe/Copenhagen
BEGIN:DAYLIGHT
TZOFFSETFROM:+0100
TZOFFSETTO:+0200
TZNAME:CEST
DTSTART:20250330T010000
END:DAYLIGHT
BEGIN:STANDARD
TZOFFSETFROM:+0200
TZOFFSETTO:+0100
TZNAME:CET
DTSTART:20251026T010000
END:STANDARD
BEGIN:DAYLIGHT
TZOFFSETFROM:+0100
TZOFFSETTO:+0200
TZNAME:CEST
DTSTART:20260329T010000
END:DAYLIGHT
BEGIN:STANDARD
TZOFFSETFROM:+0200
TZOFFSETTO:+0100
TZNAME:CET
DTSTART:20261025T010000
END:STANDARD
BEGIN:DAYLIGHT
TZOFFSETFROM:+0100
TZOFFSETTO:+0200
TZNAME:CEST
DTSTART:20270328T010000
END:DAYLIGHT
BEGIN:STANDARD
TZOFFSETFROM:+0200
TZOFFSETTO:+0100
TZNAME:CET
DTSTART:20271031T010000
END:STANDARD
END:VTIMEZONE
BEGIN:VEVENT
DTSTART;TZID=Europe/Copenhagen:20260119T153000
DTEND;TZID=Europe/Copenhagen:20260119T180000
DTSTAMP:20260421T103853
CREATED:20250522T060448Z
LAST-MODIFIED:20260115T093131Z
UID:10000254-1768836600-1768845600@mer.dk
SUMMARY:Nytårskur 2026
DESCRIPTION:NYTÅRSKUR: \nVi gentager succesen fra 2025. \nMorsø Erhvervsråd vil gerne igen i samarbejde med Morsø Kommune og Jyske Bank invitere medlemmer\, samarbejdspartnere\, virksomheder\, iværksættere og erhvervslivet på Mors til Nytårskur. \n  \nTID OG STED: \n\nMandag den 19. januar 2026\nKl. 15.30 – 18.00\nEventet afholdes hos Morsø Erhvervsråd\, Holgersgade 1\, 7900 Nykøbing Mors\n\n  \nPROGRAM: \n\nDagens program ved erhvervschef\, Susanne Toftegaard Hansen\nVelkomst ved bestyrelsesformand\, Tage Odgaard Nielsen\n“Et kig på årets tal 2025 og et kig ind i 2026” ved erhvervschef\, Susanne Toftegaard Hansen\n“Året der kommer” ved borgmester\, Jens Dahlgaard\n“Vejen til et mere robust Danmark” ved minister Torsten Schack Pedersen\nVideohilsen fra folketingsmedlem\, Simon Kollerup\nLidt godt til ganen og netværk\n“Den økonomiske vejrudsigt” ved chefanalytiker fra Jyske Bank\, Tina Winther Frandsen\nTak for i dag\n\n 
URL:https://mer.dk/event/nytaarskur-2026/
LOCATION:Morsø Erhvervsråd\, Holgersgade 1\, Nykøbing M\, 7900\, Danmark
CATEGORIES:Arrangementer,Medlemsfordel
ATTACH;FMTTYPE=image/png:https://mer.dk/wp-content/uploads/2025/05/Nytaarskur-2026-1.png
ORGANIZER;CN="Mors%C3%B8 Erhvervsr%C3%A5d":MAILTO:post@mer.dk
END:VEVENT
BEGIN:VEVENT
DTSTART;TZID=Europe/Copenhagen:20260121T080000
DTEND;TZID=Europe/Copenhagen:20260121T100000
DTSTAMP:20260421T103853
CREATED:20250408T104011Z
LAST-MODIFIED:20250428T063942Z
UID:10000231-1768982400-1768989600@mer.dk
SUMMARY:Business Breakfast med Morsø Erhvervsråd hos HE-VA
DESCRIPTION:Kom med på VirksomhedsVandring med Morsø Erhvervsråd. Et nyt koncept vi søsatte i 2024\, som skal understøtte vores strategi og fokus på Morsø Erhvervsråd som et stærkt erhvervsfællesskab på Mors. Kært barn har mange navne\, så hvis du kender åbent hus\, business breakfast\, morgenbriefing eller lignende\, så taler vi ca. samme sprog. \n  \nVi vil gerne være med til at vise vores medlemsvirksomheder frem som en form for ”markvandring” eller åbent hus\, hvor vi øger kendskabet til øens virksomheder\, får en kop kaffe\, en rundvisning\, et indblik i virksomheden og en god snak med hinanden i “marken”. \n  \nDenne gang besøger vi HE-VA i Nykøbing Mors\, hvor vi vil få en rundvisning samt en fortælling om virksomheden. \n  \nOm HE-VA: \nHE-VA producerer maskiner til det moderne landbrug. De eskporterer over 90% af deres landbrugsmaskiner og har forhandlere i mere end 40 lande. Virksomheden beskæftiger 140 medarbejdere. \nHE-VA er godt håndværk og dedikerede medarbejdere. De udvikler\, producerer og sælger landbrugsmaskiner af høj kvalitet\, der gør arbejdet på gården nemmere\, hurtigere og sikrer størst muligt udbytte. \n  \nSidst men ikke mindst har HE-VA i år modtaget “Den Gyldne Østers”\, som er Morsø Erhvervsråds initiativpris. Så snør vandrestøvlerne og tag med Morsø Erhvervsråd på VirksomhedsVandring hos HE-VA. Vi glæder os. \n 
URL:https://mer.dk/event/business-breakfast-med-morsoe-erhvervsraad-hos-he-va/
LOCATION:HE-VA\, N. A. Christensensvej 34\, Nykøbing Mors\, 7900\, Danmark
CATEGORIES:Arrangementer,Medlemsfordel
ATTACH;FMTTYPE=image/png:https://mer.dk/wp-content/uploads/2024/10/Business-Breakfast.png
ORGANIZER;CN="Mors%C3%B8 Erhvervsr%C3%A5d":MAILTO:post@mer.dk
END:VEVENT
END:VCALENDAR