BEGIN:VCALENDAR
VERSION:2.0
PRODID:-//Morsø Erhvervsråd - ECPv6.15.14//NONSGML v1.0//EN
CALSCALE:GREGORIAN
METHOD:PUBLISH
X-ORIGINAL-URL:https://mer.dk
X-WR-CALDESC:Begivenheder for Morsø Erhvervsråd
REFRESH-INTERVAL;VALUE=DURATION:PT1H
X-Robots-Tag:noindex
X-PUBLISHED-TTL:PT1H
BEGIN:VTIMEZONE
TZID:Europe/Copenhagen
BEGIN:DAYLIGHT
TZOFFSETFROM:+0100
TZOFFSETTO:+0200
TZNAME:CEST
DTSTART:20230326T010000
END:DAYLIGHT
BEGIN:STANDARD
TZOFFSETFROM:+0200
TZOFFSETTO:+0100
TZNAME:CET
DTSTART:20231029T010000
END:STANDARD
BEGIN:DAYLIGHT
TZOFFSETFROM:+0100
TZOFFSETTO:+0200
TZNAME:CEST
DTSTART:20240331T010000
END:DAYLIGHT
BEGIN:STANDARD
TZOFFSETFROM:+0200
TZOFFSETTO:+0100
TZNAME:CET
DTSTART:20241027T010000
END:STANDARD
BEGIN:DAYLIGHT
TZOFFSETFROM:+0100
TZOFFSETTO:+0200
TZNAME:CEST
DTSTART:20250330T010000
END:DAYLIGHT
BEGIN:STANDARD
TZOFFSETFROM:+0200
TZOFFSETTO:+0100
TZNAME:CET
DTSTART:20251026T010000
END:STANDARD
END:VTIMEZONE
BEGIN:VEVENT
DTSTART;TZID=Europe/Copenhagen:20241111T160000
DTEND;TZID=Europe/Copenhagen:20241111T180000
DTSTAMP:20260425T165923
CREATED:20231207T140255Z
LAST-MODIFIED:20240701T134810Z
UID:10000127-1731340800-1731348000@mer.dk
SUMMARY:Iværksættercafé
DESCRIPTION:Iværksættercaféen er et gratis tilbud til alle iværksættere og før-startere fra Morsø Kommune \nCaféen er for dig\, der ønsker at starte som selvstændig\, og også stedet hvor du kan få en personlig dialog og møde professionelle rådgivere. \nDet er også for dig\, der er i gang som iværksætter\, men søger mere inspiration og et netværk med andre iværksættere. \nDet får du ved at deltage: \n\nInspiration og viden\nUdvid dit netværk\nFå en dialog med erhvervsrådets konsulenter\nStille spørgsmål til en rådgiver\nMøder andre iværksættere på Mors\nFortælle andre om din ide\nFå feedback med det samme\nUdvikle din forretningside\n\n  \nProgram:   \n16.00 – Caféen åbner \nFå hjælp til aktuelle emner\, du går og tænker på lige nu. \nVi tager en dialog rundt om bordet for at høre om din ide eller din virksomhed. \nMød andre iværksættere. Del dine erfaringer og få inspiration fra andre\, der lige som dig er i gang med rejsen som iværksætter. \n  \n16.30 – Mød en iværksætter – Vi har inviteret Kasper Lindgren\, som udover at være stregspiller i Thy Mors Håndbold også er iværksætter. Kasper vil fortælle om sin rejse fra ide til nu at have sin succesfulde virksomhed Yuaia Haircare. Du kan læse meget mere om Kasper og hans virksomhed her: Yuaia Haircare | Få dit drømme hår idag | Hårpleje af høj kvalitet \n  \n17.00 – Dagens tema – Regnskab og bogføring \nJørgen Bagge Rasmussen fra Morsø Bogføring og Regnskabsservice har mange års erfaring fra en karriere i erhvervslivet. Jørgen er uddannet revisor\, og står bag Morsø Bogføring og Regnskabsservice. Jørgen kan forklare det med regnskaber og bogføring\, så det er til at forstå. Han sætter en stor ære i\, at du som virksomhedsejer ”forstår tallene” og det der rør sig i din virksomhed. Han vil komme med gode råd\, og dele sine erfaringer og Best Practice\, når det handler om hvad du som iværksætter og nystartet virksomhed særligt skal være opmærksom på. Der er rigelig mulighed til at stille spørgsmål\, og du vil helt sikkert få et brugbart svar. Du kan læse endnu mere om Morsø Bogføring og Regnskabsservice her: Morsø Bogføring & Regnskabsservice (xn--morsbogfring-yjbe.dk) \n  \n17.45 – Aktuelle gratis kurser fra Iværksætter Danmark                     \n  \n18.00 – Caféen lukker \n  \nTilmelding \nDeltagelse er gratis\, men tilmelding er nødvendig. \nHvis du har spørgsmål\, er du velkommen til at kontakte Jens Vinther Christensen på jvc@mer.dk
URL:https://mer.dk/event/ivaerksaettercafe-10/
LOCATION:Morsø Erhvervsråd\, Holgersgade 1\, Nykøbing M\, 7900\, Danmark
CATEGORIES:Arrangementer
ATTACH;FMTTYPE=image/jpeg:https://mer.dk/wp-content/uploads/2022/11/Ivaerksaettercafeen-e1675932540651.jpg
ORGANIZER;CN="Mors%C3%B8 Erhvervsr%C3%A5d":MAILTO:post@mer.dk
END:VEVENT
BEGIN:VEVENT
DTSTART;TZID=Europe/Copenhagen:20241113T190000
DTEND;TZID=Europe/Copenhagen:20241113T203000
DTSTAMP:20260425T165923
CREATED:20240311T133641Z
LAST-MODIFIED:20241112T113559Z
UID:10000134-1731524400-1731529800@mer.dk
SUMMARY:”De er ordentligt zyge” – velkommen til generation Z & Y på arbejdsmarkedet med Søren Østergaard i samarbejde med Lederne Midt/Nord
DESCRIPTION:I samarbejde med Lederne Midt/Nord har vi booket Søren Østergaard til et foredrag om Generation Z og Y. Der er lagt op til en øjenåbner\, hvor vi får sat den unge generation under lup ift. arbejdsmarkedet og ikke mindst den fremtidige virksomhedskultur. \n  \n”De er ordentligt zyge” – velkommen til generation Z & Y på arbejdsmarkedet \nHvorfor tager yngre medarbejdere ikke selvstændige initiativer – og hvad skal der til for at motivere dem til at tage ansvar i hverdagen? Hvad er baggrunden for\, at de har højere sygefravær end ældre medarbejdere – er det fordi de er dovne\, eller er der andre ting på spil? Hvilke arbejdspladser er det\, de efterspørger? Hvilke former for ledelse efterspørger de? Hvordan får man dem til at arbejde sammen med medarbejdere\, der har været i virksomheden i længere tid? \n  \nMed afsæt i en introduktion til de generelle kendetegn for Generation Y-Z vil der i oplægget være fokus på\, hvordan man som en virksomhed kan rumme såvel elever som nye yngre medarbejdere\, der ofte har helt andre forventninger til arbejdslivet\, end de medarbejdere der har arbejdet i virksomheden gennem længere tid – herunder hvordan man skaber en virksomhedskultur\, hvor generationerne gensidigt udfordrer hinanden. \n  \nSøren Østergaard \nSøren Østergaard har siden 1995 primært forsket i børn og unges hverdag og værdier\, deres deltagelse i fritids- og foreningsliv\, deres voksenrelationer\, samt trivsel. I dag er han en af de mest kompetente foredragsholdere på området\, og formår altid at give sine erfaringer og konkrete værktøjer videre til publikum. \n  \nSøren Østergaard er en af landets førende eksperter på unge og ungdomskulturer med viden om grundlæggende forudsætninger for at samarbejde kan lykkedes\, er hans foredrag og materiale baseret på nyeste viden og er derfor altid 100% opdateret. \n  \nSøren Østergaard har skrevet en lang række bøger omkring børn og unge – hvoraf kan nævnes ”Unge i en præstationskultur”\, ”Jagten på frirum – Perspektiver på unge\, hverdagsliv og fællesskaber\, samt ”Der sker hele tiden noget – det gør der bare!” – en undersøgelse med fokus på Generation Alpha\, fritid\, forældre og fællesskab. \n  \nSøren Østergaard er uddannet inden for samfundsvidenskab og teologi og har en ph.d.-grad i teologi fra Københavns Universitet om forandring i spændingsfeltet mellem tradition og kontekst. Derudover er han daglig leder af CUR (Center for Ungdomsstudier). \n  \nAlle er velkomne\, men vi har brug for din tilmelding nedenfor. \nVi ser frem til en inspirerende aften i selskab med Søren Østergaard og Generation Z & Y.
URL:https://mer.dk/event/de-er-ordentligt-zyge-velkommen-til-generation-z-y-paa-arbejdsmarkedet-med-soeren-oestergaard-i-samarbejde-med-lederne-midt-nord/
LOCATION:Morsø Erhvervsråd\, Holgersgade 1\, Nykøbing M\, 7900\, Danmark
CATEGORIES:Arrangementer
ATTACH;FMTTYPE=image/png:https://mer.dk/wp-content/uploads/2024/03/Soeren-Oestergaard.png
ORGANIZER;CN="Mors%C3%B8 Erhvervsr%C3%A5d":MAILTO:post@mer.dk
END:VEVENT
BEGIN:VEVENT
DTSTART;TZID=Europe/Copenhagen:20241114T170000
DTEND;TZID=Europe/Copenhagen:20241114T200000
DTSTAMP:20260425T165923
CREATED:20240911T082706Z
LAST-MODIFIED:20240911T100413Z
UID:10000161-1731603600-1731614400@mer.dk
SUMMARY:Uddannelses- og Erhvervsmessen 2024
DESCRIPTION:Udnyt chancen for at fortælle de unge om jobmulighederne i din virksomhed – det er helt gratis at deltage.\nDen årlige Uddannelses- og Erhvervsmesse bliver igen i år afholdt i Sparekassen Thy – Arena Mors.  \nDu får mulighed for at vise de muligheder de unge har i netop din virksomhed. Der plejer at være rigtig stor interesse\, og der blev skabt nogle rigtig gode kontakter til kommende elever og lærlinge fra de virksomheder\, som var med sidste år. \n  \nTid: I år er det torsdag 14. november mellem kl. 17.00 og 20.00.  \n  \nBookning af stand:  \nSend en mail til Uddannelsesvejleder Susanne Kjærsgaard på skj@morsoe.dk fra Ungeindsatsen – Ung Mors. Skriv i mailen\, at din virksomhed ønsker en stand på messen. Har du særlige ønsker og behov til din stand\, så som strøm\, lys osv. er det også Susanne du skal koordinere med. \nNår du har sendt mailen til Susanne\, kontakter hun dig direkte med de nærmere detaljer. \nDer er som altid et begrænset antal stande. Pladserne tildeles efter først-til-mølle princippet. Det er helt gratis for dig at udstille\, udover den tid du og dine kolleger bruger. \n  \nKontakten til de unge på messen \nVed at være med på den gratis messe\, har du vide rammer for at nå ud til de unge. Sidste år kunne deltagerne få lov til både at mure og hamre\, og der blev talt med de unge\, der overvejer en uddannelse som revisor\, en merkantil uddannelse eller nogle af de mange øvrige uddannelser\, som var repræsenteret. \nNogle virksomheder havde valgt at lave en lille konkurrence\, mens andre delte lækre smagsprøver ud. \nHvis du har en ung ansat i din virksomhed\, er det er rigtig god ide at tage ham eller hende med. Det virker særligt godt\, når du vil nå ud til de unge\, at de kan finde en at spejle sig i\, som ligner dem selv. \n  \nUddannelses- og jobmessen giver de unge på Mors en rigtig god fornemmelse af de mange job- og uddannelsesmuligheder\, der findes her på øen. Du får mulighed for at plante et frø hos de kommende elever og lærlinge. Samtidig kan du hjælpe de unge\, der endnu ikke har fundet ud af hvad de vil med fremtiden\, til måske at overveje en karriere hos dig. \n  \nHvad får du ud af at deltage? \nVed at deltage i messen er du med til at investere i din virksomheds fremtid. \nDesuden har de unge ofte deres far og mor med\, så du kan også være heldig at møde din næste medarbejder på messen. \n  \nUddannelses- og Erhvervsmessen arrangeres i et samarbejde mellem Ungeindsatsen – Ung Mors\, Morsø Tømrer- og Snedkerforretning og Morsø Erhvervsråd.
URL:https://mer.dk/event/uddannelses-og-erhvervsmessen-2024/
LOCATION:Sparekassen Thy – Arena Mors\, H.C. Ørsteds Vej 15\, Nykøbing Mors\, 7900\, Danmark
CATEGORIES:Arrangementer
ATTACH;FMTTYPE=image/png:https://mer.dk/wp-content/uploads/2024/09/Billeder-til-Erhvervs-Nyt-5.png
ORGANIZER;CN="Mors%C3%B8 Erhvervsr%C3%A5d":MAILTO:post@mer.dk
END:VEVENT
END:VCALENDAR