BEGIN:VCALENDAR
VERSION:2.0
PRODID:-//Morsø Erhvervsråd - ECPv6.15.14//NONSGML v1.0//EN
CALSCALE:GREGORIAN
METHOD:PUBLISH
X-ORIGINAL-URL:https://mer.dk
X-WR-CALDESC:Begivenheder for Morsø Erhvervsråd
REFRESH-INTERVAL;VALUE=DURATION:PT1H
X-Robots-Tag:noindex
X-PUBLISHED-TTL:PT1H
BEGIN:VTIMEZONE
TZID:Europe/Copenhagen
BEGIN:DAYLIGHT
TZOFFSETFROM:+0100
TZOFFSETTO:+0200
TZNAME:CEST
DTSTART:20230326T010000
END:DAYLIGHT
BEGIN:STANDARD
TZOFFSETFROM:+0200
TZOFFSETTO:+0100
TZNAME:CET
DTSTART:20231029T010000
END:STANDARD
BEGIN:DAYLIGHT
TZOFFSETFROM:+0100
TZOFFSETTO:+0200
TZNAME:CEST
DTSTART:20240331T010000
END:DAYLIGHT
BEGIN:STANDARD
TZOFFSETFROM:+0200
TZOFFSETTO:+0100
TZNAME:CET
DTSTART:20241027T010000
END:STANDARD
BEGIN:DAYLIGHT
TZOFFSETFROM:+0100
TZOFFSETTO:+0200
TZNAME:CEST
DTSTART:20250330T010000
END:DAYLIGHT
BEGIN:STANDARD
TZOFFSETFROM:+0200
TZOFFSETTO:+0100
TZNAME:CET
DTSTART:20251026T010000
END:STANDARD
END:VTIMEZONE
BEGIN:VEVENT
DTSTART;TZID=Europe/Copenhagen:20241119T163000
DTEND;TZID=Europe/Copenhagen:20241119T200000
DTSTAMP:20260425T181415
CREATED:20241010T125548Z
LAST-MODIFIED:20241010T125741Z
UID:10000163-1732033800-1732046400@mer.dk
SUMMARY:Iværksætter Danmark: Få gang i klinikken
DESCRIPTION:Gratis tilbud til alle iværksættere og nystartede virksomheder. \nMorsø Erhvervsråd og Thy Erhvervsforum er gået sammen om at tilbyde dette workshopforløb. \n  \nDrømmer du om at åbne din egen klinik\, eller er du allerede i gang? Er du frisør eller negletekniker\, kan du også få meget ud af at deltage. \n  \nUanset hvad så har vi workshopforløbet til dig. På dette workshopforløb får du værktøjerne til at skabe overblik for dig selv og mest muligt overskud til dine klienter. Du får sparring på din forretningsidé\, du får et stærkt professionelt fællesskab og så lærer du mere om dét at være selvstændig med egen klink. \n  \nWorkshopforløbet er for alle danske iværksættere\, der drømmer om at få succes med deres egen klinik eller behandlingssted. \n  \nDet er\, bortset fra din tid og entusiasme\, gratis at deltage.  Du kan tilmelde dig her: Aktivitet: Få gang i klinikken – Iværksætterdanmark (ehsys.dk) \n  \nDu vil helt sikkert få mest ud af forløbet\, hvis du kan se dig selv i følgende:  \nDu søger sparring på de praktiske ting\, der melder sig i forhold til at drive egen klinik. Du vil have styr på de mange idéer\, tanker\, drømme\, tvivl og overvejelser du har\, og du har brug for redskaber til at håndtere dem. På dette forløb klæder vi dig godt grundigt på til\, hvordan du starter og driver din egen klinik. \nPå forløbet får du: \n\nViden om alt det praktiske såsom RAB-registrering\, gebyrer\, lokaler\, skatteforhold\, lønsum\, GDPR\, bookingssystem og tidsstyring mm.\nVærktøjer til at lave en god og håndgribelig forretningsplan med et budget.\nRedskaber til at yde god service og sælge og prissætte dine ydelser.\nStyr på hvordan du opretter hjemmeside\, bruger sociale medier og digital markedsføring til at komme ud over rampen.\n\n  \nI forlængelse af forløbet vil der være mulighed for individuel sparring pr. telefon\, Zoom eller Teams. \n  \nDine guides på vejen fra god idé til god forretning  \nHans Peter Wolsing og Mie Nyborg Bendsen har tidligere sammen undervist iværksættere og gennemført kurser og uddannelse for iværksættere. Hans Peter har rådgivet mere end 3.000 iværksættere og undervist på et hav af iværksætterkurser. Hans Peter har igennem tiden etableret 4 iværksættervirksomheder\, hvoraf de 2 er i drift endnu. Den ene er iværksætterportalen Startinfo.dk. Mies baggrund rummer mere end 17 års erfaring som selvstændig med drift af klinik samt mange års ansættelse i forskellige jobs. Mie har særligt fokus på den gode service og kunderelationer. Endelig har Mie i mere end 10 år undervist på Iværksætterkurser i Nordjylland og som coach haft speciale i arbejdsliv og jobmuligheder. \n  \nKursusdatoer: \n19. november 16.30 – 20.00 \nWorkshop 1: Introduktion til start og drift af klinik \n  \n26. november 16.30 – 20.00 \nWorkshop 2: Få styr på din forretningsplan \n  \n3. december 16.00 – 20.30 \nWorkshop 3: Kom ud over rampen \n  \nDesuden er der mulighed for gratis individuel opfølgning enten 10. eller 11. december. \n  \nAlle workshops afholdes hos Thy Erhvervsforum Tilstedvej 73\, Parkering 4\, indgang 13. \nHvis du vil vide mere om workshopforløbet er du velkommen til at kontakte Erhvervskonsulent Jens Vinther Christensen på tlf. 2147 8880 eller mail jvc@mer.dk.
URL:https://mer.dk/event/ivaerksaetter-danmark-faa-gang-i-klinikken/
LOCATION:Thy Erhvervsforum\, Tilstedvej 73\, Thisted\, 7700
CATEGORIES:Workshop
ATTACH;FMTTYPE=image/png:https://mer.dk/wp-content/uploads/2024/10/Ivaerksaetter-DK-homepage.png
ORGANIZER;CN="Mors%C3%B8 Erhvervsr%C3%A5d":MAILTO:post@mer.dk
END:VEVENT
END:VCALENDAR