BEGIN:VCALENDAR
VERSION:2.0
PRODID:-//Morsø Erhvervsråd - ECPv6.15.14//NONSGML v1.0//EN
CALSCALE:GREGORIAN
METHOD:PUBLISH
X-WR-CALNAME:Morsø Erhvervsråd
X-ORIGINAL-URL:https://mer.dk
X-WR-CALDESC:Begivenheder for Morsø Erhvervsråd
REFRESH-INTERVAL;VALUE=DURATION:PT1H
X-Robots-Tag:noindex
X-PUBLISHED-TTL:PT1H
BEGIN:VTIMEZONE
TZID:Europe/Copenhagen
BEGIN:DAYLIGHT
TZOFFSETFROM:+0100
TZOFFSETTO:+0200
TZNAME:CEST
DTSTART:20230326T010000
END:DAYLIGHT
BEGIN:STANDARD
TZOFFSETFROM:+0200
TZOFFSETTO:+0100
TZNAME:CET
DTSTART:20231029T010000
END:STANDARD
BEGIN:DAYLIGHT
TZOFFSETFROM:+0100
TZOFFSETTO:+0200
TZNAME:CEST
DTSTART:20240331T010000
END:DAYLIGHT
BEGIN:STANDARD
TZOFFSETFROM:+0200
TZOFFSETTO:+0100
TZNAME:CET
DTSTART:20241027T010000
END:STANDARD
BEGIN:DAYLIGHT
TZOFFSETFROM:+0100
TZOFFSETTO:+0200
TZNAME:CEST
DTSTART:20250330T010000
END:DAYLIGHT
BEGIN:STANDARD
TZOFFSETFROM:+0200
TZOFFSETTO:+0100
TZNAME:CET
DTSTART:20251026T010000
END:STANDARD
END:VTIMEZONE
BEGIN:VEVENT
DTSTART;TZID=Europe/Copenhagen:20241126T163000
DTEND;TZID=Europe/Copenhagen:20241126T200000
DTSTAMP:20260425T183504
CREATED:20241010T130019Z
LAST-MODIFIED:20241010T130019Z
UID:10000164-1732638600-1732651200@mer.dk
SUMMARY:Iværksætter Danmark: Få gang i klinikken
DESCRIPTION:Gratis tilbud til alle iværksættere og nystartede virksomheder. \nMorsø Erhvervsråd og Thy Erhvervsforum er gået sammen om at tilbyde dette workshopforløb. \n  \nDrømmer du om at åbne din egen klinik\, eller er du allerede i gang? Er du frisør eller negletekniker\, kan du også få meget ud af at deltage. \n  \nUanset hvad så har vi workshopforløbet til dig. På dette workshopforløb får du værktøjerne til at skabe overblik for dig selv og mest muligt overskud til dine klienter. Du får sparring på din forretningsidé\, du får et stærkt professionelt fællesskab og så lærer du mere om dét at være selvstændig med egen klink. \n  \nWorkshopforløbet er for alle danske iværksættere\, der drømmer om at få succes med deres egen klinik eller behandlingssted. \n  \nDet er\, bortset fra din tid og entusiasme\, gratis at deltage.  Du kan tilmelde dig her: Aktivitet: Få gang i klinikken – Iværksætterdanmark (ehsys.dk) \n  \nDu vil helt sikkert få mest ud af forløbet\, hvis du kan se dig selv i følgende:  \nDu søger sparring på de praktiske ting\, der melder sig i forhold til at drive egen klinik. Du vil have styr på de mange idéer\, tanker\, drømme\, tvivl og overvejelser du har\, og du har brug for redskaber til at håndtere dem. På dette forløb klæder vi dig godt grundigt på til\, hvordan du starter og driver din egen klinik. \nPå forløbet får du: \n\nViden om alt det praktiske såsom RAB-registrering\, gebyrer\, lokaler\, skatteforhold\, lønsum\, GDPR\, bookingssystem og tidsstyring mm.\nVærktøjer til at lave en god og håndgribelig forretningsplan med et budget.\nRedskaber til at yde god service og sælge og prissætte dine ydelser.\nStyr på hvordan du opretter hjemmeside\, bruger sociale medier og digital markedsføring til at komme ud over rampen.\n\n  \nI forlængelse af forløbet vil der være mulighed for individuel sparring pr. telefon\, Zoom eller Teams. \n  \nDine guides på vejen fra god idé til god forretning  \nHans Peter Wolsing og Mie Nyborg Bendsen har tidligere sammen undervist iværksættere og gennemført kurser og uddannelse for iværksættere. Hans Peter har rådgivet mere end 3.000 iværksættere og undervist på et hav af iværksætterkurser. Hans Peter har igennem tiden etableret 4 iværksættervirksomheder\, hvoraf de 2 er i drift endnu. Den ene er iværksætterportalen Startinfo.dk. Mies baggrund rummer mere end 17 års erfaring som selvstændig med drift af klinik samt mange års ansættelse i forskellige jobs. Mie har særligt fokus på den gode service og kunderelationer. Endelig har Mie i mere end 10 år undervist på Iværksætterkurser i Nordjylland og som coach haft speciale i arbejdsliv og jobmuligheder. \n  \nKursusdatoer: \n19. november 16.30 – 20.00 \nWorkshop 1: Introduktion til start og drift af klinik \n  \n26. november 16.30 – 20.00 \nWorkshop 2: Få styr på din forretningsplan \n  \n3. december 16.00 – 20.30 \nWorkshop 3: Kom ud over rampen \n  \nDesuden er der mulighed for gratis individuel opfølgning enten 10. eller 11. december. \n  \nAlle workshops afholdes hos Thy Erhvervsforum Tilstedvej 73\, Parkering 4\, indgang 13. \nHvis du vil vide mere om workshopforløbet er du velkommen til at kontakte Erhvervskonsulent Jens Vinther Christensen på tlf. 2147 8880 eller mail jvc@mer.dk.
URL:https://mer.dk/event/ivaerksaetter-danmark-faa-gang-i-klinikken-2/
LOCATION:Thy Erhvervsforum\, Tilstedvej 73\, Thisted\, 7700
CATEGORIES:Workshop
ATTACH;FMTTYPE=image/png:https://mer.dk/wp-content/uploads/2024/10/Ivaerksaetter-DK-homepage.png
ORGANIZER;CN="Mors%C3%B8 Erhvervsr%C3%A5d":MAILTO:post@mer.dk
END:VEVENT
BEGIN:VEVENT
DTSTART;TZID=Europe/Copenhagen:20241127T083000
DTEND;TZID=Europe/Copenhagen:20241127T103000
DTSTAMP:20260425T183504
CREATED:20240619T080159Z
LAST-MODIFIED:20240619T080159Z
UID:10000153-1732696200-1732703400@mer.dk
SUMMARY:Workshop omkring AI og kunstig intelligens
DESCRIPTION:Kom med på rejsen\, og lær om hvordan din hverdag kan blive betydeligt lettere med de nye værktøjer.\n  \nVi står overfor en digital revolution\, og vi har kun lige set begyndelsen af den forandring som AI vil medføre i vores hverdag.   \nKunne du tænke dig at få din PC til at skrive undertekster og lave referater af dine teams-møder? Hvad med at få den til at lave en opsummering af de vigtigste pointer i en pdf-fil på mange sider? Mulighederne er mange\, og du vil opleve\, at opgaver du før har brugt lang tid på vil kunne løses bedre og mere effektivt ved hjælp af AI.     \nMicrosoft har netop lanceret Microsoft Co-pilot\, som er en overbygning på Office 365. Den integrerer ChatGPT og Microsoft Bing på en måde vi aldrig har set før.   \nJens Elung Jensen fra Erhvervshus Nordjylland har tilrettelagt en workshop\, hvor du vil opleve praktiske eksempler på hvordan AI vil ændre den måde vi har arbejdet på tidligere. I løbet af workshoppen får du mulighed for selv at arbejde med ChatGPT\, hvis du medbringer din computer.   \nDet bliver en lærerig workshop\, som opdaterer din viden og dine færdigheder. Du kan godt glæde dig\, for det bliver både spændende og underholdende.   \n  \n \n  \nProgram: \nVelkomst – Bordet rundt \n\nHvordan startede AI\, og hvorfor er der så meget snak om det?\nHvad er kunstig intelligens\, og hvor er dens svagheder og styrker?\nRisiko og fordele med AI\nEksempler på ChatGPT\n\nKom i gang med ChatGPT – Praktiske øvelser med ChatGPT (Medbring din egen PC) \nEksempler fra Microsoft Co-pilot \n\nMicrosofts strategi med Bing og ChatGPT\nMicrosoft Designer\nOpsamling og konklusion på workshoppen\n\n  \nDeltagelse er gratis\, men tilmelding nødvendig.
URL:https://mer.dk/event/workshop-omkring-ai-og-kunstig-intelligens/
LOCATION:Morsø Erhvervsråd\, Holgersgade 1\, Nykøbing M\, 7900\, Danmark
CATEGORIES:Workshop
ATTACH;FMTTYPE=image/jpeg:https://mer.dk/wp-content/uploads/2023/10/Jens.jpg
ORGANIZER;CN="Mors%C3%B8 Erhvervsr%C3%A5d":MAILTO:post@mer.dk
END:VEVENT
BEGIN:VEVENT
DTSTART;TZID=Europe/Copenhagen:20241127T123000
DTEND;TZID=Europe/Copenhagen:20241127T153000
DTSTAMP:20260425T183504
CREATED:20241031T130108Z
LAST-MODIFIED:20241031T130108Z
UID:10000188-1732710600-1732721400@mer.dk
SUMMARY:Netværksmøde i Klimanetværket
DESCRIPTION:Morsø Erhvervsråds Klimanetværk er udsprunget af vores “Bliv Klima-Parat” forløb på 5 moduler\, som kørte fra september til november 2023\, hvor ca. 20 lokale virksomheder var repræsenteret. \nDanske virksomheder skal bidrage til at realisere målet om at reducere CO2 aftrykket med 70% inden 2030 og konkret indeholder Morsø Kommunes klimahandlingsplan en vision om en klimaneutral industri- og erhverv på Mors i 2030. \nMorsø Erhvervsråds Klimanetværk har til formål at samle virksomheder\, organisationer og interessenter på Mors med henblik på at inspirere og fremme bæredygtige løsninger og grøn omstilling i erhvervslivet – og dermed reducere klimaaftrykket. \n  \nProgram for netværksmødet: \nKl. 12.30 – 12.45: Velkomst og kort introduktion til program og deltagere \nKl. 12.45 – 13.30: Oplæg ved Green Hub Denmark (Lene Espersen og Michael Stie Laugesen) \nKl. 13.30 – 14.00: Bordet rundt \nKl. 14.00 – 15.00: Oplæg ved Zero Waste om Affaldskortlægning (Jeppe Holmehave fra Teknologisk Institut) \nKl. 15.00 – 15.30: Forberedelse til Affaldskortlægning og Opsamling \n  \nDeltagelse i Morsø Erhvervsråds Klimanetværk koster 5.000\,- ekskl. moms årligt for op til 2 personer fra samme virksomhed.\nDet er en forudsætning\, at du er medlem af Morsø Erhvervsråd for at deltage i Klimanetværket. Ved interesse\, kontakt Susanne Toftegaard Hansen: sth@mer.dk
URL:https://mer.dk/event/netvaerksmoede-i-klimanetvaerket/
LOCATION:Morsø Erhvervsråd\, Holgersgade 1\, Nykøbing M\, 7900\, Danmark
CATEGORIES:Netværk
ATTACH;FMTTYPE=image/png:https://mer.dk/wp-content/uploads/2024/02/Klimanetvaerk.png
ORGANIZER;CN="Mors%C3%B8 Erhvervsr%C3%A5d":MAILTO:post@mer.dk
END:VEVENT
END:VCALENDAR