BEGIN:VCALENDAR
VERSION:2.0
PRODID:-//Morsø Erhvervsråd - ECPv6.15.14//NONSGML v1.0//EN
CALSCALE:GREGORIAN
METHOD:PUBLISH
X-WR-CALNAME:Morsø Erhvervsråd
X-ORIGINAL-URL:https://mer.dk
X-WR-CALDESC:Begivenheder for Morsø Erhvervsråd
REFRESH-INTERVAL;VALUE=DURATION:PT1H
X-Robots-Tag:noindex
X-PUBLISHED-TTL:PT1H
BEGIN:VTIMEZONE
TZID:Europe/Copenhagen
BEGIN:DAYLIGHT
TZOFFSETFROM:+0100
TZOFFSETTO:+0200
TZNAME:CEST
DTSTART:20230326T010000
END:DAYLIGHT
BEGIN:STANDARD
TZOFFSETFROM:+0200
TZOFFSETTO:+0100
TZNAME:CET
DTSTART:20231029T010000
END:STANDARD
BEGIN:DAYLIGHT
TZOFFSETFROM:+0100
TZOFFSETTO:+0200
TZNAME:CEST
DTSTART:20240331T010000
END:DAYLIGHT
BEGIN:STANDARD
TZOFFSETFROM:+0200
TZOFFSETTO:+0100
TZNAME:CET
DTSTART:20241027T010000
END:STANDARD
BEGIN:DAYLIGHT
TZOFFSETFROM:+0100
TZOFFSETTO:+0200
TZNAME:CEST
DTSTART:20250330T010000
END:DAYLIGHT
BEGIN:STANDARD
TZOFFSETFROM:+0200
TZOFFSETTO:+0100
TZNAME:CET
DTSTART:20251026T010000
END:STANDARD
END:VTIMEZONE
BEGIN:VEVENT
DTSTART;TZID=Europe/Copenhagen:20241211T180000
DTEND;TZID=Europe/Copenhagen:20241211T180000
DTSTAMP:20260425T180901
CREATED:20241114T095839Z
LAST-MODIFIED:20241114T095908Z
UID:10000200-1733940000-1733940000@mer.dk
SUMMARY:Landmænd på Mors inviterer til  inspirationsaften
DESCRIPTION:Landmænd på Mors inviterer til inspirationsaften\nEfter den flotte tilslutning til sidste års inspirationsaften\, gentager vi nu succesen og inviterer til en spændende aften i landbrugets tegn. Aftenen byder på både faglige indlæg\, musikalsk indslag\, lækker mad og masser af hygge i godt selskab. \nEr du landmand på Mors\, Salling eller i Thy\, og vil du ikke gå glip af en traditionsrig og hyggelig aften med andre landbrugsinteresserede\, så sæt et stor kryds i kalenderen onsdag d. 11. december kl. 18.00. \nProgram:\n\nOplæg v. Poul Pedersen\, tidligere direktør fra Thise Mejeri\nOplæg v. Jens Iversen\, Plov-eksperten\nMusikalsk indslag v. Henrik Hedelund\, ’Den syngende buschauffør’ fra X-Faktor.\n\nVi håber på at se dig til en hyggelig aften i gode kollegaers selskab! \nAdresse: Morsø Landbrugsskole\, Mosegårdsvej 10\, Vodstrup\, 7900 Nykøbing Mors \nArrangementet afholdes på Morsø Landbrugsskole\, som vil sørge for et godt måltid mad samt kaffe og kage. Pris pr. person kr. 100\, \nAf hensyn til planlægningen er tilmelding nødvendig.\nTilmelding skal ske senest onsdag d. 4. december\, enten pr. mail til Linda Harbøl\, leh@eucnordvest.dk\, eller til Karl Kudsk\, tlf. 6162 1565
URL:https://mer.dk/event/landmaend-paa-mors-inviterer-til-inspirationsaften-2/
LOCATION:Morsø Landbrugsskole\, Mosegårdsvej 10\, Nykøbing\, Vodstrup\, 7900\, Danmark
CATEGORIES:Arrangementer
ATTACH;FMTTYPE=image/png:https://mer.dk/wp-content/uploads/2024/11/Landmand-foto-til-hjemmesiden.png
ORGANIZER;CN="Mors%C3%B8 Erhvervsr%C3%A5d":MAILTO:post@mer.dk
END:VEVENT
BEGIN:VEVENT
DTSTART;TZID=Europe/Copenhagen:20241212T160000
DTEND;TZID=Europe/Copenhagen:20241212T180000
DTSTAMP:20260425T180901
CREATED:20241112T132533Z
LAST-MODIFIED:20241112T132649Z
UID:10000198-1734019200-1734026400@mer.dk
SUMMARY:Bestyrelsesmøde i Morsø Erhvervsråd
DESCRIPTION:Bestyrelsesmøde i Morsø Erhvervsråd\n  \nHvis du har noget du ønsker taget op på bestyrelsesmødet\, så tag kontakt til erhvervschef\, Susanne Toftegaard Hansen på sth@mer.dk eller tlf. 2172 9930.
URL:https://mer.dk/event/bestyrelsesmoede-i-morsoe-erhvervsraad/
LOCATION:Morsø Erhvervsråd\, Holgersgade 1\, Nykøbing M\, 7900\, Danmark
CATEGORIES:Bestyrelsesmøder
ATTACH;FMTTYPE=image/png:https://mer.dk/wp-content/uploads/2024/11/Foto-events-paa-hjemmesiden-6.png
ORGANIZER;CN="Mors%C3%B8 Erhvervsr%C3%A5d":MAILTO:post@mer.dk
END:VEVENT
END:VCALENDAR