BEGIN:VCALENDAR
VERSION:2.0
PRODID:-//Morsø Erhvervsråd - ECPv6.15.14//NONSGML v1.0//EN
CALSCALE:GREGORIAN
METHOD:PUBLISH
X-ORIGINAL-URL:https://mer.dk
X-WR-CALDESC:Begivenheder for Morsø Erhvervsråd
REFRESH-INTERVAL;VALUE=DURATION:PT1H
X-Robots-Tag:noindex
X-PUBLISHED-TTL:PT1H
BEGIN:VTIMEZONE
TZID:Europe/Copenhagen
BEGIN:DAYLIGHT
TZOFFSETFROM:+0100
TZOFFSETTO:+0200
TZNAME:CEST
DTSTART:20240331T010000
END:DAYLIGHT
BEGIN:STANDARD
TZOFFSETFROM:+0200
TZOFFSETTO:+0100
TZNAME:CET
DTSTART:20241027T010000
END:STANDARD
BEGIN:DAYLIGHT
TZOFFSETFROM:+0100
TZOFFSETTO:+0200
TZNAME:CEST
DTSTART:20250330T010000
END:DAYLIGHT
BEGIN:STANDARD
TZOFFSETFROM:+0200
TZOFFSETTO:+0100
TZNAME:CET
DTSTART:20251026T010000
END:STANDARD
BEGIN:DAYLIGHT
TZOFFSETFROM:+0100
TZOFFSETTO:+0200
TZNAME:CEST
DTSTART:20260329T010000
END:DAYLIGHT
BEGIN:STANDARD
TZOFFSETFROM:+0200
TZOFFSETTO:+0100
TZNAME:CET
DTSTART:20261025T010000
END:STANDARD
END:VTIMEZONE
BEGIN:VEVENT
DTSTART;TZID=Europe/Copenhagen:20250120T080000
DTEND;TZID=Europe/Copenhagen:20250120T093000
DTSTAMP:20260425T152457
CREATED:20240904T064138Z
LAST-MODIFIED:20250107T085913Z
UID:10000160-1737360000-1737365400@mer.dk
SUMMARY:Business Breakfast med Morsø Erhvervsråd hos Haaning
DESCRIPTION:Kom med på VirksomhedsVandring med Morsø Erhvervsråd. Et nyt koncept vi har søsat\, som skal understøtte vores strategi og fokus på Morsø Erhvervsråd som et stærkt erhvervsfællesskab på Mors. Kært barn har mange navne\, så hvis du kender åbent hus\, business breakfast\, morgenbriefing eller lignende\, så taler vi ca. samme sprog. \n  \nVi vil gerne være med til at vise vores medlemsvirksomheder frem som en form for ”markvandring” eller åbent hus\, hvor vi øger kendskabet til øens virksomheder\, får en kop kaffe\, en rundvisning\, et indblik i virksomheden og en god snak med hinanden i “marken”. \n  \nDenne gang besøger vi Haaning i Vils\, hvor indehaver Ole Larsen vil vise os rundt samt fortælle om virksomheden. \n  \nOm Haaning: \nHaaning har base i Vils\, og har specialiseret sig i skræddersyede løsninger indenfor indretningsopgaver. De arbejder mest inden for shop-in-shop løsninger\, in-house indretninger\, retrovogne samt bager- og butiksinventar – de er vant til at gøre andres kreative idéer til virkelighed.. \nDe arbejder i træ\, finér\, laminat\, komposit\, alu/stål og glas og alt foregår på deres egen moderne fabrik på Limfjordsøen Mors. \nHaaning A/S beskæftiger 22 engagerede medarbejdere. Det er en velkonsolideret 100% ejerledet dansk virksomhed med en historie\, der kan dateres helt tilbage til 1943. \n  \nSå snør vandrestøvlerne og tag med Morsø Erhvervsråd på VirksomhedsVandring hos Hanning. Vi glæder os.
URL:https://mer.dk/event/virksomhedsvandring-med-morsoe-erhvervsraad-hos-haaning/
LOCATION:Haaning\, Næssundvej 213\, Vils\, 7980\, Danmark
CATEGORIES:Arrangementer
ATTACH;FMTTYPE=image/png:https://mer.dk/wp-content/uploads/2024/10/Business-Breakfast.png
ORGANIZER;CN="Mors%C3%B8 Erhvervsr%C3%A5d":MAILTO:post@mer.dk
END:VEVENT
BEGIN:VEVENT
DTSTART;TZID=Europe/Copenhagen:20250121T160000
DTEND;TZID=Europe/Copenhagen:20250121T180000
DTSTAMP:20260425T152457
CREATED:20241204T140607Z
LAST-MODIFIED:20250116T093720Z
UID:10000204-1737475200-1737482400@mer.dk
SUMMARY:Styrk dine styrker - Iværksætterkursus for ordblinde og dig der har svært ved at læse
DESCRIPTION:Bliv klar til at starte eller udvikle din egen virksomhed. \n\n\n\nPå dette forløb vil erfarne undervisere styrke dine kompetencer og ruste dig med værktøjer\, der giver dig et solidt fundament til at bygge din egen succesfulde iværksættervirksomhed\, hvis du er ordblind eller har svært ved at læse. \n\nForløbets undervisningsdage er tirsdage og torsdage i uge 4-7. \n  \nDerfor skal du deltage:\n\n\n\nFleksibel online undervisning målrettet dig\, der er ordblind\nFå et netværk med andre ordblinde\nLær\, hvordan du udnytter dine styrker bedst\n\n\n\n  \nDatoer og forløb \n9. januar kl. 17:00-18:00: Online infomøde  (online) \n21. januar kl. 16:00-18:00: Kick-Off hos Morsø Erhvervsråd – Fysisk møde hos Morsø Erhvervsråd \n23. januar kl. 18:00-20:30: Start din virksomhed (online) \n28. januar kl. 18:00-20:30: Udforsk din forretningsidé (online) \n30. januar kl. 18:00-20:30: Find din plads på markedet (online) \n4. februar kl. 18:00-20:30: AI som digital hjælper (online) \n6. februar kl. 18:00-20:30: Skab en bæredygtig forretning (online) \n11. februar kl. 18:00-20:30: Markedsfør din virksomhed (online) \n13. februar kl. 16:00-18:00: Afslutning i Thisted – Fysisk møde hos Thy Erhvervsforum i Thisted \n  \nTilmelding \nNederst på denne side: https://styrkdinestyrker.dk/nordjylland/ – husk at klikke af\, hvis du ønsker at deltage fysisk hos Morsø Erhvervsråd den 21. januar til Kick Off og til afslutningen den 13. februar hos Thy Erhvervsforum. \n  \nForløbet er målrettet ordblinde og folk med læsevanskeligheder\, der drømmer om at starte egen virksomhed eller allerede er i gang med en virksomhed. Alle typer af virksomheder og drømme er velkomne.  Det er ikke et krav\, at du har fået lavet en ordblindeattest for at være med. \n  \n 
URL:https://mer.dk/event/styrk-dine-styrker-ivaerksaetterkursus-for-ordblinde-og-dig-der-har-svaert-ved-at-laese/
LOCATION:Morsø Erhvervsråd\, Holgersgade 1\, Nykøbing M\, 7900\, Danmark
CATEGORIES:Kursus,Webinar
ATTACH;FMTTYPE=image/png:https://mer.dk/wp-content/uploads/2024/12/Skaermbillede-2024-12-04-150442.png
ORGANIZER;CN="Mors%C3%B8 Erhvervsr%C3%A5d":MAILTO:post@mer.dk
END:VEVENT
BEGIN:VEVENT
DTSTART;TZID=Europe/Copenhagen:20250123T083000
DTEND;TZID=Europe/Copenhagen:20250123T120000
DTSTAMP:20260425T152457
CREATED:20241129T093348Z
LAST-MODIFIED:20241129T093432Z
UID:10000203-1737621000-1737633600@mer.dk
SUMMARY:ESG Workshop i samarbejde med Lederne
DESCRIPTION:ESG – en strategisk ledelsesopgave \nBliv klogere på ESG når Morsø Erhvervsråd og Lederne inviterer til en workshop med fokus på ESG og det digitale værktøj ESG Profilen. \nDet strategiske arbejde med bæredygtighed og ESG er en vigtig opgave for ledelser og bestyrelser nu og i de kommende år. På workshoppen får du viden om ESG\, og hvorfor det skal på din dagsorden som leder. Du bliver også introduceret for ESG Profilen\, som er et ledelsesværktøj udviklet til arbejdet med ESG. \nESG Profilen er et digitalt værktøj\, som giver dig det digitale overblik over alt det\, I gør\, og det der kræves af jer inden for miljø\, sociale forhold og ledelse. ESG Profilen er udviklet af Lederne i samarbejde med eksperter fra Deloitte og Danske Bank. \nHusk at medbringe en computer eller tablet som kan bruges til øvelser undervejs. \n  \nProgram \n08.30-09.00: Tjek ind og morgenmad \n09.00-09.10: Velkomst \n09.10-10.30: Oplæg ved klimapolitisk chefkonsulent Anders Nolting Magelund og programchef for Bæredygtig Ledelse Sofie Elmgren fra Lederne\, som begge har medvirket til at udvikle ESG Profilen. \n10.30-10.40: Pause \n10.40-12.00: Workshop med udgangspunkt i ESG Profilen\, hvor du får hands-on erfaring med at udvikle din virksomheds ESG-profil og mulighed for at reflektere over din rolle som leder i arbejdet med ESG. \n12.00: Tak for i dag \n  \n 
URL:https://mer.dk/event/7144/
LOCATION:Morsø Erhvervsråd\, Holgersgade 1\, Nykøbing M\, 7900\, Danmark
CATEGORIES:Workshop
ATTACH;FMTTYPE=image/png:https://mer.dk/wp-content/uploads/2024/11/ESG.png
ORGANIZER;CN="Mors%C3%B8 Erhvervsr%C3%A5d":MAILTO:post@mer.dk
END:VEVENT
END:VCALENDAR