BEGIN:VCALENDAR
VERSION:2.0
PRODID:-//Morsø Erhvervsråd - ECPv6.15.14//NONSGML v1.0//EN
CALSCALE:GREGORIAN
METHOD:PUBLISH
X-WR-CALNAME:Morsø Erhvervsråd
X-ORIGINAL-URL:https://mer.dk
X-WR-CALDESC:Begivenheder for Morsø Erhvervsråd
REFRESH-INTERVAL;VALUE=DURATION:PT1H
X-Robots-Tag:noindex
X-PUBLISHED-TTL:PT1H
BEGIN:VTIMEZONE
TZID:Europe/Copenhagen
BEGIN:DAYLIGHT
TZOFFSETFROM:+0100
TZOFFSETTO:+0200
TZNAME:CEST
DTSTART:20240331T010000
END:DAYLIGHT
BEGIN:STANDARD
TZOFFSETFROM:+0200
TZOFFSETTO:+0100
TZNAME:CET
DTSTART:20241027T010000
END:STANDARD
BEGIN:DAYLIGHT
TZOFFSETFROM:+0100
TZOFFSETTO:+0200
TZNAME:CEST
DTSTART:20250330T010000
END:DAYLIGHT
BEGIN:STANDARD
TZOFFSETFROM:+0200
TZOFFSETTO:+0100
TZNAME:CET
DTSTART:20251026T010000
END:STANDARD
BEGIN:DAYLIGHT
TZOFFSETFROM:+0100
TZOFFSETTO:+0200
TZNAME:CEST
DTSTART:20260329T010000
END:DAYLIGHT
BEGIN:STANDARD
TZOFFSETFROM:+0200
TZOFFSETTO:+0100
TZNAME:CET
DTSTART:20261025T010000
END:STANDARD
END:VTIMEZONE
BEGIN:VEVENT
DTSTART;TZID=Europe/Copenhagen:20250311T090000
DTEND;TZID=Europe/Copenhagen:20250311T150000
DTSTAMP:20260425T122244
CREATED:20241029T090802Z
LAST-MODIFIED:20241029T090802Z
UID:10000186-1741683600-1741705200@mer.dk
SUMMARY:Karrieredagene i Aalborg 2025
DESCRIPTION:Her møder erhvervslivet de studerende og nyligt dimitterende. \n  \nKarriere Dagen i Aalborg er et af de store rekruttering- og employé branding events\, hvor nyuddannede og studerende fra de videregående uddannelser mødes med danske virksomheder. \n  \nSom tidligere år er Mors igen repræsenteret med en fællesstand\, hvor lokale virksomheder deltager sammen med kommune\, jobcentret og erhvervsrådet. \nDe deltagende virksomheder kommer for at brande sig\, kommunikere aktuelle job og praktikmuligheder. Kommunens\, jobcentrets og erhvervsrådets opgave er at brande Mors\, som et spændende område for job og bosætning. \n  \nKarrieremessen i Aalborg bliver igen i 2025 afviklet i tæt samarbejde med Aalborg Universitet\, og er en af Danmarks største og bredeste messer inden for karriere. \nHer kommer der både studerende fra MARTEC\, UCN og Aalborg Universitet. Samarbejdet udmønter sig år efter år i høj deltagelse af studerende samt nylige dimittender fra hele Nordjylland. \n  \nLæs mere her: Tag på jobmesse & karrieremesse hos KarriereDagene \nHar du spørgsmål eller ønsker din virksomhed at være med på standen\, så er du velkommen til at kontakt Morsø Erhvervsråd Jens Vinther Christensen på tlf. 2147 8880 eller mail jvc@mer.dk
URL:https://mer.dk/event/karrieredagene-i-aalborg-2025/
LOCATION:Gigantium\, Willy Brandts Vej 31\, Aalborg\, 9220\, Danmark
CATEGORIES:Arrangementer
ATTACH;FMTTYPE=image/png:https://mer.dk/wp-content/uploads/2023/10/Stand1.png
ORGANIZER;CN="Mors%C3%B8 Erhvervsr%C3%A5d":MAILTO:post@mer.dk
END:VEVENT
END:VCALENDAR