BEGIN:VCALENDAR
VERSION:2.0
PRODID:-//Morsø Erhvervsråd - ECPv6.15.14//NONSGML v1.0//EN
CALSCALE:GREGORIAN
METHOD:PUBLISH
X-WR-CALNAME:Morsø Erhvervsråd
X-ORIGINAL-URL:https://mer.dk
X-WR-CALDESC:Begivenheder for Morsø Erhvervsråd
REFRESH-INTERVAL;VALUE=DURATION:PT1H
X-Robots-Tag:noindex
X-PUBLISHED-TTL:PT1H
BEGIN:VTIMEZONE
TZID:Europe/Copenhagen
BEGIN:DAYLIGHT
TZOFFSETFROM:+0100
TZOFFSETTO:+0200
TZNAME:CEST
DTSTART:20240331T010000
END:DAYLIGHT
BEGIN:STANDARD
TZOFFSETFROM:+0200
TZOFFSETTO:+0100
TZNAME:CET
DTSTART:20241027T010000
END:STANDARD
BEGIN:DAYLIGHT
TZOFFSETFROM:+0100
TZOFFSETTO:+0200
TZNAME:CEST
DTSTART:20250330T010000
END:DAYLIGHT
BEGIN:STANDARD
TZOFFSETFROM:+0200
TZOFFSETTO:+0100
TZNAME:CET
DTSTART:20251026T010000
END:STANDARD
BEGIN:DAYLIGHT
TZOFFSETFROM:+0100
TZOFFSETTO:+0200
TZNAME:CEST
DTSTART:20260329T010000
END:DAYLIGHT
BEGIN:STANDARD
TZOFFSETFROM:+0200
TZOFFSETTO:+0100
TZNAME:CET
DTSTART:20261025T010000
END:STANDARD
END:VTIMEZONE
BEGIN:VEVENT
DTSTART;TZID=Europe/Copenhagen:20250818T160000
DTEND;TZID=Europe/Copenhagen:20250818T190000
DTSTAMP:20260423T074611
CREATED:20241017T132159Z
LAST-MODIFIED:20250625T124610Z
UID:10000168-1755532800-1755543600@mer.dk
SUMMARY:Netværksmøde for markedsføringsnetværket
DESCRIPTION:Morsø Erhvervsråd inviterer til møde i markedsføringsnetværket. \n  \nDagsorden: \n\nVelkommen\nBordet rundt\nDagens tema – følger\nTak for i dag\n\n  \nNetværket er åbent for flere medlemmer. Ved interesse kontakt venligst Lea Frederikke Mommer på lfm@mer.dk \n  \nFormålet er at få skabt et fortroligt netværk\, hvor medlemmerne kan vende og dele faglige udfordringer/problemstillinger i et tillidsfuldt rum. Som medlem forventes det\, at man er villig til at dele sine erfaringer\, udfordringer\, tips og tricks med hinanden.
URL:https://mer.dk/event/netvaerksmoede-for-markedsfoeringsnetvaerket-13/
LOCATION:Morsø Erhvervsråd\, Holgersgade 1\, Nykøbing M\, 7900\, Danmark
CATEGORIES:Netværk
ATTACH;FMTTYPE=image/png:https://mer.dk/wp-content/uploads/2023/10/Markedsfoeringsnetvaerket.png
ORGANIZER;CN="Mors%C3%B8 Erhvervsr%C3%A5d":MAILTO:post@mer.dk
END:VEVENT
BEGIN:VEVENT
DTSTART;TZID=Europe/Copenhagen:20250821T160000
DTEND;TZID=Europe/Copenhagen:20250821T193000
DTSTAMP:20260423T074611
CREATED:20250526T113725Z
LAST-MODIFIED:20250818T074353Z
UID:10000255-1755792000-1755804600@mer.dk
SUMMARY:VIP-Invitation til Kulturmødet Mors
DESCRIPTION:VIP-Invitation til Kulturmødet Mors \n  \nDet er en fornøjelse at  invitere dig med som  VIP-gæst til en særlig oplevelse under Kulturmødet Mors! \n  \nProgram : \nKl. 16.00: Vi mødes hos Morsø Erhvervsråd\, som byder velkommen \nKl. 16.30: Sparekassen Danmark\, Algade 28\, Nykøbing Mors byder velkommen med delikate smagsoplevelser i form af nippe – stå – mad – Prebens vinhandel serverer et glas vin \nKl.17.15:  Vi går i samlet flok ned til pladsen\, hvor Kulturmødet for alvor begynder\, og direktør\, Caspar Ryttergaard byder os velkommen \nKl. 17.30: Program følger… \n  \nEt spændende program venter – fyldt med kultur\, inspirerende indslag og unikke oplevelser\, som snart bliver offentliggjort. \n  \nHvad er Kulturmødet ? \nKulturmødet Mors er Danmarks samlingssted for samtalen om kunst og kultur. \nHvert år i august samles kunstnere\, politikere\, meningsdannere og kulturinteresserede i Nykøbing Mors for at tage temperaturen på aktuelle temaer i kulturdebatten og blive klogere i fællesskab. ​  \nArrangementet kombinerer konference\, festival og forsamlingshus i ét og byder på over 500 gratis arrangementer fordelt på mere end 25 scener.  \nProgrammet spænder fra debatter og samtaler til kunstneriske oplevelser inden for musik\, litteratur\, scenekunst og billedkunst. ​  \nKulturmødet er kendt for at fremme netværk og samarbejde på tværs af generationer\, brancher og geografi. \nDet er en platform\, hvor kulturens rolle i samfundet diskuteres\, og hvor nye idéer og partnerskaber opstår.  \n  \nHer får vi mulighed for at netværke i afslappede rammer og nyde hinandens selskab i kulturens tegn. \nKultur\, netværk og fede oplevelser – vi glæder os til at dele dem med dig!
URL:https://mer.dk/event/vip-invitation-til-kulturmoedet-mors/
LOCATION:Morsø Erhvervsråd\, Holgersgade 1\, Nykøbing M\, 7900\, Danmark
CATEGORIES:Arrangementer,Medlemsfordel
ATTACH;FMTTYPE=image/png:https://mer.dk/wp-content/uploads/2025/04/Kulturmoedet-.png
ORGANIZER;CN="Mors%C3%B8 Erhvervsr%C3%A5d":MAILTO:post@mer.dk
END:VEVENT
END:VCALENDAR