BEGIN:VCALENDAR
VERSION:2.0
PRODID:-//Morsø Erhvervsråd - ECPv6.15.14//NONSGML v1.0//EN
CALSCALE:GREGORIAN
METHOD:PUBLISH
X-WR-CALNAME:Morsø Erhvervsråd
X-ORIGINAL-URL:https://mer.dk
X-WR-CALDESC:Begivenheder for Morsø Erhvervsråd
REFRESH-INTERVAL;VALUE=DURATION:PT1H
X-Robots-Tag:noindex
X-PUBLISHED-TTL:PT1H
BEGIN:VTIMEZONE
TZID:Europe/Copenhagen
BEGIN:DAYLIGHT
TZOFFSETFROM:+0100
TZOFFSETTO:+0200
TZNAME:CEST
DTSTART:20240331T010000
END:DAYLIGHT
BEGIN:STANDARD
TZOFFSETFROM:+0200
TZOFFSETTO:+0100
TZNAME:CET
DTSTART:20241027T010000
END:STANDARD
BEGIN:DAYLIGHT
TZOFFSETFROM:+0100
TZOFFSETTO:+0200
TZNAME:CEST
DTSTART:20250330T010000
END:DAYLIGHT
BEGIN:STANDARD
TZOFFSETFROM:+0200
TZOFFSETTO:+0100
TZNAME:CET
DTSTART:20251026T010000
END:STANDARD
BEGIN:DAYLIGHT
TZOFFSETFROM:+0100
TZOFFSETTO:+0200
TZNAME:CEST
DTSTART:20260329T010000
END:DAYLIGHT
BEGIN:STANDARD
TZOFFSETFROM:+0200
TZOFFSETTO:+0100
TZNAME:CET
DTSTART:20261025T010000
END:STANDARD
END:VTIMEZONE
BEGIN:VEVENT
DTSTART;TZID=Europe/Copenhagen:20251028T080000
DTEND;TZID=Europe/Copenhagen:20251028T160000
DTSTAMP:20260421T230847
CREATED:20241111T115609Z
LAST-MODIFIED:20251021T090310Z
UID:10000195-1761638400-1761667200@mer.dk
SUMMARY:Tour de Mors
DESCRIPTION:Tour de Mors er en dag med fokus på fremtidens arbejdskraft på Mors. \nVejledere\, uddannelseschefer og virksomhedskonsulenter fra Ung Mors\, virksomhedsservice\, VUC\, Morsø Gymnasium og EUC Nordvest vil sammen med Morsø Erhvervsråd besøge en række virksomheder til en snak om elevpladser\, praktikpladser\, sabbatårsjob og meget andet\, som kan hjælpe de unge mennesker på Mors i arbejde. \nVi skal denne gang besøge følgende virksomheder: \n\nMcDonald’s\, Nykøbing\nFord – Kristian Odgaard\, Nykøbing\nFrøslev-Mollerup Sparekasse\, Nykøbing\nKibsgaard Specialproduktion\, Bjergby\nKJ Maskinteknik\, Sundby\nHåndværkervinduet\, Sundby\n\n  \nLyder det som noget for din virksomhed at få besøg\, så send en mail til Lars hos Morsø Erhvervsråd – lfg@mer.dk
URL:https://mer.dk/event/tour-de-mors-2/
LOCATION:Morsø Erhvervsråd\, Holgersgade 1\, Nykøbing M\, 7900\, Danmark
CATEGORIES:Arrangementer
ATTACH;FMTTYPE=image/png:https://mer.dk/wp-content/uploads/2024/09/Tour-de-Mors-event-til-hjemmeside.png
ORGANIZER;CN="Mors%C3%B8 Erhvervsr%C3%A5d":MAILTO:post@mer.dk
END:VEVENT
BEGIN:VEVENT
DTSTART;TZID=Europe/Copenhagen:20251029T140000
DTEND;TZID=Europe/Copenhagen:20251029T153000
DTSTAMP:20260421T230847
CREATED:20250902T105642Z
LAST-MODIFIED:20251027T105900Z
UID:10000266-1761746400-1761751800@mer.dk
SUMMARY:Felix Smidt og ADHD-foreningen sætter ADHD på arbejdspladsen på dagsordenen
DESCRIPTION:Flere og flere får konstateret ADHD\, og det vil vi gerne sætte fokus på sammen med Felix Smidt og Camilla Louise Ganzhorn fra ADHD foreningen. \nDet er vigtigt at forstå hvilke unikke kompetencer personer med ADHD kan bringe til arbejdspladsen\, men også hvordan virksomhederne kan skabe et støttende arbejdsmiljø. Derfor inviterer vi hermed til et inspirerende foredrag\, hvor ADHD på arbejdspladsen er på dagsordenen. \nForedraget afholdes af den kendte radio- og tv-vært Felix Smith\, der selv er diagnosticeret med ADHD som 45-årig\, han får selskab af direktør for ADHD-foreningen Camilla Louise Ganzhorn. Foredraget vil foregå som en dialog mellem de to\, hvor de interviewer hinanden og deler deres erfaringer og perspektiver på ADHD på arbejdspladsen. \nFelix fortæller også åbent om de udfordringer og erfaringer\, han har haft med koncentrationsbesvær og hyperaktivitet\, både i sit arbejds- og privatliv. Han deler de strategier\, han bruger til at håndtere ADHD uden medicin\, og taler om vigtigheden af selvomsorg og at finde styrke i sårbarhed. Foredraget giver et ærligt indblik i\, hvordan man kan se ADHD som en styrke og lære at leve med det – både som ansat og som arbejdsgiver. \n  \nMorsø Erhvervsråd har i samarbejde med Lederne Midt/Nord og Sparekassen Danmark valgt at sætte fokus på ADHD på arbejdspladsen\, og arrangementet vil give både private og virksomheder mulighed for at blive klogere på ADHD\, og hvordan man som virksomhed kan være med til at skabe et bedre arbejdsmiljø for medarbejdere med ADHD. \n  \nForedraget afholder i Støberisalen\, Holgersgade 7\, 2. sal\, 7900 Nykøbing Mors (ovenover Morsø Bibliotek). \nArrangementet er gratis\, men kræver tilmelding nedenfor. Kaffe og kage kan købes ved indgangen til 25 kr. Bemærk vi kun modtager kontanter. \n  \nArrangementet er arrangeret i samarbejde med Lederne Midt/Nord og Sparekassen Danmark.
URL:https://mer.dk/event/felix-smidt-og-adhd-foreningen-saetter-adhd-paa-arbejdspladsen-paa-dagsordenen/
LOCATION:Støberisalen\, Holgersgade 7\, 2. sal\, Nykøbing Mors\, 7900
CATEGORIES:Arrangementer
ATTACH;FMTTYPE=image/png:https://mer.dk/wp-content/uploads/2025/09/Felix-Smidt-til-hjemmesiden.jpg.png
ORGANIZER;CN="Mors%C3%B8 Erhvervsr%C3%A5d":MAILTO:post@mer.dk
END:VEVENT
END:VCALENDAR