BEGIN:VCALENDAR
VERSION:2.0
PRODID:-//Morsø Erhvervsråd - ECPv6.15.14//NONSGML v1.0//EN
CALSCALE:GREGORIAN
METHOD:PUBLISH
X-ORIGINAL-URL:https://mer.dk
X-WR-CALDESC:Begivenheder for Morsø Erhvervsråd
REFRESH-INTERVAL;VALUE=DURATION:PT1H
X-Robots-Tag:noindex
X-PUBLISHED-TTL:PT1H
BEGIN:VTIMEZONE
TZID:Europe/Copenhagen
BEGIN:DAYLIGHT
TZOFFSETFROM:+0100
TZOFFSETTO:+0200
TZNAME:CEST
DTSTART:20240331T010000
END:DAYLIGHT
BEGIN:STANDARD
TZOFFSETFROM:+0200
TZOFFSETTO:+0100
TZNAME:CET
DTSTART:20241027T010000
END:STANDARD
BEGIN:DAYLIGHT
TZOFFSETFROM:+0100
TZOFFSETTO:+0200
TZNAME:CEST
DTSTART:20250330T010000
END:DAYLIGHT
BEGIN:STANDARD
TZOFFSETFROM:+0200
TZOFFSETTO:+0100
TZNAME:CET
DTSTART:20251026T010000
END:STANDARD
BEGIN:DAYLIGHT
TZOFFSETFROM:+0100
TZOFFSETTO:+0200
TZNAME:CEST
DTSTART:20260329T010000
END:DAYLIGHT
BEGIN:STANDARD
TZOFFSETFROM:+0200
TZOFFSETTO:+0100
TZNAME:CET
DTSTART:20261025T010000
END:STANDARD
END:VTIMEZONE
BEGIN:VEVENT
DTSTART;TZID=Europe/Copenhagen:20251215T150000
DTEND;TZID=Europe/Copenhagen:20251215T163000
DTSTAMP:20260421T173316
CREATED:20251125T121748Z
LAST-MODIFIED:20251126T071138Z
UID:10000294-1765810800-1765816200@mer.dk
SUMMARY:Made in ProduktionsDanmark 2.0 - KICK OFF
DESCRIPTION:Made in Produktionsdanmark vender tilbage\, og vi håber I vil være med!\nl løbet af 2024 samlede vi 25 lokale produktionsvirksomheder til rådgivning\, kurser og netværk\, med fokus på at prioritere kommunikations-indsatser og\nstyrke den digitale synlighed. \nVi afholdte kurser\, 1:1-sparringer\, producerede videoindhold og skabte netværk\, der tilsammen lagde det strategiske fundament for at fortælle de mange erhvervshistorier fra Mors. \nM.I.P 2.0 handler nu om at accelerere udviklingen og styrke eksisterende kompetencer.\nDette kræver et fælles forum til sparring\, struktur og konkrete redskaber\, der kan hjælpe med at omsætte de mange kommunikative muligheder til strategiske handlingsplaner. \n  \nKick Off\n\nVelkommen\nPræsentation af deltagerne\nPræsentation af projektet “Made in ProduktionsDanmark 2.0”\nBordet rundt\nTak for i dag\n\n  \nM.I.P 2.0 one-pager
URL:https://mer.dk/event/made-in-produktionsdanmark-2-0-kick-off/
LOCATION:Morsø Erhvervsråd\, Holgersgade 1\, Nykøbing M\, 7900\, Danmark
CATEGORIES:Kursus
ATTACH;FMTTYPE=image/png:https://mer.dk/wp-content/uploads/2025/11/Made-in-Produktionsdanmark.png
ORGANIZER;CN="Mors%C3%B8 Erhvervsr%C3%A5d":MAILTO:post@mer.dk
END:VEVENT
BEGIN:VEVENT
DTSTART;TZID=Europe/Copenhagen:20251217T140000
DTEND;TZID=Europe/Copenhagen:20251217T153000
DTSTAMP:20260421T173316
CREATED:20251007T093818Z
LAST-MODIFIED:20251007T093818Z
UID:10000272-1765980000-1765985400@mer.dk
SUMMARY:Julehygge med Morsø Erhvervsråd
DESCRIPTION:Vi vil gerne ønske vores medlemmer en rigtig glædelig jul\, så den 17. december holder vi åbent hus her i Holgersgade til julehygge. \nVi har gløgg og kaffe på kanden og æbleskiver i ovnen. Vi håber at se en masse af vores medlemmer denne eftermiddag. \n  \nVi vil rigtig gerne vide\, hvor mange æbleskiver vi skal varme\, så det ville være perfekt med en tilmelding herunder. Meeen skulle du komme forbi Holgersgade den 17. december\, er du som altid velkommen til at komme indenfor. \n\nET STÆRKT ERHVERVSFÆLLESSKAB PÅ MORS
URL:https://mer.dk/event/julehygge-med-morsoe-erhvervsraad-2/
LOCATION:Morsø Erhvervsråd\, Holgersgade 1\, Nykøbing M\, 7900\, Danmark
CATEGORIES:Arrangementer,Medlemsfordel
ATTACH;FMTTYPE=image/png:https://mer.dk/wp-content/uploads/2024/11/Aebleskiver.png
ORGANIZER;CN="Mors%C3%B8 Erhvervsr%C3%A5d":MAILTO:post@mer.dk
END:VEVENT
END:VCALENDAR