BEGIN:VCALENDAR
VERSION:2.0
PRODID:-//Morsø Erhvervsråd - ECPv6.15.14//NONSGML v1.0//EN
CALSCALE:GREGORIAN
METHOD:PUBLISH
X-WR-CALNAME:Morsø Erhvervsråd
X-ORIGINAL-URL:https://mer.dk
X-WR-CALDESC:Begivenheder for Morsø Erhvervsråd
REFRESH-INTERVAL;VALUE=DURATION:PT1H
X-Robots-Tag:noindex
X-PUBLISHED-TTL:PT1H
BEGIN:VTIMEZONE
TZID:Europe/Copenhagen
BEGIN:DAYLIGHT
TZOFFSETFROM:+0100
TZOFFSETTO:+0200
TZNAME:CEST
DTSTART:20250330T010000
END:DAYLIGHT
BEGIN:STANDARD
TZOFFSETFROM:+0200
TZOFFSETTO:+0100
TZNAME:CET
DTSTART:20251026T010000
END:STANDARD
BEGIN:DAYLIGHT
TZOFFSETFROM:+0100
TZOFFSETTO:+0200
TZNAME:CEST
DTSTART:20260329T010000
END:DAYLIGHT
BEGIN:STANDARD
TZOFFSETFROM:+0200
TZOFFSETTO:+0100
TZNAME:CET
DTSTART:20261025T010000
END:STANDARD
BEGIN:DAYLIGHT
TZOFFSETFROM:+0100
TZOFFSETTO:+0200
TZNAME:CEST
DTSTART:20270328T010000
END:DAYLIGHT
BEGIN:STANDARD
TZOFFSETFROM:+0200
TZOFFSETTO:+0100
TZNAME:CET
DTSTART:20271031T010000
END:STANDARD
END:VTIMEZONE
BEGIN:VEVENT
DTSTART;TZID=Europe/Copenhagen:20260303T090000
DTEND;TZID=Europe/Copenhagen:20260303T110000
DTSTAMP:20260421T052735
CREATED:20260204T123405Z
LAST-MODIFIED:20260204T123405Z
UID:10000324-1772528400-1772535600@mer.dk
SUMMARY:AI inspirationsdag med Jens Elung Jensen
DESCRIPTION:I denne workshop tager Jens Elung Jensen fra Erhvervshus Nordjylland dig med på en levende rundtur i AI‑universet – med særligt fokus på de førende AI‑assistenter\, der i dag fungerer som digitale kollegaer i både arbejdsliv og hverdag. \n  \nDu får præsenteret styrker\, forskelle og anvendelsesmuligheder i nogle af markedets mest toneangivende AI‑assistenter: \n\nMicrosoft Copilot – AI’en der integrerer direkte i Office 365 og hjælper med alt fra mails\, dokumenter og analyser til planlægning og præsentationer.\nGoogle Gemini – Googles multimodale AI\, der kombinerer tekst\, billeder og søgning for hurtig idéudvikling\, visuelt indhold og smart informationssøgning.\nOpenAI ChatGPT – kendt for sin kreative idépower\, tekstgenerering\, samtaleflow og evne til at bygge prototyper og koncepter hurtigt.\nAnthropic Claude – en AI med stor præcision\, god faktuel forståelse og stærke muligheder til research\, komplekse dokumenter og analyse.\nSpecialiserede værktøjer som Perplexity\, Midjourney\, DALL·E og Runway – perfekte til billeder\, video\, kreativt arbejde og visuel kommunikation.\n\n  \nDenne dag kan du virkelig forvente at blive taget med rundt på de forskellige platforme og blive inspireret af\, hvad de forskellige AI værktøjer kan. \n  \nDenne dag er for alle\, der vil have overblik over det hurtigt voksende AI‑landskab og lære at bruge digitale assistenter effektivt i deres egen hverdag – uanset niveau.
URL:https://mer.dk/event/ai-inspirationsdag-med-jens-elung-jensen/
LOCATION:Morsø Erhvervsråd\, Holgersgade 1\, Nykøbing M\, 7900\, Danmark
CATEGORIES:Værktøjskursus
ATTACH;FMTTYPE=image/png:https://mer.dk/wp-content/uploads/2026/02/AI-events.png
ORGANIZER;CN="Mors%C3%B8 Erhvervsr%C3%A5d":MAILTO:post@mer.dk
END:VEVENT
BEGIN:VEVENT
DTSTART;TZID=Europe/Copenhagen:20260305T153000
DTEND;TZID=Europe/Copenhagen:20260305T163000
DTSTAMP:20260421T052735
CREATED:20251126T125222Z
LAST-MODIFIED:20260115T075430Z
UID:10000299-1772724600-1772728200@mer.dk
SUMMARY:House Tour i BusinessPark Mors
DESCRIPTION:Kom med på rundvisning i den nye BusinessPark Mors\, som den 1. januar 2026 åbner dørene for de første lejere. \n  \nVil du have et kig indenfor og måske en snak om muligheden for et kontor eller måske blot en flyverplads\, så kom med på House Tour.
URL:https://mer.dk/event/house-tour-i-businesspark-mors/
LOCATION:BusinessPark Mors\, Elsøvej 105\, Nykøbing Mors\, 7900\, Denmark
CATEGORIES:Arrangementer
ATTACH;FMTTYPE=image/png:https://mer.dk/wp-content/uploads/2025/11/BPM-rundvisning.png
ORGANIZER;CN="Mors%C3%B8 Erhvervsr%C3%A5d":MAILTO:post@mer.dk
END:VEVENT
END:VCALENDAR