BEGIN:VCALENDAR
VERSION:2.0
PRODID:-//Morsø Erhvervsråd - ECPv6.15.14//NONSGML v1.0//EN
CALSCALE:GREGORIAN
METHOD:PUBLISH
X-WR-CALNAME:Morsø Erhvervsråd
X-ORIGINAL-URL:https://mer.dk
X-WR-CALDESC:Begivenheder for Morsø Erhvervsråd
REFRESH-INTERVAL;VALUE=DURATION:PT1H
X-Robots-Tag:noindex
X-PUBLISHED-TTL:PT1H
BEGIN:VTIMEZONE
TZID:Europe/Copenhagen
BEGIN:DAYLIGHT
TZOFFSETFROM:+0100
TZOFFSETTO:+0200
TZNAME:CEST
DTSTART:20250330T010000
END:DAYLIGHT
BEGIN:STANDARD
TZOFFSETFROM:+0200
TZOFFSETTO:+0100
TZNAME:CET
DTSTART:20251026T010000
END:STANDARD
BEGIN:DAYLIGHT
TZOFFSETFROM:+0100
TZOFFSETTO:+0200
TZNAME:CEST
DTSTART:20260329T010000
END:DAYLIGHT
BEGIN:STANDARD
TZOFFSETFROM:+0200
TZOFFSETTO:+0100
TZNAME:CET
DTSTART:20261025T010000
END:STANDARD
BEGIN:DAYLIGHT
TZOFFSETFROM:+0100
TZOFFSETTO:+0200
TZNAME:CEST
DTSTART:20270328T010000
END:DAYLIGHT
BEGIN:STANDARD
TZOFFSETFROM:+0200
TZOFFSETTO:+0100
TZNAME:CET
DTSTART:20271031T010000
END:STANDARD
END:VTIMEZONE
BEGIN:VEVENT
DTSTART;TZID=Europe/Copenhagen:20260518T160000
DTEND;TZID=Europe/Copenhagen:20260518T180000
DTSTAMP:20260420T233203
CREATED:20260113T121334Z
LAST-MODIFIED:20260113T121334Z
UID:10000306-1779120000-1779127200@mer.dk
SUMMARY:Iværksættercafé
DESCRIPTION:Iværksættercaféen er et gratis tilbud til alle iværksættere og før-startere fra Morsø Kommune \nKom og netværk med andre unge iværksættere og nystartede virksomheder – og få input\, der kan tage din idé til næste niveau! \nDet får du ved at deltage: \n\nInspiration og viden\nUdvid dit netværk\nFå en dialog med erhvervsrådets konsulenter\nStille spørgsmål til en rådgiver\nMøder andre iværksættere på Mors\nFortælle andre om din ide\nFå feedback med det samme\nUdvikle din forretningside\n\n  \nProgram:   \n16.00 – Caféen åbner \nFå hjælp til aktuelle emner\, du går og tænker på lige nu. \nVi tager en dialog rundt om bordet for at høre om din ide eller din virksomhed. \n  \n16.30 – Mød en iværksætter – :          \nKlara Madsen driver ”Stalden 101% APS” – en cafe / bar i Klitmøller \n\n”Min oplevelse som arbejdsgiver”\nHvad er vigtig for mig i forhold til at skabe en god arbejdsplads\nHvordan agerer jeg som chef som 24 årig\nHvordan rekrutter jeg\n\n\n17.00 – Dagens tema – Ansæt din første medarbejder \nEr du klar til at tage det næste skridt i din virksomhed? At ansætte din første medarbejder er en milepæl – men også en beslutning\, der kræver viden og overblik. Denne gratis iværksættercafé giver dig indsigt i\, hvad du skal overveje\, hvordan du kommer i gang\, og hvilke faldgruber du skal undgå. \nCecilie Tøfting driver ”Æ byró” – et rekrutteringsfirma i Vorupør \n\n”Ansæt din første medarbejder.”\nHvordan rekrutterer jeg?\n\n\n\nSynliggørelse\nSamtalen\nDe juridiske elementer\nHvordan bliver jeg en god chef?\n\n\n\n\nA Byró\n\n  \n18.00 – Caféen lukker \n  \nTilmelding \nDeltagelse er gratis\, men tilmelding er nødvendig nedenfor. \nHvis du har spørgsmål\, er du velkommen til at kontakte Lars Fjordbak Gehlert på lfg@mer.dk eller Jens Vinther Christensen på jvc@mer.dk
URL:https://mer.dk/event/ivaerksaettercafe-15/
LOCATION:Morsø Erhvervsråd\, Holgersgade 1\, Nykøbing M\, 7900\, Danmark
CATEGORIES:Netværk
ATTACH;FMTTYPE=image/jpeg:https://mer.dk/wp-content/uploads/2022/11/Ivaerksaettercafeen-e1675932540651.jpg
ORGANIZER;CN="Mors%C3%B8 Erhvervsr%C3%A5d":MAILTO:post@mer.dk
END:VEVENT
BEGIN:VEVENT
DTSTART;TZID=Europe/Copenhagen:20260520T090000
DTEND;TZID=Europe/Copenhagen:20260521T150000
DTSTAMP:20260420T233203
CREATED:20251126T115757Z
LAST-MODIFIED:20260121T101349Z
UID:10000296-1779267600-1779375600@mer.dk
SUMMARY:Lær at SEO optimere din hjemmeside
DESCRIPTION:Vi har indgået et samarbejde med Maibritt Rittermann fra RITTERMANN\, som kommer her i huset og laver 5 forskellige kurser – alle relateret til din hjemmeside. Kurserne udbydes til en yderst favorabel pris og booker du min. 3 af hendes kurser på én gang\, så får du yderligere 10% rabat oveni. \n  \nFå din WordPress side til at rykke op i søgeresultaterne med dette SEO kursus\nPraktisk \nKurset kører over 2 dage – begge kl. 9-15 inkl. forplejning. Kurset afholdes hos Morsø Erhvervsråd\, Holgersgade 1\, Nykøbing Mors. Prisen er 3.600 kr. ex. moms. \nBeskrivelse \nHar du allerede en hjemmeside – fx i WordPress\, Wix\, Shopify eller et andet CMS – men oplever\, at den ikke dukker op i søgeresultaterne? Så er dette SEO kursus i praktisk Søgemaskine optimerings lige noget for dig! \nMangler du en hjemmeside kan du lære at lave en på kurset – Lav din egen hjemmeside med WordPress. \nHvad er SEO – og hvorfor er det vigtigt? \nSøgemaskineoptimering (SEO) handler om at gøre din hjemmeside synlig på Google\, Bing og øvrige søgemaskiner\, så dine kunder kan finde dig\, når de søger efter dine produkter eller ydelser. Uden søgemaskine optimering risikerer du at være usynlig – selv om du har en flot og\nfunktionel hjemmeside. Google har udgivet retningslinjer for hvad god SEO er og hvad der skal til for at de vil rangere sider i deres søgeresultater. Det er blandt andet disse retningslinjer vi tager udgangspunkt i på kurset.\nPå dette kursus lærer du\, hvordan du optimerer din hjemmeside\, så den får bedre placeringer i Google og andre søgemaskiner – uanset hvilket CMS du bruger\, men vi tager på kurset udgangspunkt i WordPress som eksempel. \nPå SEO kurset gennemgår vi blandt andet følgende: \n Hvordan søgemaskiner som Google fungerer\n Hvordan du identificerer de rigtige søgeord for din målgruppe\n Hvordan du optimerer dit indhold til både brugere og søgemaskiner\n Forslag til SEO fremmende plugins til WordPress – Andre CMS har i mange tilfælde tilsvarende plugins\n Introduktion til hjælpsomme værktøjer som Google Search Console\n Hvordan du måler og forbedrer din synlighed over tid \nKurset er hands-on og kræver ikke teknisk baggrund – du får konkrete værktøjer og metoder\, du kan bruge med det samme. \nDette SEO kursus er for dig\, der: \n Er soloselvstændig\, iværksætter\, webansvarlig i en forening eller driver en webshop mv.\n Har en hjemmeside\, men mangler synlighed på Google\n Vil lære SEO fra bunden – uden for meget teknisk jargon\n Ønsker at tiltrække flere kunder online \nEfter kurset kan du: \n Forstå og anvende søgeordsstrategi\n Optimere din hjemmeside\, så den rangerer højere i søgeresultaterne\n Bruge gratis og effektive søgemaskine optimerings-værktøjer\n Skabe indhold\, der både engagerer og konverterer \n 
URL:https://mer.dk/event/laer-at-seo-optimere-din-hjemmeside/
LOCATION:Morsø Erhvervsråd\, Holgersgade 1\, Nykøbing M\, 7900\, Danmark
CATEGORIES:Værktøjskursus
ATTACH;FMTTYPE=image/png:https://mer.dk/wp-content/uploads/2025/11/Rittermann-kursus-pakke.png
ORGANIZER;CN="Mors%C3%B8 Erhvervsr%C3%A5d":MAILTO:post@mer.dk
END:VEVENT
BEGIN:VEVENT
DTSTART;TZID=Europe/Copenhagen:20260520T160000
DTEND;TZID=Europe/Copenhagen:20260520T180000
DTSTAMP:20260420T233203
CREATED:20251125T101704Z
LAST-MODIFIED:20251125T101704Z
UID:10000291-1779292800-1779300000@mer.dk
SUMMARY:Netværksmøde for soloselvstændige og nystartede virksomheder
DESCRIPTION:Dagens tema: GDPR-regler \n  \nMorsø Erhvervsråd har etableret et erhvervsnetværk for soloselvstændige og nystartede virksomheder\, som har til formål at skabe et fællesskab\, hvor medlemmerne af netværket kan mødes regelmæssigt for at drøfte udfordringer\, udveksle erfaringer og hente inspiration fra hinanden. \n  \nBaggrund \nSoloselvstændige og ejere af nystartede virksomheder har det til fælles\, at man er den eneste\, der arbejder i virksomheden. Man er selvstændig eller iværksætter uden at have nogle ansatte. Det vil sige\, at man står alene med alt lige fra salg\, marketing\, jura\, regnskab\, og hvad det ellers indebærer at drive virksomhed. Den fælles udfordring er\, at man ofte mangler ligesindede at sparre med. \n  \nOm netværket \nVi mødes fire gange om året. Møderne afholder vi i tidsrummet kl. 16.00 – 18.00. Netværket består af virksomheder fra forskellige brancher. \nMorsø Erhvervsråd står for det praktiske omkring indkaldelse og gennemførelsen af møderne. \nDet er gratis at deltage i netværket. Det er blot en forudsætning\, at man er medlem hos Morsø Erhvervsråd. Er du interesseret i at deltage i netværket\, så send en mail til Jens: jvc@mer.dk eller giv ham et kald på: 21 47 88 80.
URL:https://mer.dk/event/netvaerksmoede-for-soloselvstaendige-og-nystartede-virksomheder-2/
LOCATION:Morsø Erhvervsråd\, Holgersgade 1\, Nykøbing M\, 7900\, Danmark
CATEGORIES:Netværk
ATTACH;FMTTYPE=image/png:https://mer.dk/wp-content/uploads/2024/08/Netvaerk-for-soloselvstaendige.png
ORGANIZER;CN="Mors%C3%B8 Erhvervsr%C3%A5d":MAILTO:post@mer.dk
END:VEVENT
BEGIN:VEVENT
DTSTART;TZID=Europe/Copenhagen:20260520T170000
DTEND;TZID=Europe/Copenhagen:20260520T210000
DTSTAMP:20260420T233203
CREATED:20251118T095020Z
LAST-MODIFIED:20251118T095020Z
UID:10000279-1779296400-1779310800@mer.dk
SUMMARY:Netværksmøde i ejerledernetværket
DESCRIPTION:Morsø Erhvervsråd inviterer til møde i ejerledernetværket. \n  \nNetværket optager løbende nye medlemmer. Ved interesse kontakt Jens Vinther Christensen på jvc@mer.dk
URL:https://mer.dk/event/netvaerksmoede-i-ejerledernetvaerket-13/
LOCATION:Morsø Erhvervsråd\, Holgersgade 1\, Nykøbing M\, 7900\, Danmark
CATEGORIES:Netværk
ATTACH;FMTTYPE=image/png:https://mer.dk/wp-content/uploads/2023/03/Netvaerk.png
ORGANIZER;CN="Mors%C3%B8 Erhvervsr%C3%A5d":MAILTO:post@mer.dk
END:VEVENT
END:VCALENDAR