BEGIN:VCALENDAR
VERSION:2.0
PRODID:-//Morsø Erhvervsråd - ECPv6.15.14//NONSGML v1.0//EN
CALSCALE:GREGORIAN
METHOD:PUBLISH
X-WR-CALNAME:Morsø Erhvervsråd
X-ORIGINAL-URL:https://mer.dk
X-WR-CALDESC:Begivenheder for Morsø Erhvervsråd
REFRESH-INTERVAL;VALUE=DURATION:PT1H
X-Robots-Tag:noindex
X-PUBLISHED-TTL:PT1H
BEGIN:VTIMEZONE
TZID:Europe/Copenhagen
BEGIN:DAYLIGHT
TZOFFSETFROM:+0100
TZOFFSETTO:+0200
TZNAME:CEST
DTSTART:20250330T010000
END:DAYLIGHT
BEGIN:STANDARD
TZOFFSETFROM:+0200
TZOFFSETTO:+0100
TZNAME:CET
DTSTART:20251026T010000
END:STANDARD
BEGIN:DAYLIGHT
TZOFFSETFROM:+0100
TZOFFSETTO:+0200
TZNAME:CEST
DTSTART:20260329T010000
END:DAYLIGHT
BEGIN:STANDARD
TZOFFSETFROM:+0200
TZOFFSETTO:+0100
TZNAME:CET
DTSTART:20261025T010000
END:STANDARD
BEGIN:DAYLIGHT
TZOFFSETFROM:+0100
TZOFFSETTO:+0200
TZNAME:CEST
DTSTART:20270328T010000
END:DAYLIGHT
BEGIN:STANDARD
TZOFFSETFROM:+0200
TZOFFSETTO:+0100
TZNAME:CET
DTSTART:20271031T010000
END:STANDARD
END:VTIMEZONE
BEGIN:VEVENT
DTSTART;TZID=Europe/Copenhagen:20260825T120000
DTEND;TZID=Europe/Copenhagen:20260825T150000
DTSTAMP:20260421T044954
CREATED:20260119T102012Z
LAST-MODIFIED:20260119T102050Z
UID:10000318-1787659200-1787670000@mer.dk
SUMMARY:Netværksmøde i Lærlinge - og elevnetværket
DESCRIPTION:Virksomhedsbesøg hos Haaning\nVi starter med en hyggelig frokost hos Haaning\, inden vi får en rundvisning og en præsentation af virksomheden som arbejds- og læreplads. Haaning A/S har specialiseret sig i skræddersyede løsninger hvor de arbejder i træ\, finér\, laminat\, komposit\, alu/stål og glas. Alt foregår på fabrikken i Vils. \nKom og oplev\, hvad der gør Haaning til en unik virksomhed og attraktiv læreplads! \nNetværket er for alle elever og lærlinge på Mors\, hvis du også ønsker at være med eller har en elev eller lærling til netværket\, så kontakt Lars Fjordbak Gehlert: lfg@mer.dk eller tlf. 3020 1105
URL:https://mer.dk/event/9560/
LOCATION:Haaning\, Næssundvej 213\, Vils\, 7980\, Danmark
CATEGORIES:Netværk
ATTACH;FMTTYPE=image/png:https://mer.dk/wp-content/uploads/2025/03/Laerlinge-og-elevnetvaerket.png
ORGANIZER;CN="Mors%C3%B8 Erhvervsr%C3%A5d":MAILTO:post@mer.dk
END:VEVENT
END:VCALENDAR