BEGIN:VCALENDAR
VERSION:2.0
PRODID:-//Morsø Erhvervsråd - ECPv6.15.14//NONSGML v1.0//EN
CALSCALE:GREGORIAN
METHOD:PUBLISH
X-WR-CALNAME:Morsø Erhvervsråd
X-ORIGINAL-URL:https://mer.dk
X-WR-CALDESC:Begivenheder for Morsø Erhvervsråd
REFRESH-INTERVAL;VALUE=DURATION:PT1H
X-Robots-Tag:noindex
X-PUBLISHED-TTL:PT1H
BEGIN:VTIMEZONE
TZID:Europe/Copenhagen
BEGIN:DAYLIGHT
TZOFFSETFROM:+0100
TZOFFSETTO:+0200
TZNAME:CEST
DTSTART:20250330T010000
END:DAYLIGHT
BEGIN:STANDARD
TZOFFSETFROM:+0200
TZOFFSETTO:+0100
TZNAME:CET
DTSTART:20251026T010000
END:STANDARD
BEGIN:DAYLIGHT
TZOFFSETFROM:+0100
TZOFFSETTO:+0200
TZNAME:CEST
DTSTART:20260329T010000
END:DAYLIGHT
BEGIN:STANDARD
TZOFFSETFROM:+0200
TZOFFSETTO:+0100
TZNAME:CET
DTSTART:20261025T010000
END:STANDARD
BEGIN:DAYLIGHT
TZOFFSETFROM:+0100
TZOFFSETTO:+0200
TZNAME:CEST
DTSTART:20270328T010000
END:DAYLIGHT
BEGIN:STANDARD
TZOFFSETFROM:+0200
TZOFFSETTO:+0100
TZNAME:CET
DTSTART:20271031T010000
END:STANDARD
END:VTIMEZONE
BEGIN:VEVENT
DTSTART;TZID=Europe/Copenhagen:20260923T120000
DTEND;TZID=Europe/Copenhagen:20260923T160000
DTSTAMP:20260420T233420
CREATED:20251119T100631Z
LAST-MODIFIED:20251119T100631Z
UID:10000285-1790164800-1790179200@mer.dk
SUMMARY:Netværksmøde i klimanetværket
DESCRIPTION:Morsø Erhvervsråds Klimanetværk er udsprunget af vores “Bliv Klima-Parat” forløb på 5 moduler\, som kørte fra september til november 2023\, hvor ca. 20 lokale virksomheder var repræsenteret. \nDanske virksomheder skal bidrage til at realisere målet om at reducere CO2 aftrykket med 70% inden 2030 og konkret indeholder Morsø Kommunes klimahandlingsplan en vision om en klimaneutral industri- og erhverv på Mors i 2030. \nMorsø Erhvervsråds Klimanetværk har til formål at samle virksomheder\, organisationer og interessenter på Mors med henblik på at inspirere og fremme bæredygtige løsninger og grøn omstilling i erhvervslivet – og dermed reducere klimaaftrykket. \n  \nPROGRAM FOR DETTE NETVÆRKSMØDE: \nFølger… \n  \nDeltagelse i Morsø Erhvervsråds Klimanetværk koster 5.000\,- ekskl. moms årligt for op til 2 personer fra samme virksomhed.\nDet er en forudsætning\, at du er medlem af Morsø Erhvervsråd for at deltage i Klimanetværket. Ved interesse\, kontakt Erik Wind: ew@mer.dk eller Susanne Toftegaard Hansen: sth@mer.dk
URL:https://mer.dk/event/netvaerksmoede-i-klimanetvaerket-11/
LOCATION:Morsø Erhvervsråd\, Holgersgade 1\, Nykøbing M\, 7900\, Danmark
CATEGORIES:Netværk
ATTACH;FMTTYPE=image/png:https://mer.dk/wp-content/uploads/2025/06/Klimanetvaerk2.png
END:VEVENT
BEGIN:VEVENT
DTSTART;TZID=Europe/Copenhagen:20260924T080000
DTEND;TZID=Europe/Copenhagen:20260924T100000
DTSTAMP:20260420T233420
CREATED:20260323T072749Z
LAST-MODIFIED:20260323T072749Z
UID:10000334-1790236800-1790244000@mer.dk
SUMMARY:VirksomhedsVandring med Morsø Erhvervsråd hos Vinhuset ApS
DESCRIPTION:Kom med på VirksomhedsVandring med Morsø Erhvervsråd. Et nyt koncept vi søsatte i 2024\, som skal understøtte vores strategi og fokus på Morsø Erhvervsråd som et stærkt erhvervsfællesskab på Mors. Kært barn har mange navne\, så hvis du kender åbent hus\, business breakfast\, morgenbriefing eller lignende\, så taler vi ca. samme sprog. \n  \nVi vil gerne være med til at vise vores medlemsvirksomheder frem som en form for ”markvandring” eller åbent hus\, hvor vi øger kendskabet til øens virksomheder\, får en kop kaffe\, en rundvisning\, et indblik i virksomheden og en god snak med hinanden i “marken”. \n  \nDenne gang besøger vi Vinhuset ApS i Nykøbing Mors\, hvor vi vil få en rundvisning samt en fortælling om virksomheden. \n  \nOm Vinhuset ApS: \n\nVinhuset ApS er en veletableret og kvalitetsdrevet lokal virksomhed\, der har specialiseret sig i import og salg af vin\, spiritus og specialiteter. Gennem et stærkt sortiment\, faglig ekspertise og fokus på høj service har Vinhuset udviklet sig til en central aktør i både detail- og erhvervsmarkedet på Mors. \n\nVirksomheden arbejder målrettet med at udvælge produkter\, der bygger på håndværk\, autenticitet og langvarige leverandørrelationer. Samtidig formår Vinhuset at kombinere faglighed med nærhed til kunderne\, hvilket har gjort dem til et foretrukket valg blandt både private\, restauranter og virksomheder. \n  \n\n\nSidst men ikke mindst har Vinhuset ApS i år modtaget “Den Gyldne Musling”\, som er Morsø Erhvervsråds iværksætterpris. Så snør vandrestøvlerne og tag med Morsø Erhvervsråd på VirksomhedsVandring hos Vinhuset ApS. Vi glæder os.
URL:https://mer.dk/event/virksomhedsvandring-med-morsoe-erhvervsraad-hos-vinhuset-aps/
LOCATION:Vinhuset ApS\, Industrivej 24\, Nykøbing Mors\, 7900\, Danmark
CATEGORIES:Arrangementer,Medlemsfordel,Netværk
ATTACH;FMTTYPE=image/png:https://mer.dk/wp-content/uploads/2024/10/Business-Breakfast.png
ORGANIZER;CN="Mors%C3%B8 Erhvervsr%C3%A5d":MAILTO:post@mer.dk
END:VEVENT
END:VCALENDAR