BEGIN:VCALENDAR
VERSION:2.0
PRODID:-//Morsø Erhvervsråd - ECPv6.15.14//NONSGML v1.0//EN
CALSCALE:GREGORIAN
METHOD:PUBLISH
X-ORIGINAL-URL:https://mer.dk
X-WR-CALDESC:Begivenheder for Morsø Erhvervsråd
REFRESH-INTERVAL;VALUE=DURATION:PT1H
X-Robots-Tag:noindex
X-PUBLISHED-TTL:PT1H
BEGIN:VTIMEZONE
TZID:Europe/Copenhagen
BEGIN:DAYLIGHT
TZOFFSETFROM:+0100
TZOFFSETTO:+0200
TZNAME:CEST
DTSTART:20250330T010000
END:DAYLIGHT
BEGIN:STANDARD
TZOFFSETFROM:+0200
TZOFFSETTO:+0100
TZNAME:CET
DTSTART:20251026T010000
END:STANDARD
BEGIN:DAYLIGHT
TZOFFSETFROM:+0100
TZOFFSETTO:+0200
TZNAME:CEST
DTSTART:20260329T010000
END:DAYLIGHT
BEGIN:STANDARD
TZOFFSETFROM:+0200
TZOFFSETTO:+0100
TZNAME:CET
DTSTART:20261025T010000
END:STANDARD
BEGIN:DAYLIGHT
TZOFFSETFROM:+0100
TZOFFSETTO:+0200
TZNAME:CEST
DTSTART:20270328T010000
END:DAYLIGHT
BEGIN:STANDARD
TZOFFSETFROM:+0200
TZOFFSETTO:+0100
TZNAME:CET
DTSTART:20271031T010000
END:STANDARD
END:VTIMEZONE
BEGIN:VEVENT
DTSTART;TZID=Europe/Copenhagen:20261005T080000
DTEND;TZID=Europe/Copenhagen:20261005T100000
DTSTAMP:20260421T082627
CREATED:20260119T092904Z
LAST-MODIFIED:20260119T092904Z
UID:10000313-1791187200-1791194400@mer.dk
SUMMARY:Netværksmøde i Markedsføringsnetværket
DESCRIPTION:Morsø Erhvervsråd inviterer til møde i markedsføringsnetværket. \n  \nNetværket er åbent for flere medlemmer. Ved interesse kontakt venligst Lea Frederikke Mommer på lfm@mer.dk \n  \nFormålet er at få skabt et fortroligt netværk\, hvor medlemmerne kan vende og dele faglige udfordringer/problemstillinger i et tillidsfuldt rum. Som medlem forventes det\, at man er villig til at dele sine erfaringer\, udfordringer\, tips og tricks med hinanden.
URL:https://mer.dk/event/netvaerksmoede-i-markedsfoeringsnetvaerket-5/
LOCATION:Morsø Erhvervsråd\, Holgersgade 1\, Nykøbing M\, 7900\, Danmark
CATEGORIES:Netværk
ATTACH;FMTTYPE=image/png:https://mer.dk/wp-content/uploads/2023/10/Markedsfoeringsnetvaerket.png
ORGANIZER;CN="Mors%C3%B8 Erhvervsr%C3%A5d":MAILTO:post@mer.dk
END:VEVENT
BEGIN:VEVENT
DTSTART;TZID=Europe/Copenhagen:20261007T090000
DTEND;TZID=Europe/Copenhagen:20261007T110000
DTSTAMP:20260421T082627
CREATED:20260204T124817Z
LAST-MODIFIED:20260204T124817Z
UID:10000329-1791363600-1791370800@mer.dk
SUMMARY:AI i din webshop med Jens Elung Jensen
DESCRIPTION:Få inspiration til hvordan du anvender AI i din markedsføring og i din Webshop. \n  \nVil du gerne blive endnu bedre til at nå ud til dine kunder med din markedsføring\, så er der god inspiration at hente på dette spændende event\, hvor vi vil fokusere på hvordan du kan bruge kunstig intelligens til at hjælpe dig med mange af opgaverne. \nHar du allerede en webshop\, eller går du med tanker om at åbne en webshop\, så kommer vi også med gode eksempler på\, hvordan AI allerede i dag bliver brugt som en integreret del af løsningen. \n  \nSergio Kuraitis fra VildForm vil fortælle om sine erfaringer med at sælge sine produkter i sin webshop. Sergio har bl.a. solgt til mange kunder i USA og har også kunder i resten af verden. Du kan læse mere om Sergio og VildForm her: Vildform. \n  \nJens Elung Jensen fra Erhvervshus Nordjylland vil komme ind på hvordan kunstig intelligens er et godt værktøj til at få gang i din markedsføring. Vi kigger også på hvordan bl.a. Shopify i dag er langt fremme med at bruge AI i deres webshopløsning. \n  \n 
URL:https://mer.dk/event/ai-i-din-webshop-med-jens-elung-jensen/
LOCATION:Morsø Erhvervsråd\, Holgersgade 1\, Nykøbing M\, 7900\, Danmark
CATEGORIES:Værktøjskursus
ATTACH;FMTTYPE=image/png:https://mer.dk/wp-content/uploads/2026/02/AI-events.png
ORGANIZER;CN="Mors%C3%B8 Erhvervsr%C3%A5d":MAILTO:post@mer.dk
END:VEVENT
END:VCALENDAR