BEGIN:VCALENDAR
VERSION:2.0
PRODID:-//Morsø Erhvervsråd - ECPv6.15.14//NONSGML v1.0//EN
CALSCALE:GREGORIAN
METHOD:PUBLISH
X-WR-CALNAME:Morsø Erhvervsråd
X-ORIGINAL-URL:https://mer.dk
X-WR-CALDESC:Begivenheder for Morsø Erhvervsråd
REFRESH-INTERVAL;VALUE=DURATION:PT1H
X-Robots-Tag:noindex
X-PUBLISHED-TTL:PT1H
BEGIN:VTIMEZONE
TZID:Europe/Copenhagen
BEGIN:DAYLIGHT
TZOFFSETFROM:+0100
TZOFFSETTO:+0200
TZNAME:CEST
DTSTART:20220327T010000
END:DAYLIGHT
BEGIN:STANDARD
TZOFFSETFROM:+0200
TZOFFSETTO:+0100
TZNAME:CET
DTSTART:20221030T010000
END:STANDARD
BEGIN:DAYLIGHT
TZOFFSETFROM:+0100
TZOFFSETTO:+0200
TZNAME:CEST
DTSTART:20230326T010000
END:DAYLIGHT
BEGIN:STANDARD
TZOFFSETFROM:+0200
TZOFFSETTO:+0100
TZNAME:CET
DTSTART:20231029T010000
END:STANDARD
BEGIN:DAYLIGHT
TZOFFSETFROM:+0100
TZOFFSETTO:+0200
TZNAME:CEST
DTSTART:20240331T010000
END:DAYLIGHT
BEGIN:STANDARD
TZOFFSETFROM:+0200
TZOFFSETTO:+0100
TZNAME:CET
DTSTART:20241027T010000
END:STANDARD
BEGIN:DAYLIGHT
TZOFFSETFROM:+0100
TZOFFSETTO:+0200
TZNAME:CEST
DTSTART:20250330T010000
END:DAYLIGHT
BEGIN:STANDARD
TZOFFSETFROM:+0200
TZOFFSETTO:+0100
TZNAME:CET
DTSTART:20251026T010000
END:STANDARD
BEGIN:DAYLIGHT
TZOFFSETFROM:+0100
TZOFFSETTO:+0200
TZNAME:CEST
DTSTART:20260329T010000
END:DAYLIGHT
BEGIN:STANDARD
TZOFFSETFROM:+0200
TZOFFSETTO:+0100
TZNAME:CET
DTSTART:20261025T010000
END:STANDARD
END:VTIMEZONE
BEGIN:VEVENT
DTSTART;TZID=Europe/Copenhagen:20250311T090000
DTEND;TZID=Europe/Copenhagen:20250311T150000
DTSTAMP:20260422T070714
CREATED:20241029T090802Z
LAST-MODIFIED:20241029T090802Z
UID:10000186-1741683600-1741705200@mer.dk
SUMMARY:Karrieredagene i Aalborg 2025
DESCRIPTION:Her møder erhvervslivet de studerende og nyligt dimitterende. \n  \nKarriere Dagen i Aalborg er et af de store rekruttering- og employé branding events\, hvor nyuddannede og studerende fra de videregående uddannelser mødes med danske virksomheder. \n  \nSom tidligere år er Mors igen repræsenteret med en fællesstand\, hvor lokale virksomheder deltager sammen med kommune\, jobcentret og erhvervsrådet. \nDe deltagende virksomheder kommer for at brande sig\, kommunikere aktuelle job og praktikmuligheder. Kommunens\, jobcentrets og erhvervsrådets opgave er at brande Mors\, som et spændende område for job og bosætning. \n  \nKarrieremessen i Aalborg bliver igen i 2025 afviklet i tæt samarbejde med Aalborg Universitet\, og er en af Danmarks største og bredeste messer inden for karriere. \nHer kommer der både studerende fra MARTEC\, UCN og Aalborg Universitet. Samarbejdet udmønter sig år efter år i høj deltagelse af studerende samt nylige dimittender fra hele Nordjylland. \n  \nLæs mere her: Tag på jobmesse & karrieremesse hos KarriereDagene \nHar du spørgsmål eller ønsker din virksomhed at være med på standen\, så er du velkommen til at kontakt Morsø Erhvervsråd Jens Vinther Christensen på tlf. 2147 8880 eller mail jvc@mer.dk
URL:https://mer.dk/event/karrieredagene-i-aalborg-2025/
LOCATION:Gigantium\, Willy Brandts Vej 31\, Aalborg\, 9220\, Danmark
CATEGORIES:Arrangementer
ATTACH;FMTTYPE=image/png:https://mer.dk/wp-content/uploads/2023/10/Stand1.png
ORGANIZER;CN="Mors%C3%B8 Erhvervsr%C3%A5d":MAILTO:post@mer.dk
END:VEVENT
BEGIN:VEVENT
DTSTART;TZID=Europe/Copenhagen:20240319T090000
DTEND;TZID=Europe/Copenhagen:20240319T150000
DTSTAMP:20260422T070714
CREATED:20231026T071629Z
LAST-MODIFIED:20231026T081100Z
UID:10000114-1710838800-1710860400@mer.dk
SUMMARY:Karrieredagen i Aalborg 2024
DESCRIPTION:Her møder erhvervslivet de studerende og nyligt dimitterende. \n  \nKarriere Dagen i Aalborg er et af de store rekruttering- og employé branding events\, hvor nyuddannede og studerende fra de videregående uddannelser mødes med danske virksomheder. \n  \nSom tidligere år er Mors igen repræsenteret med en fællesstand\, hvor lokale virksomheder deltager sammen med kommune\, jobcentret og erhvervsrådet. \nDe deltagende virksomheder kommer for at brande sig\, kommunikere aktuelle job og praktikmuligheder. Kommunens\, jobcentrets og erhvervsrådets opgave er at brande Mors\, som et spændende område for job og bosætning. \n  \nKarrieremessen i Aalborg bliver igen i 2024 afviklet i tæt samarbejde med Aalborg Universitet\, og er en af Danmarks største og bredeste messer inden for karriere. \nHer kommer der både studerende fra MARTEC\, UCN og Aalborg Universitet. Samarbejdet udmønter sig år efter år i høj deltagelse af studerende samt nylige dimittender fra hele Nordjylland. \n  \nLæs mere her: Tag på jobmesse & karrieremesse hos KarriereDagene \nHar du spørgsmål er velkommen til at kontakt Morsø Erhvervsråd Flemming M. Sørensen på tlf. 7196 3828 eller mail fms@mer.dk
URL:https://mer.dk/event/karrieredagen-i-aalborg-2024/
LOCATION:Gigantium\, Willy Brandts Vej 31\, Aalborg\, 9220\, Danmark
CATEGORIES:Arrangementer
ATTACH;FMTTYPE=image/png:https://mer.dk/wp-content/uploads/2023/10/Stand1.png
ORGANIZER;CN="Mors%C3%B8 Erhvervsr%C3%A5d":MAILTO:post@mer.dk
END:VEVENT
BEGIN:VEVENT
DTSTART;TZID=Europe/Copenhagen:20230322T100000
DTEND;TZID=Europe/Copenhagen:20230322T160000
DTSTAMP:20260422T070714
CREATED:20230130T165527Z
LAST-MODIFIED:20230208T203358Z
UID:10000052-1679479200-1679500800@mer.dk
SUMMARY:Bliv udstiller på Karrieredagen i Aalborg
DESCRIPTION:Som tidligere år tilbyder Morsø Erhvervsråd igen 5 lokale virksomheder at deltage på vores fællesstand og dermed muligheden for at profilere sig på messen. De deltagende virksomheder har mulighed for at brande sig\, kommunikere aktuelle job\, praktikmuligheder m.v. Og Morsø Kommune og Morsø Erhvervsråds opgave er at brande Mors\, som et spændende område for job og bosætning. \nKarriere Dagen i Aalborg er et af de store rekruttering- og employé branding events\, hvor nyuddannede og studerende fra de videregående uddannelser mødes med danske og internationale virksomheder. Her får du et indblik i kandidaternes faglighed og du bliver klogere på\, hvordan de kan skabe værdi i jeres organisation – er du klar til at møde dem? \nDet får du ud af at deltage: \n\nGensidig inspiration og konkret rekruttering\nBliv klogere på de studerendes faglighed og mød personen bag CV´et\nFå besat jeres studiejob\, praktik- eller fuldtidsstilling\nFå skabt synlighed om jeres virksomhed i universitetsmiljøet i Aalborg\nDu kan møde både praktik-\, bachelor- og kandidatstuderende eller phd. niveau.\n\n  \nTilmelding:\nInteresseret så kontakt Flemming M. Sørensen på tlf.: 7196 3828 eller e-mail: fms@mer.dk \nLæs mere her: www.karrieredagene.dk \n  \nPris:\nInitiativet er et samarbejde mellem Morsø Kommune\, Jobcentret og Morsø Erhvervsråd. Men grundet prisstigninger samt den økonomiske situation generelt\, er vi nødsaget til at opkræve et mindre deltager gebyr\, for at vi kan levere den gode løsning igen i år. \nPris for at deltage: kr. 4.900\, – ekskl. Moms pr. virksomhed
URL:https://mer.dk/event/bliv-udstiller-paa-karrieredagen-i-aalborg/
LOCATION:Gigantium\, Willy Brandts Vej 31\, Aalborg\, 9220\, Danmark
CATEGORIES:Arrangementer
ATTACH;FMTTYPE=image/jpeg:https://mer.dk/wp-content/uploads/2023/01/Karrieredagen_Morsoe_Erhvervsraad-copy-redig-e1675888428227.jpg
ORGANIZER;CN="Mors%C3%B8 Erhvervsr%C3%A5d":MAILTO:post@mer.dk
END:VEVENT
END:VCALENDAR